BEGIN:VCALENDAR
VERSION:2.0
PRODID:https://www.kufer.de/kuferweb / DE
METHOD:PUBLISH
CALSCALE:GREGORIAN
X-WR-TIMEZONE:Europe/Berlin
BEGIN:VTIMEZONE
TZID:Europe/Berlin
X-LIC-LOCATION:Europe/Berlin
BEGIN:DAYLIGHT
TZOFFSETFROM:+0100
TZOFFSETTO:+0200
TZNAME:CEST
DTSTART:19700329T020000
RRULE:FREQ=YEARLY;INTERVAL=1;BYDAY=-1SU;BYMONTH=3
END:DAYLIGHT
BEGIN:STANDARD
TZOFFSETFROM:+0200
TZOFFSETTO:+0100
TZNAME:CET
DTSTART:19701025T030000
RRULE:FREQ=YEARLY;INTERVAL=1;BYDAY=-1SU;BYMONTH=10
END:STANDARD
END:VTIMEZONE
BEGIN:VEVENT
DTSTAMP:20260421T175726
DTSTART;TZID=Europe/Berlin:20260319T181500
DTEND;TZID=Europe/Berlin:20260319T194500
UID:261-10203-20260319T181500@VHSTÜBINGEN
SUMMARY:Die Welt verstehen?  Eine Welt im Umbruch. Offener After-Work-Gesprächskreis mit Input (261-10203) 
LOCATION:vhs, Schulungsraum 110, Katharinenstraße 18, 72072 Tübingen
END:VEVENT
BEGIN:VEVENT
DTSTAMP:20260421T175726
DTSTART;TZID=Europe/Berlin:20260423T181500
DTEND;TZID=Europe/Berlin:20260423T194500
UID:261-10203-20260423T181500@VHSTÜBINGEN
SUMMARY:Die Welt verstehen?  Eine Welt im Umbruch. Offener After-Work-Gesprächskreis mit Input (261-10203) 
LOCATION:vhs, Schulungsraum 017, Katharinenstraße 18, 72072 Tübingen
END:VEVENT
BEGIN:VEVENT
DTSTAMP:20260421T175726
DTSTART;TZID=Europe/Berlin:20260521T181500
DTEND;TZID=Europe/Berlin:20260521T194500
UID:261-10203-20260521T181500@VHSTÜBINGEN
SUMMARY:Die Welt verstehen?  Eine Welt im Umbruch. Offener After-Work-Gesprächskreis mit Input (261-10203) 
LOCATION:vhs, Schulungsraum 017, Katharinenstraße 18, 72072 Tübingen
END:VEVENT
BEGIN:VEVENT
DTSTAMP:20260421T175726
DTSTART;TZID=Europe/Berlin:20260618T181500
DTEND;TZID=Europe/Berlin:20260618T194500
UID:261-10203-20260618T181500@VHSTÜBINGEN
SUMMARY:Die Welt verstehen?  Eine Welt im Umbruch. Offener After-Work-Gesprächskreis mit Input (261-10203) 
LOCATION:vhs, Schulungsraum 111, Katharinenstraße 18, 72072 Tübingen
END:VEVENT
BEGIN:VEVENT
DTSTAMP:20260421T175726
DTSTART;TZID=Europe/Berlin:20260716T181500
DTEND;TZID=Europe/Berlin:20260716T194500
UID:261-10203-20260716T181500@VHSTÜBINGEN
SUMMARY:Die Welt verstehen?  Eine Welt im Umbruch. Offener After-Work-Gesprächskreis mit Input (261-10203) 
LOCATION:vhs, Schulungsraum 017, Katharinenstraße 18, 72072 Tübingen
END:VEVENT
END:VCALENDAR