BEGIN:VCALENDAR
VERSION:2.0
PRODID:https://www.kufer.de/kuferweb / DE
METHOD:PUBLISH
CALSCALE:GREGORIAN
X-WR-TIMEZONE:Europe/Berlin
BEGIN:VTIMEZONE
TZID:Europe/Berlin
X-LIC-LOCATION:Europe/Berlin
BEGIN:DAYLIGHT
TZOFFSETFROM:+0100
TZOFFSETTO:+0200
TZNAME:CEST
DTSTART:19700329T020000
RRULE:FREQ=YEARLY;INTERVAL=1;BYDAY=-1SU;BYMONTH=3
END:DAYLIGHT
BEGIN:STANDARD
TZOFFSETFROM:+0200
TZOFFSETTO:+0100
TZNAME:CET
DTSTART:19701025T030000
RRULE:FREQ=YEARLY;INTERVAL=1;BYDAY=-1SU;BYMONTH=10
END:STANDARD
END:VTIMEZONE
BEGIN:VEVENT
DTSTAMP:20260421T113810
DTSTART;TZID=Europe/Berlin:20260309T103000
DTEND;TZID=Europe/Berlin:20260309T120000
UID:261-20143-20260309T103000@VHSTÜBINGEN
SUMMARY:Lust auf Literatur (261-20143) 
LOCATION:vhs, Schulungsraum 112, Katharinenstraße 18, 72072 Tübingen
END:VEVENT
BEGIN:VEVENT
DTSTAMP:20260421T113810
DTSTART;TZID=Europe/Berlin:20260413T103000
DTEND;TZID=Europe/Berlin:20260413T120000
UID:261-20143-20260413T103000@VHSTÜBINGEN
SUMMARY:Lust auf Literatur (261-20143) 
LOCATION:vhs, Schulungsraum 112, Katharinenstraße 18, 72072 Tübingen
END:VEVENT
BEGIN:VEVENT
DTSTAMP:20260421T113810
DTSTART;TZID=Europe/Berlin:20260511T103000
DTEND;TZID=Europe/Berlin:20260511T120000
UID:261-20143-20260511T103000@VHSTÜBINGEN
SUMMARY:Lust auf Literatur (261-20143) 
LOCATION:vhs, Schulungsraum 112, Katharinenstraße 18, 72072 Tübingen
END:VEVENT
BEGIN:VEVENT
DTSTAMP:20260421T113810
DTSTART;TZID=Europe/Berlin:20260608T103000
DTEND;TZID=Europe/Berlin:20260608T120000
UID:261-20143-20260608T103000@VHSTÜBINGEN
SUMMARY:Lust auf Literatur (261-20143) 
LOCATION:vhs, Schulungsraum 112, Katharinenstraße 18, 72072 Tübingen
END:VEVENT
BEGIN:VEVENT
DTSTAMP:20260421T113810
DTSTART;TZID=Europe/Berlin:20260706T103000
DTEND;TZID=Europe/Berlin:20260706T120000
UID:261-20143-20260706T103000@VHSTÜBINGEN
SUMMARY:Lust auf Literatur (261-20143) 
LOCATION:vhs, Schulungsraum 112, Katharinenstraße 18, 72072 Tübingen
END:VEVENT
BEGIN:VEVENT
DTSTAMP:20260421T113810
DTSTART;TZID=Europe/Berlin:20260907T103000
DTEND;TZID=Europe/Berlin:20260907T120000
UID:261-20143-20260907T103000@VHSTÜBINGEN
SUMMARY:Lust auf Literatur (261-20143) 
LOCATION:vhs, Schulungsraum 112, Katharinenstraße 18, 72072 Tübingen
END:VEVENT
END:VCALENDAR