BEGIN:VCALENDAR
VERSION:2.0
PRODID:https://www.kufer.de/kuferweb / DE
METHOD:PUBLISH
CALSCALE:GREGORIAN
X-WR-TIMEZONE:Europe/Berlin
BEGIN:VTIMEZONE
TZID:Europe/Berlin
X-LIC-LOCATION:Europe/Berlin
BEGIN:DAYLIGHT
TZOFFSETFROM:+0100
TZOFFSETTO:+0200
TZNAME:CEST
DTSTART:19700329T020000
RRULE:FREQ=YEARLY;INTERVAL=1;BYDAY=-1SU;BYMONTH=3
END:DAYLIGHT
BEGIN:STANDARD
TZOFFSETFROM:+0200
TZOFFSETTO:+0100
TZNAME:CET
DTSTART:19701025T030000
RRULE:FREQ=YEARLY;INTERVAL=1;BYDAY=-1SU;BYMONTH=10
END:STANDARD
END:VTIMEZONE
BEGIN:VEVENT
DTSTAMP:20260421T174721
DTSTART;TZID=Europe/Berlin:20260707T183000
DTEND;TZID=Europe/Berlin:20260707T204500
UID:261-20506-20260707T183000@VHSTÜBINGEN
SUMMARY:Landschaften malen in Acryl Geführter Malkurs (261-20506) 
LOCATION:vhs, Fachraum Malen 306, Katharinenstraße 18, 72072 Tübingen
END:VEVENT
BEGIN:VEVENT
DTSTAMP:20260421T174721
DTSTART;TZID=Europe/Berlin:20260714T183000
DTEND;TZID=Europe/Berlin:20260714T204500
UID:261-20506-20260714T183000@VHSTÜBINGEN
SUMMARY:Landschaften malen in Acryl Geführter Malkurs (261-20506) 
LOCATION:vhs, Fachraum Malen 306, Katharinenstraße 18, 72072 Tübingen
END:VEVENT
BEGIN:VEVENT
DTSTAMP:20260421T174721
DTSTART;TZID=Europe/Berlin:20260721T183000
DTEND;TZID=Europe/Berlin:20260721T204500
UID:261-20506-20260721T183000@VHSTÜBINGEN
SUMMARY:Landschaften malen in Acryl Geführter Malkurs (261-20506) 
LOCATION:vhs, Fachraum Malen 306, Katharinenstraße 18, 72072 Tübingen
END:VEVENT
BEGIN:VEVENT
DTSTAMP:20260421T174721
DTSTART;TZID=Europe/Berlin:20260728T183000
DTEND;TZID=Europe/Berlin:20260728T204500
UID:261-20506-20260728T183000@VHSTÜBINGEN
SUMMARY:Landschaften malen in Acryl Geführter Malkurs (261-20506) 
LOCATION:vhs, Fachraum Malen 306, Katharinenstraße 18, 72072 Tübingen
END:VEVENT
END:VCALENDAR