BEGIN:VCALENDAR
VERSION:2.0
PRODID:https://www.kufer.de/kuferweb / DE
METHOD:PUBLISH
CALSCALE:GREGORIAN
X-WR-TIMEZONE:Europe/Berlin
BEGIN:VTIMEZONE
TZID:Europe/Berlin
X-LIC-LOCATION:Europe/Berlin
BEGIN:DAYLIGHT
TZOFFSETFROM:+0100
TZOFFSETTO:+0200
TZNAME:CEST
DTSTART:19700329T020000
RRULE:FREQ=YEARLY;INTERVAL=1;BYDAY=-1SU;BYMONTH=3
END:DAYLIGHT
BEGIN:STANDARD
TZOFFSETFROM:+0200
TZOFFSETTO:+0100
TZNAME:CET
DTSTART:19701025T030000
RRULE:FREQ=YEARLY;INTERVAL=1;BYDAY=-1SU;BYMONTH=10
END:STANDARD
END:VTIMEZONE
BEGIN:VEVENT
DTSTAMP:20260421T132132
DTSTART;TZID=Europe/Berlin:20260225T094500
DTEND;TZID=Europe/Berlin:20260225T114500
UID:261-20507-20260225T094500@VHSTÜBINGEN
SUMMARY:Acrylmalerei am Vormittag Geführter Malkurs (261-20507) 
LOCATION:vhs, Fachraum Malen 306, Katharinenstraße 18, 72072 Tübingen
END:VEVENT
BEGIN:VEVENT
DTSTAMP:20260421T132132
DTSTART;TZID=Europe/Berlin:20260304T094500
DTEND;TZID=Europe/Berlin:20260304T114500
UID:261-20507-20260304T094500@VHSTÜBINGEN
SUMMARY:Acrylmalerei am Vormittag Geführter Malkurs (261-20507) 
LOCATION:vhs, Fachraum Malen 306, Katharinenstraße 18, 72072 Tübingen
END:VEVENT
BEGIN:VEVENT
DTSTAMP:20260421T132132
DTSTART;TZID=Europe/Berlin:20260311T094500
DTEND;TZID=Europe/Berlin:20260311T114500
UID:261-20507-20260311T094500@VHSTÜBINGEN
SUMMARY:Acrylmalerei am Vormittag Geführter Malkurs (261-20507) 
LOCATION:vhs, Fachraum Malen 306, Katharinenstraße 18, 72072 Tübingen
END:VEVENT
BEGIN:VEVENT
DTSTAMP:20260421T132132
DTSTART;TZID=Europe/Berlin:20260318T094500
DTEND;TZID=Europe/Berlin:20260318T114500
UID:261-20507-20260318T094500@VHSTÜBINGEN
SUMMARY:Acrylmalerei am Vormittag Geführter Malkurs (261-20507) 
LOCATION:vhs, Fachraum Malen 306, Katharinenstraße 18, 72072 Tübingen
END:VEVENT
BEGIN:VEVENT
DTSTAMP:20260421T132132
DTSTART;TZID=Europe/Berlin:20260325T094500
DTEND;TZID=Europe/Berlin:20260325T114500
UID:261-20507-20260325T094500@VHSTÜBINGEN
SUMMARY:Acrylmalerei am Vormittag Geführter Malkurs (261-20507) 
LOCATION:vhs, Fachraum Malen 306, Katharinenstraße 18, 72072 Tübingen
END:VEVENT
END:VCALENDAR