BEGIN:VCALENDAR
VERSION:2.0
PRODID:https://www.kufer.de/kuferweb / DE
METHOD:PUBLISH
CALSCALE:GREGORIAN
X-WR-TIMEZONE:Europe/Berlin
BEGIN:VTIMEZONE
TZID:Europe/Berlin
X-LIC-LOCATION:Europe/Berlin
BEGIN:DAYLIGHT
TZOFFSETFROM:+0100
TZOFFSETTO:+0200
TZNAME:CEST
DTSTART:19700329T020000
RRULE:FREQ=YEARLY;INTERVAL=1;BYDAY=-1SU;BYMONTH=3
END:DAYLIGHT
BEGIN:STANDARD
TZOFFSETFROM:+0200
TZOFFSETTO:+0100
TZNAME:CET
DTSTART:19701025T030000
RRULE:FREQ=YEARLY;INTERVAL=1;BYDAY=-1SU;BYMONTH=10
END:STANDARD
END:VTIMEZONE
BEGIN:VEVENT
DTSTAMP:20260421T210228
DTSTART;TZID=Europe/Berlin:20260701T094500
DTEND;TZID=Europe/Berlin:20260701T114500
UID:261-20510-20260701T094500@VHSTÜBINGEN
SUMMARY:Acrylmalerei am Vormittag Geführter Malkurs (261-20510) 
LOCATION:vhs, Fachraum Malen 306, Katharinenstraße 18, 72072 Tübingen
END:VEVENT
BEGIN:VEVENT
DTSTAMP:20260421T210228
DTSTART;TZID=Europe/Berlin:20260708T094500
DTEND;TZID=Europe/Berlin:20260708T114500
UID:261-20510-20260708T094500@VHSTÜBINGEN
SUMMARY:Acrylmalerei am Vormittag Geführter Malkurs (261-20510) 
LOCATION:vhs, Fachraum Malen 306, Katharinenstraße 18, 72072 Tübingen
END:VEVENT
BEGIN:VEVENT
DTSTAMP:20260421T210228
DTSTART;TZID=Europe/Berlin:20260715T094500
DTEND;TZID=Europe/Berlin:20260715T114500
UID:261-20510-20260715T094500@VHSTÜBINGEN
SUMMARY:Acrylmalerei am Vormittag Geführter Malkurs (261-20510) 
LOCATION:vhs, Fachraum Malen 306, Katharinenstraße 18, 72072 Tübingen
END:VEVENT
BEGIN:VEVENT
DTSTAMP:20260421T210228
DTSTART;TZID=Europe/Berlin:20260722T094500
DTEND;TZID=Europe/Berlin:20260722T114500
UID:261-20510-20260722T094500@VHSTÜBINGEN
SUMMARY:Acrylmalerei am Vormittag Geführter Malkurs (261-20510) 
LOCATION:vhs, Fachraum Malen 306, Katharinenstraße 18, 72072 Tübingen
END:VEVENT
BEGIN:VEVENT
DTSTAMP:20260421T210228
DTSTART;TZID=Europe/Berlin:20260729T094500
DTEND;TZID=Europe/Berlin:20260729T114500
UID:261-20510-20260729T094500@VHSTÜBINGEN
SUMMARY:Acrylmalerei am Vormittag Geführter Malkurs (261-20510) 
LOCATION:vhs, Fachraum Malen 306, Katharinenstraße 18, 72072 Tübingen
END:VEVENT
END:VCALENDAR