BEGIN:VCALENDAR
VERSION:2.0
PRODID:https://www.kufer.de/kuferweb / DE
METHOD:PUBLISH
CALSCALE:GREGORIAN
X-WR-TIMEZONE:Europe/Berlin
BEGIN:VTIMEZONE
TZID:Europe/Berlin
X-LIC-LOCATION:Europe/Berlin
BEGIN:DAYLIGHT
TZOFFSETFROM:+0100
TZOFFSETTO:+0200
TZNAME:CEST
DTSTART:19700329T020000
RRULE:FREQ=YEARLY;INTERVAL=1;BYDAY=-1SU;BYMONTH=3
END:DAYLIGHT
BEGIN:STANDARD
TZOFFSETFROM:+0200
TZOFFSETTO:+0100
TZNAME:CET
DTSTART:19701025T030000
RRULE:FREQ=YEARLY;INTERVAL=1;BYDAY=-1SU;BYMONTH=10
END:STANDARD
END:VTIMEZONE
BEGIN:VEVENT
DTSTAMP:20260421T155621
DTSTART;TZID=Europe/Berlin:20260226T190000
DTEND;TZID=Europe/Berlin:20260226T211500
UID:261-20551-20260226T190000@VHSTÜBINGEN
SUMMARY:Ölmalen (261-20551) 
LOCATION:vhs, Fachraum Malen 306, Katharinenstraße 18, 72072 Tübingen
END:VEVENT
BEGIN:VEVENT
DTSTAMP:20260421T155621
DTSTART;TZID=Europe/Berlin:20260305T190000
DTEND;TZID=Europe/Berlin:20260305T211500
UID:261-20551-20260305T190000@VHSTÜBINGEN
SUMMARY:Ölmalen (261-20551) 
LOCATION:vhs, Fachraum Malen 306, Katharinenstraße 18, 72072 Tübingen
END:VEVENT
BEGIN:VEVENT
DTSTAMP:20260421T155621
DTSTART;TZID=Europe/Berlin:20260312T190000
DTEND;TZID=Europe/Berlin:20260312T211500
UID:261-20551-20260312T190000@VHSTÜBINGEN
SUMMARY:Ölmalen (261-20551) 
LOCATION:vhs, Fachraum Malen 306, Katharinenstraße 18, 72072 Tübingen
END:VEVENT
BEGIN:VEVENT
DTSTAMP:20260421T155621
DTSTART;TZID=Europe/Berlin:20260319T190000
DTEND;TZID=Europe/Berlin:20260319T211500
UID:261-20551-20260319T190000@VHSTÜBINGEN
SUMMARY:Ölmalen (261-20551) 
LOCATION:vhs, Fachraum Malen 306, Katharinenstraße 18, 72072 Tübingen
END:VEVENT
BEGIN:VEVENT
DTSTAMP:20260421T155621
DTSTART;TZID=Europe/Berlin:20260326T190000
DTEND;TZID=Europe/Berlin:20260326T211500
UID:261-20551-20260326T190000@VHSTÜBINGEN
SUMMARY:Ölmalen (261-20551) 
LOCATION:vhs, Fachraum Malen 306, Katharinenstraße 18, 72072 Tübingen
END:VEVENT
BEGIN:VEVENT
DTSTAMP:20260421T155621
DTSTART;TZID=Europe/Berlin:20260416T190000
DTEND;TZID=Europe/Berlin:20260416T211500
UID:261-20551-20260416T190000@VHSTÜBINGEN
SUMMARY:Ölmalen (261-20551) 
LOCATION:vhs, Fachraum Malen 306, Katharinenstraße 18, 72072 Tübingen
END:VEVENT
BEGIN:VEVENT
DTSTAMP:20260421T155621
DTSTART;TZID=Europe/Berlin:20260423T190000
DTEND;TZID=Europe/Berlin:20260423T211500
UID:261-20551-20260423T190000@VHSTÜBINGEN
SUMMARY:Ölmalen (261-20551) 
LOCATION:vhs, Fachraum Malen 306, Katharinenstraße 18, 72072 Tübingen
END:VEVENT
BEGIN:VEVENT
DTSTAMP:20260421T155621
DTSTART;TZID=Europe/Berlin:20260430T190000
DTEND;TZID=Europe/Berlin:20260430T211500
UID:261-20551-20260430T190000@VHSTÜBINGEN
SUMMARY:Ölmalen (261-20551) 
LOCATION:vhs, Fachraum Malen 306, Katharinenstraße 18, 72072 Tübingen
END:VEVENT
END:VCALENDAR