BEGIN:VCALENDAR
VERSION:2.0
PRODID:https://www.kufer.de/kuferweb / DE
METHOD:PUBLISH
CALSCALE:GREGORIAN
X-WR-TIMEZONE:Europe/Berlin
BEGIN:VTIMEZONE
TZID:Europe/Berlin
X-LIC-LOCATION:Europe/Berlin
BEGIN:DAYLIGHT
TZOFFSETFROM:+0100
TZOFFSETTO:+0200
TZNAME:CEST
DTSTART:19700329T020000
RRULE:FREQ=YEARLY;INTERVAL=1;BYDAY=-1SU;BYMONTH=3
END:DAYLIGHT
BEGIN:STANDARD
TZOFFSETFROM:+0200
TZOFFSETTO:+0100
TZNAME:CET
DTSTART:19701025T030000
RRULE:FREQ=YEARLY;INTERVAL=1;BYDAY=-1SU;BYMONTH=10
END:STANDARD
END:VTIMEZONE
BEGIN:VEVENT
DTSTAMP:20260421T155621
DTSTART;TZID=Europe/Berlin:20260507T190000
DTEND;TZID=Europe/Berlin:20260507T211500
UID:261-20553-20260507T190000@VHSTÜBINGEN
SUMMARY:Ölmalen (261-20553) 
LOCATION:vhs, Fachraum Malen 306, Katharinenstraße 18, 72072 Tübingen
END:VEVENT
BEGIN:VEVENT
DTSTAMP:20260421T155621
DTSTART;TZID=Europe/Berlin:20260521T190000
DTEND;TZID=Europe/Berlin:20260521T211500
UID:261-20553-20260521T190000@VHSTÜBINGEN
SUMMARY:Ölmalen (261-20553) 
LOCATION:vhs, Fachraum Malen 306, Katharinenstraße 18, 72072 Tübingen
END:VEVENT
BEGIN:VEVENT
DTSTAMP:20260421T155621
DTSTART;TZID=Europe/Berlin:20260611T190000
DTEND;TZID=Europe/Berlin:20260611T211500
UID:261-20553-20260611T190000@VHSTÜBINGEN
SUMMARY:Ölmalen (261-20553) 
LOCATION:vhs, Fachraum Malen 306, Katharinenstraße 18, 72072 Tübingen
END:VEVENT
BEGIN:VEVENT
DTSTAMP:20260421T155621
DTSTART;TZID=Europe/Berlin:20260618T190000
DTEND;TZID=Europe/Berlin:20260618T211500
UID:261-20553-20260618T190000@VHSTÜBINGEN
SUMMARY:Ölmalen (261-20553) 
LOCATION:vhs, Fachraum Malen 306, Katharinenstraße 18, 72072 Tübingen
END:VEVENT
BEGIN:VEVENT
DTSTAMP:20260421T155621
DTSTART;TZID=Europe/Berlin:20260625T190000
DTEND;TZID=Europe/Berlin:20260625T211500
UID:261-20553-20260625T190000@VHSTÜBINGEN
SUMMARY:Ölmalen (261-20553) 
LOCATION:vhs, Fachraum Malen 306, Katharinenstraße 18, 72072 Tübingen
END:VEVENT
BEGIN:VEVENT
DTSTAMP:20260421T155621
DTSTART;TZID=Europe/Berlin:20260702T190000
DTEND;TZID=Europe/Berlin:20260702T211500
UID:261-20553-20260702T190000@VHSTÜBINGEN
SUMMARY:Ölmalen (261-20553) 
LOCATION:vhs, Fachraum Malen 306, Katharinenstraße 18, 72072 Tübingen
END:VEVENT
BEGIN:VEVENT
DTSTAMP:20260421T155621
DTSTART;TZID=Europe/Berlin:20260709T190000
DTEND;TZID=Europe/Berlin:20260709T211500
UID:261-20553-20260709T190000@VHSTÜBINGEN
SUMMARY:Ölmalen (261-20553) 
LOCATION:vhs, Fachraum Malen 306, Katharinenstraße 18, 72072 Tübingen
END:VEVENT
BEGIN:VEVENT
DTSTAMP:20260421T155621
DTSTART;TZID=Europe/Berlin:20260716T190000
DTEND;TZID=Europe/Berlin:20260716T211500
UID:261-20553-20260716T190000@VHSTÜBINGEN
SUMMARY:Ölmalen (261-20553) 
LOCATION:vhs, Fachraum Malen 306, Katharinenstraße 18, 72072 Tübingen
END:VEVENT
BEGIN:VEVENT
DTSTAMP:20260421T155621
DTSTART;TZID=Europe/Berlin:20260723T190000
DTEND;TZID=Europe/Berlin:20260723T211500
UID:261-20553-20260723T190000@VHSTÜBINGEN
SUMMARY:Ölmalen (261-20553) 
LOCATION:vhs, Fachraum Malen 306, Katharinenstraße 18, 72072 Tübingen
END:VEVENT
END:VCALENDAR