BEGIN:VCALENDAR
VERSION:2.0
PRODID:https://www.kufer.de/kuferweb / DE
METHOD:PUBLISH
CALSCALE:GREGORIAN
X-WR-TIMEZONE:Europe/Berlin
BEGIN:VTIMEZONE
TZID:Europe/Berlin
X-LIC-LOCATION:Europe/Berlin
BEGIN:DAYLIGHT
TZOFFSETFROM:+0100
TZOFFSETTO:+0200
TZNAME:CEST
DTSTART:19700329T020000
RRULE:FREQ=YEARLY;INTERVAL=1;BYDAY=-1SU;BYMONTH=3
END:DAYLIGHT
BEGIN:STANDARD
TZOFFSETFROM:+0200
TZOFFSETTO:+0100
TZNAME:CET
DTSTART:19701025T030000
RRULE:FREQ=YEARLY;INTERVAL=1;BYDAY=-1SU;BYMONTH=10
END:STANDARD
END:VTIMEZONE
BEGIN:VEVENT
DTSTAMP:20260421T141002
DTSTART;TZID=Europe/Berlin:20260429T190000
DTEND;TZID=Europe/Berlin:20260429T210000
UID:261-20575-20260429T190000@VHSTÜBINGEN
SUMMARY:Aktzeichnen für Anfänger/-innen und Fortgeschrittene (261-20575) 
LOCATION:vhs, Fachraum Malen 306, Katharinenstraße 18, 72072 Tübingen
END:VEVENT
BEGIN:VEVENT
DTSTAMP:20260421T141002
DTSTART;TZID=Europe/Berlin:20260506T190000
DTEND;TZID=Europe/Berlin:20260506T210000
UID:261-20575-20260506T190000@VHSTÜBINGEN
SUMMARY:Aktzeichnen für Anfänger/-innen und Fortgeschrittene (261-20575) 
LOCATION:vhs, Fachraum Malen 306, Katharinenstraße 18, 72072 Tübingen
END:VEVENT
BEGIN:VEVENT
DTSTAMP:20260421T141002
DTSTART;TZID=Europe/Berlin:20260513T190000
DTEND;TZID=Europe/Berlin:20260513T210000
UID:261-20575-20260513T190000@VHSTÜBINGEN
SUMMARY:Aktzeichnen für Anfänger/-innen und Fortgeschrittene (261-20575) 
LOCATION:vhs, Fachraum Malen 306, Katharinenstraße 18, 72072 Tübingen
END:VEVENT
BEGIN:VEVENT
DTSTAMP:20260421T141002
DTSTART;TZID=Europe/Berlin:20260520T190000
DTEND;TZID=Europe/Berlin:20260520T210000
UID:261-20575-20260520T190000@VHSTÜBINGEN
SUMMARY:Aktzeichnen für Anfänger/-innen und Fortgeschrittene (261-20575) 
LOCATION:vhs, Fachraum Malen 306, Katharinenstraße 18, 72072 Tübingen
END:VEVENT
END:VCALENDAR