BEGIN:VCALENDAR
VERSION:2.0
PRODID:https://www.kufer.de/kuferweb / DE
METHOD:PUBLISH
CALSCALE:GREGORIAN
X-WR-TIMEZONE:Europe/Berlin
BEGIN:VTIMEZONE
TZID:Europe/Berlin
X-LIC-LOCATION:Europe/Berlin
BEGIN:DAYLIGHT
TZOFFSETFROM:+0100
TZOFFSETTO:+0200
TZNAME:CEST
DTSTART:19700329T020000
RRULE:FREQ=YEARLY;INTERVAL=1;BYDAY=-1SU;BYMONTH=3
END:DAYLIGHT
BEGIN:STANDARD
TZOFFSETFROM:+0200
TZOFFSETTO:+0100
TZNAME:CET
DTSTART:19701025T030000
RRULE:FREQ=YEARLY;INTERVAL=1;BYDAY=-1SU;BYMONTH=10
END:STANDARD
END:VTIMEZONE
BEGIN:VEVENT
DTSTAMP:20260421T205517
DTSTART;TZID=Europe/Berlin:20260704T133000
DTEND;TZID=Europe/Berlin:20260704T173000
UID:261-20643-20260704T133000@VHSTÜBINGEN
SUMMARY:Individuelle Skulpturen gestalten mit Ytong (261-20643) 
LOCATION:vhs, Fachraum Werken U 015, Katharinenstraße 18, 72072 Tübingen
END:VEVENT
BEGIN:VEVENT
DTSTAMP:20260421T205517
DTSTART;TZID=Europe/Berlin:20260705T093000
DTEND;TZID=Europe/Berlin:20260705T133000
UID:261-20643-20260705T093000@VHSTÜBINGEN
SUMMARY:Individuelle Skulpturen gestalten mit Ytong (261-20643) 
LOCATION:vhs, Fachraum Werken U 015, Katharinenstraße 18, 72072 Tübingen
END:VEVENT
END:VCALENDAR