BEGIN:VCALENDAR
VERSION:2.0
PRODID:https://www.kufer.de/kuferweb / DE
METHOD:PUBLISH
CALSCALE:GREGORIAN
X-WR-TIMEZONE:Europe/Berlin
BEGIN:VTIMEZONE
TZID:Europe/Berlin
X-LIC-LOCATION:Europe/Berlin
BEGIN:DAYLIGHT
TZOFFSETFROM:+0100
TZOFFSETTO:+0200
TZNAME:CEST
DTSTART:19700329T020000
RRULE:FREQ=YEARLY;INTERVAL=1;BYDAY=-1SU;BYMONTH=3
END:DAYLIGHT
BEGIN:STANDARD
TZOFFSETFROM:+0200
TZOFFSETTO:+0100
TZNAME:CET
DTSTART:19701025T030000
RRULE:FREQ=YEARLY;INTERVAL=1;BYDAY=-1SU;BYMONTH=10
END:STANDARD
END:VTIMEZONE
BEGIN:VEVENT
DTSTAMP:20260421T155533
DTSTART;TZID=Europe/Berlin:20260508T190000
DTEND;TZID=Europe/Berlin:20260508T203000
UID:261-20828-20260508T190000@VHSTÜBINGEN
DESCRIPTION:Keyboard von der Musikschule Wenn in Gesundheitsraum, ein Stuhl pro Teilnehmer/in am Rand, 1 Stuhl beim Keyboard
SUMMARY:Circle of Peace - Chorprojekt Kraft der Stimme, Lieder des Friedens (261-20828) 
LOCATION:vhs, Gesundheitsraum 014, Katharinenstraße 18, 72072 Tübingen
END:VEVENT
BEGIN:VEVENT
DTSTAMP:20260421T155533
DTSTART;TZID=Europe/Berlin:20260515T190000
DTEND;TZID=Europe/Berlin:20260515T203000
UID:261-20828-20260515T190000@VHSTÜBINGEN
DESCRIPTION:Keyboard von der Musikschule Wenn in Gesundheitsraum, ein Stuhl pro Teilnehmer/in am Rand, 1 Stuhl beim Keyboard
SUMMARY:Circle of Peace - Chorprojekt Kraft der Stimme, Lieder des Friedens (261-20828) 
LOCATION:vhs, Gesundheitsraum 014, Katharinenstraße 18, 72072 Tübingen
END:VEVENT
BEGIN:VEVENT
DTSTAMP:20260421T155533
DTSTART;TZID=Europe/Berlin:20260522T190000
DTEND;TZID=Europe/Berlin:20260522T203000
UID:261-20828-20260522T190000@VHSTÜBINGEN
DESCRIPTION:Keyboard von der Musikschule Wenn in Gesundheitsraum, ein Stuhl pro Teilnehmer/in am Rand, 1 Stuhl beim Keyboard
SUMMARY:Circle of Peace - Chorprojekt Kraft der Stimme, Lieder des Friedens (261-20828) 
LOCATION:vhs, Gesundheitsraum 014, Katharinenstraße 18, 72072 Tübingen
END:VEVENT
BEGIN:VEVENT
DTSTAMP:20260421T155533
DTSTART;TZID=Europe/Berlin:20260612T190000
DTEND;TZID=Europe/Berlin:20260612T203000
UID:261-20828-20260612T190000@VHSTÜBINGEN
DESCRIPTION:Keyboard von der Musikschule Wenn in Gesundheitsraum, ein Stuhl pro Teilnehmer/in am Rand, 1 Stuhl beim Keyboard
SUMMARY:Circle of Peace - Chorprojekt Kraft der Stimme, Lieder des Friedens (261-20828) 
LOCATION:vhs, Gesundheitsraum 014, Katharinenstraße 18, 72072 Tübingen
END:VEVENT
BEGIN:VEVENT
DTSTAMP:20260421T155533
DTSTART;TZID=Europe/Berlin:20260619T190000
DTEND;TZID=Europe/Berlin:20260619T203000
UID:261-20828-20260619T190000@VHSTÜBINGEN
DESCRIPTION:Keyboard von der Musikschule Wenn in Gesundheitsraum, ein Stuhl pro Teilnehmer/in am Rand, 1 Stuhl beim Keyboard
SUMMARY:Circle of Peace - Chorprojekt Kraft der Stimme, Lieder des Friedens (261-20828) 
LOCATION:vhs, Gesundheitsraum 014, Katharinenstraße 18, 72072 Tübingen
END:VEVENT
BEGIN:VEVENT
DTSTAMP:20260421T155533
DTSTART;TZID=Europe/Berlin:20260626T190000
DTEND;TZID=Europe/Berlin:20260626T203000
UID:261-20828-20260626T190000@VHSTÜBINGEN
DESCRIPTION:Keyboard von der Musikschule Wenn in Gesundheitsraum, ein Stuhl pro Teilnehmer/in am Rand, 1 Stuhl beim Keyboard
SUMMARY:Circle of Peace - Chorprojekt Kraft der Stimme, Lieder des Friedens (261-20828) 
LOCATION:vhs, Gesundheitsraum 014, Katharinenstraße 18, 72072 Tübingen
END:VEVENT
END:VCALENDAR