BEGIN:VCALENDAR
VERSION:2.0
PRODID:https://www.kufer.de/kuferweb / DE
METHOD:PUBLISH
CALSCALE:GREGORIAN
X-WR-TIMEZONE:Europe/Berlin
BEGIN:VTIMEZONE
TZID:Europe/Berlin
X-LIC-LOCATION:Europe/Berlin
BEGIN:DAYLIGHT
TZOFFSETFROM:+0100
TZOFFSETTO:+0200
TZNAME:CEST
DTSTART:19700329T020000
RRULE:FREQ=YEARLY;INTERVAL=1;BYDAY=-1SU;BYMONTH=3
END:DAYLIGHT
BEGIN:STANDARD
TZOFFSETFROM:+0200
TZOFFSETTO:+0100
TZNAME:CET
DTSTART:19701025T030000
RRULE:FREQ=YEARLY;INTERVAL=1;BYDAY=-1SU;BYMONTH=10
END:STANDARD
END:VTIMEZONE
BEGIN:VEVENT
DTSTAMP:20260421T174701
DTSTART;TZID=Europe/Berlin:20260608T174500
DTEND;TZID=Europe/Berlin:20260608T191500
UID:261-20832-20260608T174500@VHSTÜBINGEN
DESCRIPTION:Ein Stuhl pro Teilnehmer/in am Rand, CD-Player, 1 Tisch und 3 Stühle beim CD-Player
SUMMARY:Die Freiheit zu singen - Deine Stimme in der Gruppe (261-20832) 
LOCATION:vhs, Saal, Katharinenstraße 18, 72072 Tübingen
END:VEVENT
BEGIN:VEVENT
DTSTAMP:20260421T174701
DTSTART;TZID=Europe/Berlin:20260615T174500
DTEND;TZID=Europe/Berlin:20260615T191500
UID:261-20832-20260615T174500@VHSTÜBINGEN
DESCRIPTION:Ein Stuhl pro Teilnehmer/in am Rand, CD-Player, 1 Tisch und 3 Stühle beim CD-Player
SUMMARY:Die Freiheit zu singen - Deine Stimme in der Gruppe (261-20832) 
LOCATION:vhs, Saal, Katharinenstraße 18, 72072 Tübingen
END:VEVENT
BEGIN:VEVENT
DTSTAMP:20260421T174701
DTSTART;TZID=Europe/Berlin:20260622T174500
DTEND;TZID=Europe/Berlin:20260622T191500
UID:261-20832-20260622T174500@VHSTÜBINGEN
DESCRIPTION:Ein Stuhl pro Teilnehmer/in am Rand, CD-Player, 1 Tisch und 3 Stühle beim CD-Player
SUMMARY:Die Freiheit zu singen - Deine Stimme in der Gruppe (261-20832) 
LOCATION:vhs, Saal, Katharinenstraße 18, 72072 Tübingen
END:VEVENT
BEGIN:VEVENT
DTSTAMP:20260421T174701
DTSTART;TZID=Europe/Berlin:20260629T174500
DTEND;TZID=Europe/Berlin:20260629T191500
UID:261-20832-20260629T174500@VHSTÜBINGEN
DESCRIPTION:Ein Stuhl pro Teilnehmer/in am Rand, CD-Player, 1 Tisch und 3 Stühle beim CD-Player
SUMMARY:Die Freiheit zu singen - Deine Stimme in der Gruppe (261-20832) 
LOCATION:vhs, Saal, Katharinenstraße 18, 72072 Tübingen
END:VEVENT
BEGIN:VEVENT
DTSTAMP:20260421T174701
DTSTART;TZID=Europe/Berlin:20260706T174500
DTEND;TZID=Europe/Berlin:20260706T191500
UID:261-20832-20260706T174500@VHSTÜBINGEN
DESCRIPTION:Ein Stuhl pro Teilnehmer/in am Rand, CD-Player, 1 Tisch und 3 Stühle beim CD-Player
SUMMARY:Die Freiheit zu singen - Deine Stimme in der Gruppe (261-20832) 
LOCATION:vhs, Saal, Katharinenstraße 18, 72072 Tübingen
END:VEVENT
BEGIN:VEVENT
DTSTAMP:20260421T174701
DTSTART;TZID=Europe/Berlin:20260713T174500
DTEND;TZID=Europe/Berlin:20260713T191500
UID:261-20832-20260713T174500@VHSTÜBINGEN
DESCRIPTION:Ein Stuhl pro Teilnehmer/in am Rand, CD-Player, 1 Tisch und 3 Stühle beim CD-Player
SUMMARY:Die Freiheit zu singen - Deine Stimme in der Gruppe (261-20832) 
LOCATION:vhs, Saal, Katharinenstraße 18, 72072 Tübingen
END:VEVENT
BEGIN:VEVENT
DTSTAMP:20260421T174701
DTSTART;TZID=Europe/Berlin:20260720T174500
DTEND;TZID=Europe/Berlin:20260720T191500
UID:261-20832-20260720T174500@VHSTÜBINGEN
DESCRIPTION:Ein Stuhl pro Teilnehmer/in am Rand, CD-Player, 1 Tisch und 3 Stühle beim CD-Player
SUMMARY:Die Freiheit zu singen - Deine Stimme in der Gruppe (261-20832) 
LOCATION:vhs, Saal, Katharinenstraße 18, 72072 Tübingen
END:VEVENT
END:VCALENDAR