BEGIN:VCALENDAR
VERSION:2.0
PRODID:https://www.kufer.de/kuferweb / DE
METHOD:PUBLISH
CALSCALE:GREGORIAN
X-WR-TIMEZONE:Europe/Berlin
BEGIN:VTIMEZONE
TZID:Europe/Berlin
X-LIC-LOCATION:Europe/Berlin
BEGIN:DAYLIGHT
TZOFFSETFROM:+0100
TZOFFSETTO:+0200
TZNAME:CEST
DTSTART:19700329T020000
RRULE:FREQ=YEARLY;INTERVAL=1;BYDAY=-1SU;BYMONTH=3
END:DAYLIGHT
BEGIN:STANDARD
TZOFFSETFROM:+0200
TZOFFSETTO:+0100
TZNAME:CET
DTSTART:19701025T030000
RRULE:FREQ=YEARLY;INTERVAL=1;BYDAY=-1SU;BYMONTH=10
END:STANDARD
END:VTIMEZONE
BEGIN:VEVENT
DTSTAMP:20260421T155527
DTSTART;TZID=Europe/Berlin:20260512T164500
DTEND;TZID=Europe/Berlin:20260512T174500
UID:261-20907-20260512T164500@VHSTÜBINGEN
SUMMARY:Ballett 50 plus (261-20907) 
LOCATION:vhs, Gesundheitsraum 014, Katharinenstraße 18, 72072 Tübingen
END:VEVENT
BEGIN:VEVENT
DTSTAMP:20260421T155527
DTSTART;TZID=Europe/Berlin:20260519T164500
DTEND;TZID=Europe/Berlin:20260519T174500
UID:261-20907-20260519T164500@VHSTÜBINGEN
SUMMARY:Ballett 50 plus (261-20907) 
LOCATION:vhs, Gesundheitsraum 014, Katharinenstraße 18, 72072 Tübingen
END:VEVENT
BEGIN:VEVENT
DTSTAMP:20260421T155527
DTSTART;TZID=Europe/Berlin:20260609T164500
DTEND;TZID=Europe/Berlin:20260609T174500
UID:261-20907-20260609T164500@VHSTÜBINGEN
SUMMARY:Ballett 50 plus (261-20907) 
LOCATION:vhs, Gesundheitsraum 014, Katharinenstraße 18, 72072 Tübingen
END:VEVENT
BEGIN:VEVENT
DTSTAMP:20260421T155527
DTSTART;TZID=Europe/Berlin:20260616T164500
DTEND;TZID=Europe/Berlin:20260616T174500
UID:261-20907-20260616T164500@VHSTÜBINGEN
SUMMARY:Ballett 50 plus (261-20907) 
LOCATION:vhs, Gesundheitsraum 014, Katharinenstraße 18, 72072 Tübingen
END:VEVENT
BEGIN:VEVENT
DTSTAMP:20260421T155527
DTSTART;TZID=Europe/Berlin:20260623T164500
DTEND;TZID=Europe/Berlin:20260623T174500
UID:261-20907-20260623T164500@VHSTÜBINGEN
SUMMARY:Ballett 50 plus (261-20907) 
LOCATION:vhs, Gesundheitsraum 014, Katharinenstraße 18, 72072 Tübingen
END:VEVENT
BEGIN:VEVENT
DTSTAMP:20260421T155527
DTSTART;TZID=Europe/Berlin:20260630T164500
DTEND;TZID=Europe/Berlin:20260630T174500
UID:261-20907-20260630T164500@VHSTÜBINGEN
SUMMARY:Ballett 50 plus (261-20907) 
LOCATION:vhs, Gesundheitsraum 014, Katharinenstraße 18, 72072 Tübingen
END:VEVENT
BEGIN:VEVENT
DTSTAMP:20260421T155527
DTSTART;TZID=Europe/Berlin:20260707T164500
DTEND;TZID=Europe/Berlin:20260707T174500
UID:261-20907-20260707T164500@VHSTÜBINGEN
SUMMARY:Ballett 50 plus (261-20907) 
LOCATION:vhs, Gesundheitsraum 014, Katharinenstraße 18, 72072 Tübingen
END:VEVENT
BEGIN:VEVENT
DTSTAMP:20260421T155527
DTSTART;TZID=Europe/Berlin:20260714T164500
DTEND;TZID=Europe/Berlin:20260714T174500
UID:261-20907-20260714T164500@VHSTÜBINGEN
SUMMARY:Ballett 50 plus (261-20907) 
LOCATION:vhs, Gesundheitsraum 014, Katharinenstraße 18, 72072 Tübingen
END:VEVENT
BEGIN:VEVENT
DTSTAMP:20260421T155527
DTSTART;TZID=Europe/Berlin:20260721T164500
DTEND;TZID=Europe/Berlin:20260721T174500
UID:261-20907-20260721T164500@VHSTÜBINGEN
SUMMARY:Ballett 50 plus (261-20907) 
LOCATION:vhs, Gesundheitsraum 014, Katharinenstraße 18, 72072 Tübingen
END:VEVENT
END:VCALENDAR