BEGIN:VCALENDAR
VERSION:2.0
PRODID:https://www.kufer.de/kuferweb / DE
METHOD:PUBLISH
CALSCALE:GREGORIAN
X-WR-TIMEZONE:Europe/Berlin
BEGIN:VTIMEZONE
TZID:Europe/Berlin
X-LIC-LOCATION:Europe/Berlin
BEGIN:DAYLIGHT
TZOFFSETFROM:+0100
TZOFFSETTO:+0200
TZNAME:CEST
DTSTART:19700329T020000
RRULE:FREQ=YEARLY;INTERVAL=1;BYDAY=-1SU;BYMONTH=3
END:DAYLIGHT
BEGIN:STANDARD
TZOFFSETFROM:+0200
TZOFFSETTO:+0100
TZNAME:CET
DTSTART:19701025T030000
RRULE:FREQ=YEARLY;INTERVAL=1;BYDAY=-1SU;BYMONTH=10
END:STANDARD
END:VTIMEZONE
BEGIN:VEVENT
DTSTAMP:20260421T133015
DTSTART;TZID=Europe/Berlin:20260224T203000
DTEND;TZID=Europe/Berlin:20260224T214500
UID:261-20913-20260224T203000@VHSTÜBINGEN
SUMMARY:Griechische Volkstänze Aufbaukurs (261-20913) 
LOCATION:11 Spielhalle Uhlandstraße, Gymnastikraum, Uhlandstraße 26, 72072 Tübingen
END:VEVENT
BEGIN:VEVENT
DTSTAMP:20260421T133015
DTSTART;TZID=Europe/Berlin:20260303T203000
DTEND;TZID=Europe/Berlin:20260303T214500
UID:261-20913-20260303T203000@VHSTÜBINGEN
SUMMARY:Griechische Volkstänze Aufbaukurs (261-20913) 
LOCATION:11 Spielhalle Uhlandstraße, Gymnastikraum, Uhlandstraße 26, 72072 Tübingen
END:VEVENT
BEGIN:VEVENT
DTSTAMP:20260421T133015
DTSTART;TZID=Europe/Berlin:20260310T203000
DTEND;TZID=Europe/Berlin:20260310T214500
UID:261-20913-20260310T203000@VHSTÜBINGEN
SUMMARY:Griechische Volkstänze Aufbaukurs (261-20913) 
LOCATION:11 Spielhalle Uhlandstraße, Gymnastikraum, Uhlandstraße 26, 72072 Tübingen
END:VEVENT
BEGIN:VEVENT
DTSTAMP:20260421T133015
DTSTART;TZID=Europe/Berlin:20260317T203000
DTEND;TZID=Europe/Berlin:20260317T214500
UID:261-20913-20260317T203000@VHSTÜBINGEN
SUMMARY:Griechische Volkstänze Aufbaukurs (261-20913) 
LOCATION:11 Spielhalle Uhlandstraße, Gymnastikraum, Uhlandstraße 26, 72072 Tübingen
END:VEVENT
BEGIN:VEVENT
DTSTAMP:20260421T133015
DTSTART;TZID=Europe/Berlin:20260324T203000
DTEND;TZID=Europe/Berlin:20260324T214500
UID:261-20913-20260324T203000@VHSTÜBINGEN
SUMMARY:Griechische Volkstänze Aufbaukurs (261-20913) 
LOCATION:11 Spielhalle Uhlandstraße, Gymnastikraum, Uhlandstraße 26, 72072 Tübingen
END:VEVENT
END:VCALENDAR