BEGIN:VCALENDAR
VERSION:2.0
PRODID:https://www.kufer.de/kuferweb / DE
METHOD:PUBLISH
CALSCALE:GREGORIAN
X-WR-TIMEZONE:Europe/Berlin
BEGIN:VTIMEZONE
TZID:Europe/Berlin
X-LIC-LOCATION:Europe/Berlin
BEGIN:DAYLIGHT
TZOFFSETFROM:+0100
TZOFFSETTO:+0200
TZNAME:CEST
DTSTART:19700329T020000
RRULE:FREQ=YEARLY;INTERVAL=1;BYDAY=-1SU;BYMONTH=3
END:DAYLIGHT
BEGIN:STANDARD
TZOFFSETFROM:+0200
TZOFFSETTO:+0100
TZNAME:CET
DTSTART:19701025T030000
RRULE:FREQ=YEARLY;INTERVAL=1;BYDAY=-1SU;BYMONTH=10
END:STANDARD
END:VTIMEZONE
BEGIN:VEVENT
DTSTAMP:20260421T223806
DTSTART;TZID=Europe/Berlin:20260609T203000
DTEND;TZID=Europe/Berlin:20260609T214500
UID:261-20915-20260609T203000@VHSTÜBINGEN
SUMMARY:Griechische Volkstänze Aufbaukurs (261-20915) 
LOCATION:11 Spielhalle Uhlandstraße, Gymnastikraum, Uhlandstraße 26, 72072 Tübingen
END:VEVENT
BEGIN:VEVENT
DTSTAMP:20260421T223806
DTSTART;TZID=Europe/Berlin:20260616T203000
DTEND;TZID=Europe/Berlin:20260616T214500
UID:261-20915-20260616T203000@VHSTÜBINGEN
SUMMARY:Griechische Volkstänze Aufbaukurs (261-20915) 
LOCATION:11 Spielhalle Uhlandstraße, Gymnastikraum, Uhlandstraße 26, 72072 Tübingen
END:VEVENT
BEGIN:VEVENT
DTSTAMP:20260421T223806
DTSTART;TZID=Europe/Berlin:20260623T203000
DTEND;TZID=Europe/Berlin:20260623T214500
UID:261-20915-20260623T203000@VHSTÜBINGEN
SUMMARY:Griechische Volkstänze Aufbaukurs (261-20915) 
LOCATION:11 Spielhalle Uhlandstraße, Gymnastikraum, Uhlandstraße 26, 72072 Tübingen
END:VEVENT
BEGIN:VEVENT
DTSTAMP:20260421T223806
DTSTART;TZID=Europe/Berlin:20260630T203000
DTEND;TZID=Europe/Berlin:20260630T214500
UID:261-20915-20260630T203000@VHSTÜBINGEN
SUMMARY:Griechische Volkstänze Aufbaukurs (261-20915) 
LOCATION:11 Spielhalle Uhlandstraße, Gymnastikraum, Uhlandstraße 26, 72072 Tübingen
END:VEVENT
BEGIN:VEVENT
DTSTAMP:20260421T223806
DTSTART;TZID=Europe/Berlin:20260707T203000
DTEND;TZID=Europe/Berlin:20260707T214500
UID:261-20915-20260707T203000@VHSTÜBINGEN
SUMMARY:Griechische Volkstänze Aufbaukurs (261-20915) 
LOCATION:11 Spielhalle Uhlandstraße, Gymnastikraum, Uhlandstraße 26, 72072 Tübingen
END:VEVENT
BEGIN:VEVENT
DTSTAMP:20260421T223806
DTSTART;TZID=Europe/Berlin:20260714T203000
DTEND;TZID=Europe/Berlin:20260714T214500
UID:261-20915-20260714T203000@VHSTÜBINGEN
SUMMARY:Griechische Volkstänze Aufbaukurs (261-20915) 
LOCATION:11 Spielhalle Uhlandstraße, Gymnastikraum, Uhlandstraße 26, 72072 Tübingen
END:VEVENT
END:VCALENDAR