BEGIN:VCALENDAR
VERSION:2.0
PRODID:https://www.kufer.de/kuferweb / DE
METHOD:PUBLISH
CALSCALE:GREGORIAN
X-WR-TIMEZONE:Europe/Berlin
BEGIN:VTIMEZONE
TZID:Europe/Berlin
X-LIC-LOCATION:Europe/Berlin
BEGIN:DAYLIGHT
TZOFFSETFROM:+0100
TZOFFSETTO:+0200
TZNAME:CEST
DTSTART:19700329T020000
RRULE:FREQ=YEARLY;INTERVAL=1;BYDAY=-1SU;BYMONTH=3
END:DAYLIGHT
BEGIN:STANDARD
TZOFFSETFROM:+0200
TZOFFSETTO:+0100
TZNAME:CET
DTSTART:19701025T030000
RRULE:FREQ=YEARLY;INTERVAL=1;BYDAY=-1SU;BYMONTH=10
END:STANDARD
END:VTIMEZONE
BEGIN:VEVENT
DTSTAMP:20260421T170612
DTSTART;TZID=Europe/Berlin:20260305T181500
DTEND;TZID=Europe/Berlin:20260305T194500
UID:261-20928-20260305T181500@VHSTÜBINGEN
DESCRIPTION:Rechtzeitig lüften 6 Stühle nur im hinteren Teil unter den Fenstern Die 4 Lampen aus dem Stuhllager aufstellen (2 hinten und 2 vorne an den Seiten), bitte eine Lampe zusätzlich Bitte den Boden reinigen, mind. kehren.   Kann alles stehen bleiben für Freitagabend, falls Freitag tagsüber nichts anderes vorgesehen ist
SUMMARY:Modern Dance, Improvisation und Gestaltung (261-20928) 
LOCATION:vhs, Saal, Katharinenstraße 18, 72072 Tübingen
END:VEVENT
BEGIN:VEVENT
DTSTAMP:20260421T170612
DTSTART;TZID=Europe/Berlin:20260312T181500
DTEND;TZID=Europe/Berlin:20260312T194500
UID:261-20928-20260312T181500@VHSTÜBINGEN
DESCRIPTION:Rechtzeitig lüften 6 Stühle nur im hinteren Teil unter den Fenstern Die 4 Lampen aus dem Stuhllager aufstellen (2 hinten und 2 vorne an den Seiten), bitte eine Lampe zusätzlich Bitte den Boden reinigen, mind. kehren.   Kann alles stehen bleiben für Freitagabend, falls Freitag tagsüber nichts anderes vorgesehen ist
SUMMARY:Modern Dance, Improvisation und Gestaltung (261-20928) 
LOCATION:vhs, Saal, Katharinenstraße 18, 72072 Tübingen
END:VEVENT
BEGIN:VEVENT
DTSTAMP:20260421T170612
DTSTART;TZID=Europe/Berlin:20260319T181500
DTEND;TZID=Europe/Berlin:20260319T194500
UID:261-20928-20260319T181500@VHSTÜBINGEN
DESCRIPTION:Rechtzeitig lüften 6 Stühle nur im hinteren Teil unter den Fenstern Die 4 Lampen aus dem Stuhllager aufstellen (2 hinten und 2 vorne an den Seiten), bitte eine Lampe zusätzlich Bitte den Boden reinigen, mind. kehren.   Kann alles stehen bleiben für Freitagabend, falls Freitag tagsüber nichts anderes vorgesehen ist
SUMMARY:Modern Dance, Improvisation und Gestaltung (261-20928) 
LOCATION:vhs, Saal, Katharinenstraße 18, 72072 Tübingen
END:VEVENT
BEGIN:VEVENT
DTSTAMP:20260421T170612
DTSTART;TZID=Europe/Berlin:20260326T181500
DTEND;TZID=Europe/Berlin:20260326T194500
UID:261-20928-20260326T181500@VHSTÜBINGEN
DESCRIPTION:Rechtzeitig lüften 6 Stühle nur im hinteren Teil unter den Fenstern Die 4 Lampen aus dem Stuhllager aufstellen (2 hinten und 2 vorne an den Seiten), bitte eine Lampe zusätzlich Bitte den Boden reinigen, mind. kehren.   Kann alles stehen bleiben für Freitagabend, falls Freitag tagsüber nichts anderes vorgesehen ist
SUMMARY:Modern Dance, Improvisation und Gestaltung (261-20928) 
LOCATION:vhs, Saal, Katharinenstraße 18, 72072 Tübingen
END:VEVENT
BEGIN:VEVENT
DTSTAMP:20260421T170612
DTSTART;TZID=Europe/Berlin:20260416T181500
DTEND;TZID=Europe/Berlin:20260416T194500
UID:261-20928-20260416T181500@VHSTÜBINGEN
DESCRIPTION:Rechtzeitig lüften 6 Stühle nur im hinteren Teil unter den Fenstern Die 4 Lampen aus dem Stuhllager aufstellen (2 hinten und 2 vorne an den Seiten), bitte eine Lampe zusätzlich Bitte den Boden reinigen, mind. kehren.   Kann alles stehen bleiben für Freitagabend, falls Freitag tagsüber nichts anderes vorgesehen ist
SUMMARY:Modern Dance, Improvisation und Gestaltung (261-20928) 
LOCATION:vhs, Saal, Katharinenstraße 18, 72072 Tübingen
END:VEVENT
BEGIN:VEVENT
DTSTAMP:20260421T170612
DTSTART;TZID=Europe/Berlin:20260423T181500
DTEND;TZID=Europe/Berlin:20260423T194500
UID:261-20928-20260423T181500@VHSTÜBINGEN
DESCRIPTION:Rechtzeitig lüften 6 Stühle nur im hinteren Teil unter den Fenstern Die 4 Lampen aus dem Stuhllager aufstellen (2 hinten und 2 vorne an den Seiten), bitte eine Lampe zusätzlich Bitte den Boden reinigen, mind. kehren.   Kann alles stehen bleiben für Freitagabend, falls Freitag tagsüber nichts anderes vorgesehen ist
SUMMARY:Modern Dance, Improvisation und Gestaltung (261-20928) 
LOCATION:vhs, Saal, Katharinenstraße 18, 72072 Tübingen
END:VEVENT
BEGIN:VEVENT
DTSTAMP:20260421T170612
DTSTART;TZID=Europe/Berlin:20260430T181500
DTEND;TZID=Europe/Berlin:20260430T194500
UID:261-20928-20260430T181500@VHSTÜBINGEN
DESCRIPTION:Rechtzeitig lüften 6 Stühle nur im hinteren Teil unter den Fenstern Die 4 Lampen aus dem Stuhllager aufstellen (2 hinten und 2 vorne an den Seiten), bitte eine Lampe zusätzlich Bitte den Boden reinigen, mind. kehren.   Kann alles stehen bleiben für Freitagabend, falls Freitag tagsüber nichts anderes vorgesehen ist
SUMMARY:Modern Dance, Improvisation und Gestaltung (261-20928) 
LOCATION:vhs, Saal, Katharinenstraße 18, 72072 Tübingen
END:VEVENT
BEGIN:VEVENT
DTSTAMP:20260421T170612
DTSTART;TZID=Europe/Berlin:20260507T181500
DTEND;TZID=Europe/Berlin:20260507T194500
UID:261-20928-20260507T181500@VHSTÜBINGEN
DESCRIPTION:Rechtzeitig lüften 6 Stühle nur im hinteren Teil unter den Fenstern Die 4 Lampen aus dem Stuhllager aufstellen (2 hinten und 2 vorne an den Seiten), bitte eine Lampe zusätzlich Bitte den Boden reinigen, mind. kehren.   Kann alles stehen bleiben für Freitagabend, falls Freitag tagsüber nichts anderes vorgesehen ist
SUMMARY:Modern Dance, Improvisation und Gestaltung (261-20928) 
LOCATION:vhs, Saal, Katharinenstraße 18, 72072 Tübingen
END:VEVENT
BEGIN:VEVENT
DTSTAMP:20260421T170612
DTSTART;TZID=Europe/Berlin:20260521T181500
DTEND;TZID=Europe/Berlin:20260521T194500
UID:261-20928-20260521T181500@VHSTÜBINGEN
DESCRIPTION:Rechtzeitig lüften 6 Stühle nur im hinteren Teil unter den Fenstern Die 4 Lampen aus dem Stuhllager aufstellen (2 hinten und 2 vorne an den Seiten), bitte eine Lampe zusätzlich Bitte den Boden reinigen, mind. kehren.   Kann alles stehen bleiben für Freitagabend, falls Freitag tagsüber nichts anderes vorgesehen ist
SUMMARY:Modern Dance, Improvisation und Gestaltung (261-20928) 
LOCATION:vhs, Saal, Katharinenstraße 18, 72072 Tübingen
END:VEVENT
BEGIN:VEVENT
DTSTAMP:20260421T170612
DTSTART;TZID=Europe/Berlin:20260611T181500
DTEND;TZID=Europe/Berlin:20260611T194500
UID:261-20928-20260611T181500@VHSTÜBINGEN
DESCRIPTION:Rechtzeitig lüften 6 Stühle nur im hinteren Teil unter den Fenstern Die 4 Lampen aus dem Stuhllager aufstellen (2 hinten und 2 vorne an den Seiten), bitte eine Lampe zusätzlich Bitte den Boden reinigen, mind. kehren.   Kann alles stehen bleiben für Freitagabend, falls Freitag tagsüber nichts anderes vorgesehen ist
SUMMARY:Modern Dance, Improvisation und Gestaltung (261-20928) 
LOCATION:vhs, Saal, Katharinenstraße 18, 72072 Tübingen
END:VEVENT
BEGIN:VEVENT
DTSTAMP:20260421T170612
DTSTART;TZID=Europe/Berlin:20260618T181500
DTEND;TZID=Europe/Berlin:20260618T194500
UID:261-20928-20260618T181500@VHSTÜBINGEN
DESCRIPTION:Rechtzeitig lüften 6 Stühle nur im hinteren Teil unter den Fenstern Die 4 Lampen aus dem Stuhllager aufstellen (2 hinten und 2 vorne an den Seiten), bitte eine Lampe zusätzlich Bitte den Boden reinigen, mind. kehren.   Kann alles stehen bleiben für Freitagabend, falls Freitag tagsüber nichts anderes vorgesehen ist
SUMMARY:Modern Dance, Improvisation und Gestaltung (261-20928) 
LOCATION:vhs, Saal, Katharinenstraße 18, 72072 Tübingen
END:VEVENT
BEGIN:VEVENT
DTSTAMP:20260421T170612
DTSTART;TZID=Europe/Berlin:20260625T181500
DTEND;TZID=Europe/Berlin:20260625T194500
UID:261-20928-20260625T181500@VHSTÜBINGEN
DESCRIPTION:Rechtzeitig lüften 6 Stühle nur im hinteren Teil unter den Fenstern Die 4 Lampen aus dem Stuhllager aufstellen (2 hinten und 2 vorne an den Seiten), bitte eine Lampe zusätzlich Bitte den Boden reinigen, mind. kehren.   Kann alles stehen bleiben für Freitagabend, falls Freitag tagsüber nichts anderes vorgesehen ist
SUMMARY:Modern Dance, Improvisation und Gestaltung (261-20928) 
LOCATION:vhs, Saal, Katharinenstraße 18, 72072 Tübingen
END:VEVENT
BEGIN:VEVENT
DTSTAMP:20260421T170612
DTSTART;TZID=Europe/Berlin:20260702T181500
DTEND;TZID=Europe/Berlin:20260702T194500
UID:261-20928-20260702T181500@VHSTÜBINGEN
DESCRIPTION:Rechtzeitig lüften 6 Stühle nur im hinteren Teil unter den Fenstern Die 4 Lampen aus dem Stuhllager aufstellen (2 hinten und 2 vorne an den Seiten), bitte eine Lampe zusätzlich Bitte den Boden reinigen, mind. kehren.   Kann alles stehen bleiben für Freitagabend, falls Freitag tagsüber nichts anderes vorgesehen ist
SUMMARY:Modern Dance, Improvisation und Gestaltung (261-20928) 
LOCATION:vhs, Saal, Katharinenstraße 18, 72072 Tübingen
END:VEVENT
BEGIN:VEVENT
DTSTAMP:20260421T170612
DTSTART;TZID=Europe/Berlin:20260709T181500
DTEND;TZID=Europe/Berlin:20260709T194500
UID:261-20928-20260709T181500@VHSTÜBINGEN
DESCRIPTION:Rechtzeitig lüften 6 Stühle nur im hinteren Teil unter den Fenstern Die 4 Lampen aus dem Stuhllager aufstellen (2 hinten und 2 vorne an den Seiten), bitte eine Lampe zusätzlich Bitte den Boden reinigen, mind. kehren.   Kann alles stehen bleiben für Freitagabend, falls Freitag tagsüber nichts anderes vorgesehen ist
SUMMARY:Modern Dance, Improvisation und Gestaltung (261-20928) 
LOCATION:vhs, Saal, Katharinenstraße 18, 72072 Tübingen
END:VEVENT
END:VCALENDAR