BEGIN:VCALENDAR
VERSION:2.0
PRODID:https://www.kufer.de/kuferweb / DE
METHOD:PUBLISH
CALSCALE:GREGORIAN
X-WR-TIMEZONE:Europe/Berlin
BEGIN:VTIMEZONE
TZID:Europe/Berlin
X-LIC-LOCATION:Europe/Berlin
BEGIN:DAYLIGHT
TZOFFSETFROM:+0100
TZOFFSETTO:+0200
TZNAME:CEST
DTSTART:19700329T020000
RRULE:FREQ=YEARLY;INTERVAL=1;BYDAY=-1SU;BYMONTH=3
END:DAYLIGHT
BEGIN:STANDARD
TZOFFSETFROM:+0200
TZOFFSETTO:+0100
TZNAME:CET
DTSTART:19701025T030000
RRULE:FREQ=YEARLY;INTERVAL=1;BYDAY=-1SU;BYMONTH=10
END:STANDARD
END:VTIMEZONE
BEGIN:VEVENT
DTSTAMP:20260421T173130
DTSTART;TZID=Europe/Berlin:20260304T192500
DTEND;TZID=Europe/Berlin:20260304T202500
UID:261-20970-20260304T192500@VHSTÜBINGEN
SUMMARY:Zumba® Fitness um 19:25 Uhr (261-20970) 
LOCATION:vhs, Saal, Katharinenstraße 18, 72072 Tübingen
END:VEVENT
BEGIN:VEVENT
DTSTAMP:20260421T173130
DTSTART;TZID=Europe/Berlin:20260311T192500
DTEND;TZID=Europe/Berlin:20260311T202500
UID:261-20970-20260311T192500@VHSTÜBINGEN
SUMMARY:Zumba® Fitness um 19:25 Uhr (261-20970) 
LOCATION:vhs, Saal, Katharinenstraße 18, 72072 Tübingen
END:VEVENT
BEGIN:VEVENT
DTSTAMP:20260421T173130
DTSTART;TZID=Europe/Berlin:20260318T192500
DTEND;TZID=Europe/Berlin:20260318T202500
UID:261-20970-20260318T192500@VHSTÜBINGEN
SUMMARY:Zumba® Fitness um 19:25 Uhr (261-20970) 
LOCATION:vhs, Saal, Katharinenstraße 18, 72072 Tübingen
END:VEVENT
BEGIN:VEVENT
DTSTAMP:20260421T173130
DTSTART;TZID=Europe/Berlin:20260325T192500
DTEND;TZID=Europe/Berlin:20260325T202500
UID:261-20970-20260325T192500@VHSTÜBINGEN
SUMMARY:Zumba® Fitness um 19:25 Uhr (261-20970) 
LOCATION:vhs, Saal, Katharinenstraße 18, 72072 Tübingen
END:VEVENT
BEGIN:VEVENT
DTSTAMP:20260421T173130
DTSTART;TZID=Europe/Berlin:20260415T192500
DTEND;TZID=Europe/Berlin:20260415T202500
UID:261-20970-20260415T192500@VHSTÜBINGEN
SUMMARY:Zumba® Fitness um 19:25 Uhr (261-20970) 
LOCATION:vhs, Saal, Katharinenstraße 18, 72072 Tübingen
END:VEVENT
BEGIN:VEVENT
DTSTAMP:20260421T173130
DTSTART;TZID=Europe/Berlin:20260422T192500
DTEND;TZID=Europe/Berlin:20260422T202500
UID:261-20970-20260422T192500@VHSTÜBINGEN
SUMMARY:Zumba® Fitness um 19:25 Uhr (261-20970) 
LOCATION:vhs, Saal, Katharinenstraße 18, 72072 Tübingen
END:VEVENT
BEGIN:VEVENT
DTSTAMP:20260421T173130
DTSTART;TZID=Europe/Berlin:20260429T192500
DTEND;TZID=Europe/Berlin:20260429T202500
UID:261-20970-20260429T192500@VHSTÜBINGEN
SUMMARY:Zumba® Fitness um 19:25 Uhr (261-20970) 
LOCATION:vhs, Saal, Katharinenstraße 18, 72072 Tübingen
END:VEVENT
BEGIN:VEVENT
DTSTAMP:20260421T173130
DTSTART;TZID=Europe/Berlin:20260506T192500
DTEND;TZID=Europe/Berlin:20260506T202500
UID:261-20970-20260506T192500@VHSTÜBINGEN
SUMMARY:Zumba® Fitness um 19:25 Uhr (261-20970) 
LOCATION:vhs, Saal, Katharinenstraße 18, 72072 Tübingen
END:VEVENT
BEGIN:VEVENT
DTSTAMP:20260421T173130
DTSTART;TZID=Europe/Berlin:20260513T192500
DTEND;TZID=Europe/Berlin:20260513T202500
UID:261-20970-20260513T192500@VHSTÜBINGEN
SUMMARY:Zumba® Fitness um 19:25 Uhr (261-20970) 
LOCATION:vhs, Saal, Katharinenstraße 18, 72072 Tübingen
END:VEVENT
BEGIN:VEVENT
DTSTAMP:20260421T173130
DTSTART;TZID=Europe/Berlin:20260520T192500
DTEND;TZID=Europe/Berlin:20260520T202500
UID:261-20970-20260520T192500@VHSTÜBINGEN
SUMMARY:Zumba® Fitness um 19:25 Uhr (261-20970) 
LOCATION:vhs, Saal, Katharinenstraße 18, 72072 Tübingen
END:VEVENT
BEGIN:VEVENT
DTSTAMP:20260421T173130
DTSTART;TZID=Europe/Berlin:20260610T192500
DTEND;TZID=Europe/Berlin:20260610T202500
UID:261-20970-20260610T192500@VHSTÜBINGEN
SUMMARY:Zumba® Fitness um 19:25 Uhr (261-20970) 
LOCATION:vhs, Saal, Katharinenstraße 18, 72072 Tübingen
END:VEVENT
BEGIN:VEVENT
DTSTAMP:20260421T173130
DTSTART;TZID=Europe/Berlin:20260617T192500
DTEND;TZID=Europe/Berlin:20260617T202500
UID:261-20970-20260617T192500@VHSTÜBINGEN
SUMMARY:Zumba® Fitness um 19:25 Uhr (261-20970) 
LOCATION:vhs, Saal, Katharinenstraße 18, 72072 Tübingen
END:VEVENT
BEGIN:VEVENT
DTSTAMP:20260421T173130
DTSTART;TZID=Europe/Berlin:20260624T192500
DTEND;TZID=Europe/Berlin:20260624T202500
UID:261-20970-20260624T192500@VHSTÜBINGEN
SUMMARY:Zumba® Fitness um 19:25 Uhr (261-20970) 
LOCATION:vhs, Saal, Katharinenstraße 18, 72072 Tübingen
END:VEVENT
BEGIN:VEVENT
DTSTAMP:20260421T173130
DTSTART;TZID=Europe/Berlin:20260701T192500
DTEND;TZID=Europe/Berlin:20260701T202500
UID:261-20970-20260701T192500@VHSTÜBINGEN
SUMMARY:Zumba® Fitness um 19:25 Uhr (261-20970) 
LOCATION:vhs, Saal, Katharinenstraße 18, 72072 Tübingen
END:VEVENT
BEGIN:VEVENT
DTSTAMP:20260421T173130
DTSTART;TZID=Europe/Berlin:20260708T192500
DTEND;TZID=Europe/Berlin:20260708T202500
UID:261-20970-20260708T192500@VHSTÜBINGEN
SUMMARY:Zumba® Fitness um 19:25 Uhr (261-20970) 
LOCATION:vhs, Saal, Katharinenstraße 18, 72072 Tübingen
END:VEVENT
BEGIN:VEVENT
DTSTAMP:20260421T173130
DTSTART;TZID=Europe/Berlin:20260715T192500
DTEND;TZID=Europe/Berlin:20260715T202500
UID:261-20970-20260715T192500@VHSTÜBINGEN
SUMMARY:Zumba® Fitness um 19:25 Uhr (261-20970) 
LOCATION:vhs, Saal, Katharinenstraße 18, 72072 Tübingen
END:VEVENT
BEGIN:VEVENT
DTSTAMP:20260421T173130
DTSTART;TZID=Europe/Berlin:20260722T192500
DTEND;TZID=Europe/Berlin:20260722T202500
UID:261-20970-20260722T192500@VHSTÜBINGEN
SUMMARY:Zumba® Fitness um 19:25 Uhr (261-20970) 
LOCATION:vhs, Saal, Katharinenstraße 18, 72072 Tübingen
END:VEVENT
END:VCALENDAR