BEGIN:VCALENDAR
VERSION:2.0
PRODID:https://www.kufer.de/kuferweb / DE
METHOD:PUBLISH
CALSCALE:GREGORIAN
X-WR-TIMEZONE:Europe/Berlin
BEGIN:VTIMEZONE
TZID:Europe/Berlin
X-LIC-LOCATION:Europe/Berlin
BEGIN:DAYLIGHT
TZOFFSETFROM:+0100
TZOFFSETTO:+0200
TZNAME:CEST
DTSTART:19700329T020000
RRULE:FREQ=YEARLY;INTERVAL=1;BYDAY=-1SU;BYMONTH=3
END:DAYLIGHT
BEGIN:STANDARD
TZOFFSETFROM:+0200
TZOFFSETTO:+0100
TZNAME:CET
DTSTART:19701025T030000
RRULE:FREQ=YEARLY;INTERVAL=1;BYDAY=-1SU;BYMONTH=10
END:STANDARD
END:VTIMEZONE
BEGIN:VEVENT
DTSTAMP:20260421T132049
DTSTART;TZID=Europe/Berlin:20260225T203000
DTEND;TZID=Europe/Berlin:20260225T213000
UID:261-20973-20260225T203000@VHSTÜBINGEN
SUMMARY:Zumba® Fitness um 20:30 Uhr (261-20973) 
LOCATION:vhs, Saal, Katharinenstraße 18, 72072 Tübingen
END:VEVENT
BEGIN:VEVENT
DTSTAMP:20260421T132049
DTSTART;TZID=Europe/Berlin:20260304T203000
DTEND;TZID=Europe/Berlin:20260304T213000
UID:261-20973-20260304T203000@VHSTÜBINGEN
SUMMARY:Zumba® Fitness um 20:30 Uhr (261-20973) 
LOCATION:vhs, Saal, Katharinenstraße 18, 72072 Tübingen
END:VEVENT
BEGIN:VEVENT
DTSTAMP:20260421T132049
DTSTART;TZID=Europe/Berlin:20260318T203000
DTEND;TZID=Europe/Berlin:20260318T213000
UID:261-20973-20260318T203000@VHSTÜBINGEN
SUMMARY:Zumba® Fitness um 20:30 Uhr (261-20973) 
LOCATION:vhs, Saal, Katharinenstraße 18, 72072 Tübingen
END:VEVENT
BEGIN:VEVENT
DTSTAMP:20260421T132049
DTSTART;TZID=Europe/Berlin:20260325T203000
DTEND;TZID=Europe/Berlin:20260325T213000
UID:261-20973-20260325T203000@VHSTÜBINGEN
SUMMARY:Zumba® Fitness um 20:30 Uhr (261-20973) 
LOCATION:vhs, Saal, Katharinenstraße 18, 72072 Tübingen
END:VEVENT
BEGIN:VEVENT
DTSTAMP:20260421T132049
DTSTART;TZID=Europe/Berlin:20260415T203000
DTEND;TZID=Europe/Berlin:20260415T213000
UID:261-20973-20260415T203000@VHSTÜBINGEN
SUMMARY:Zumba® Fitness um 20:30 Uhr (261-20973) 
LOCATION:vhs, Saal, Katharinenstraße 18, 72072 Tübingen
END:VEVENT
BEGIN:VEVENT
DTSTAMP:20260421T132049
DTSTART;TZID=Europe/Berlin:20260422T203000
DTEND;TZID=Europe/Berlin:20260422T213000
UID:261-20973-20260422T203000@VHSTÜBINGEN
SUMMARY:Zumba® Fitness um 20:30 Uhr (261-20973) 
LOCATION:vhs, Saal, Katharinenstraße 18, 72072 Tübingen
END:VEVENT
BEGIN:VEVENT
DTSTAMP:20260421T132049
DTSTART;TZID=Europe/Berlin:20260429T203000
DTEND;TZID=Europe/Berlin:20260429T213000
UID:261-20973-20260429T203000@VHSTÜBINGEN
SUMMARY:Zumba® Fitness um 20:30 Uhr (261-20973) 
LOCATION:vhs, Saal, Katharinenstraße 18, 72072 Tübingen
END:VEVENT
BEGIN:VEVENT
DTSTAMP:20260421T132049
DTSTART;TZID=Europe/Berlin:20260506T203000
DTEND;TZID=Europe/Berlin:20260506T213000
UID:261-20973-20260506T203000@VHSTÜBINGEN
SUMMARY:Zumba® Fitness um 20:30 Uhr (261-20973) 
LOCATION:vhs, Saal, Katharinenstraße 18, 72072 Tübingen
END:VEVENT
BEGIN:VEVENT
DTSTAMP:20260421T132049
DTSTART;TZID=Europe/Berlin:20260513T203000
DTEND;TZID=Europe/Berlin:20260513T213000
UID:261-20973-20260513T203000@VHSTÜBINGEN
SUMMARY:Zumba® Fitness um 20:30 Uhr (261-20973) 
LOCATION:vhs, Saal, Katharinenstraße 18, 72072 Tübingen
END:VEVENT
BEGIN:VEVENT
DTSTAMP:20260421T132049
DTSTART;TZID=Europe/Berlin:20260520T203000
DTEND;TZID=Europe/Berlin:20260520T213000
UID:261-20973-20260520T203000@VHSTÜBINGEN
SUMMARY:Zumba® Fitness um 20:30 Uhr (261-20973) 
LOCATION:vhs, Saal, Katharinenstraße 18, 72072 Tübingen
END:VEVENT
BEGIN:VEVENT
DTSTAMP:20260421T132049
DTSTART;TZID=Europe/Berlin:20260610T203000
DTEND;TZID=Europe/Berlin:20260610T213000
UID:261-20973-20260610T203000@VHSTÜBINGEN
SUMMARY:Zumba® Fitness um 20:30 Uhr (261-20973) 
LOCATION:vhs, Saal, Katharinenstraße 18, 72072 Tübingen
END:VEVENT
BEGIN:VEVENT
DTSTAMP:20260421T132049
DTSTART;TZID=Europe/Berlin:20260617T203000
DTEND;TZID=Europe/Berlin:20260617T213000
UID:261-20973-20260617T203000@VHSTÜBINGEN
SUMMARY:Zumba® Fitness um 20:30 Uhr (261-20973) 
LOCATION:vhs, Saal, Katharinenstraße 18, 72072 Tübingen
END:VEVENT
BEGIN:VEVENT
DTSTAMP:20260421T132049
DTSTART;TZID=Europe/Berlin:20260624T203000
DTEND;TZID=Europe/Berlin:20260624T213000
UID:261-20973-20260624T203000@VHSTÜBINGEN
SUMMARY:Zumba® Fitness um 20:30 Uhr (261-20973) 
LOCATION:vhs, Saal, Katharinenstraße 18, 72072 Tübingen
END:VEVENT
BEGIN:VEVENT
DTSTAMP:20260421T132049
DTSTART;TZID=Europe/Berlin:20260701T203000
DTEND;TZID=Europe/Berlin:20260701T213000
UID:261-20973-20260701T203000@VHSTÜBINGEN
SUMMARY:Zumba® Fitness um 20:30 Uhr (261-20973) 
LOCATION:vhs, Saal, Katharinenstraße 18, 72072 Tübingen
END:VEVENT
BEGIN:VEVENT
DTSTAMP:20260421T132049
DTSTART;TZID=Europe/Berlin:20260708T203000
DTEND;TZID=Europe/Berlin:20260708T213000
UID:261-20973-20260708T203000@VHSTÜBINGEN
SUMMARY:Zumba® Fitness um 20:30 Uhr (261-20973) 
LOCATION:vhs, Saal, Katharinenstraße 18, 72072 Tübingen
END:VEVENT
BEGIN:VEVENT
DTSTAMP:20260421T132049
DTSTART;TZID=Europe/Berlin:20260715T203000
DTEND;TZID=Europe/Berlin:20260715T213000
UID:261-20973-20260715T203000@VHSTÜBINGEN
SUMMARY:Zumba® Fitness um 20:30 Uhr (261-20973) 
LOCATION:vhs, Saal, Katharinenstraße 18, 72072 Tübingen
END:VEVENT
BEGIN:VEVENT
DTSTAMP:20260421T132049
DTSTART;TZID=Europe/Berlin:20260722T203000
DTEND;TZID=Europe/Berlin:20260722T213000
UID:261-20973-20260722T203000@VHSTÜBINGEN
SUMMARY:Zumba® Fitness um 20:30 Uhr (261-20973) 
LOCATION:vhs, Saal, Katharinenstraße 18, 72072 Tübingen
END:VEVENT
BEGIN:VEVENT
DTSTAMP:20260421T132049
DTSTART;TZID=Europe/Berlin:20260729T203000
DTEND;TZID=Europe/Berlin:20260729T213000
UID:261-20973-20260729T203000@VHSTÜBINGEN
SUMMARY:Zumba® Fitness um 20:30 Uhr (261-20973) 
LOCATION:vhs, Saal, Katharinenstraße 18, 72072 Tübingen
END:VEVENT
END:VCALENDAR