BEGIN:VCALENDAR
VERSION:2.0
PRODID:https://www.kufer.de/kuferweb / DE
METHOD:PUBLISH
CALSCALE:GREGORIAN
X-WR-TIMEZONE:Europe/Berlin
BEGIN:VTIMEZONE
TZID:Europe/Berlin
X-LIC-LOCATION:Europe/Berlin
BEGIN:DAYLIGHT
TZOFFSETFROM:+0100
TZOFFSETTO:+0200
TZNAME:CEST
DTSTART:19700329T020000
RRULE:FREQ=YEARLY;INTERVAL=1;BYDAY=-1SU;BYMONTH=3
END:DAYLIGHT
BEGIN:STANDARD
TZOFFSETFROM:+0200
TZOFFSETTO:+0100
TZNAME:CET
DTSTART:19701025T030000
RRULE:FREQ=YEARLY;INTERVAL=1;BYDAY=-1SU;BYMONTH=10
END:STANDARD
END:VTIMEZONE
BEGIN:VEVENT
DTSTAMP:20260421T133024
DTSTART;TZID=Europe/Berlin:20260226T200000
DTEND;TZID=Europe/Berlin:20260226T210000
UID:261-20977-20260226T200000@VHSTÜBINGEN
SUMMARY:Zumba® Fitness, high intensity am Donnerstagabend (261-20977) 
LOCATION:vhs, Saal, Katharinenstraße 18, 72072 Tübingen
END:VEVENT
BEGIN:VEVENT
DTSTAMP:20260421T133024
DTSTART;TZID=Europe/Berlin:20260305T200000
DTEND;TZID=Europe/Berlin:20260305T210000
UID:261-20977-20260305T200000@VHSTÜBINGEN
SUMMARY:Zumba® Fitness, high intensity am Donnerstagabend (261-20977) 
LOCATION:vhs, Saal, Katharinenstraße 18, 72072 Tübingen
END:VEVENT
BEGIN:VEVENT
DTSTAMP:20260421T133024
DTSTART;TZID=Europe/Berlin:20260319T200000
DTEND;TZID=Europe/Berlin:20260319T210000
UID:261-20977-20260319T200000@VHSTÜBINGEN
SUMMARY:Zumba® Fitness, high intensity am Donnerstagabend (261-20977) 
LOCATION:vhs, Saal, Katharinenstraße 18, 72072 Tübingen
END:VEVENT
BEGIN:VEVENT
DTSTAMP:20260421T133024
DTSTART;TZID=Europe/Berlin:20260326T200000
DTEND;TZID=Europe/Berlin:20260326T210000
UID:261-20977-20260326T200000@VHSTÜBINGEN
SUMMARY:Zumba® Fitness, high intensity am Donnerstagabend (261-20977) 
LOCATION:vhs, Saal, Katharinenstraße 18, 72072 Tübingen
END:VEVENT
BEGIN:VEVENT
DTSTAMP:20260421T133024
DTSTART;TZID=Europe/Berlin:20260416T200000
DTEND;TZID=Europe/Berlin:20260416T210000
UID:261-20977-20260416T200000@VHSTÜBINGEN
SUMMARY:Zumba® Fitness, high intensity am Donnerstagabend (261-20977) 
LOCATION:vhs, Saal, Katharinenstraße 18, 72072 Tübingen
END:VEVENT
BEGIN:VEVENT
DTSTAMP:20260421T133024
DTSTART;TZID=Europe/Berlin:20260423T200000
DTEND;TZID=Europe/Berlin:20260423T210000
UID:261-20977-20260423T200000@VHSTÜBINGEN
SUMMARY:Zumba® Fitness, high intensity am Donnerstagabend (261-20977) 
LOCATION:vhs, Saal, Katharinenstraße 18, 72072 Tübingen
END:VEVENT
BEGIN:VEVENT
DTSTAMP:20260421T133024
DTSTART;TZID=Europe/Berlin:20260430T200000
DTEND;TZID=Europe/Berlin:20260430T210000
UID:261-20977-20260430T200000@VHSTÜBINGEN
SUMMARY:Zumba® Fitness, high intensity am Donnerstagabend (261-20977) 
LOCATION:vhs, Saal, Katharinenstraße 18, 72072 Tübingen
END:VEVENT
BEGIN:VEVENT
DTSTAMP:20260421T133024
DTSTART;TZID=Europe/Berlin:20260507T200000
DTEND;TZID=Europe/Berlin:20260507T210000
UID:261-20977-20260507T200000@VHSTÜBINGEN
SUMMARY:Zumba® Fitness, high intensity am Donnerstagabend (261-20977) 
LOCATION:vhs, Saal, Katharinenstraße 18, 72072 Tübingen
END:VEVENT
BEGIN:VEVENT
DTSTAMP:20260421T133024
DTSTART;TZID=Europe/Berlin:20260521T200000
DTEND;TZID=Europe/Berlin:20260521T210000
UID:261-20977-20260521T200000@VHSTÜBINGEN
SUMMARY:Zumba® Fitness, high intensity am Donnerstagabend (261-20977) 
LOCATION:vhs, Saal, Katharinenstraße 18, 72072 Tübingen
END:VEVENT
BEGIN:VEVENT
DTSTAMP:20260421T133024
DTSTART;TZID=Europe/Berlin:20260611T200000
DTEND;TZID=Europe/Berlin:20260611T210000
UID:261-20977-20260611T200000@VHSTÜBINGEN
SUMMARY:Zumba® Fitness, high intensity am Donnerstagabend (261-20977) 
LOCATION:vhs, Saal, Katharinenstraße 18, 72072 Tübingen
END:VEVENT
BEGIN:VEVENT
DTSTAMP:20260421T133024
DTSTART;TZID=Europe/Berlin:20260618T200000
DTEND;TZID=Europe/Berlin:20260618T210000
UID:261-20977-20260618T200000@VHSTÜBINGEN
SUMMARY:Zumba® Fitness, high intensity am Donnerstagabend (261-20977) 
LOCATION:vhs, Saal, Katharinenstraße 18, 72072 Tübingen
END:VEVENT
BEGIN:VEVENT
DTSTAMP:20260421T133024
DTSTART;TZID=Europe/Berlin:20260625T200000
DTEND;TZID=Europe/Berlin:20260625T210000
UID:261-20977-20260625T200000@VHSTÜBINGEN
SUMMARY:Zumba® Fitness, high intensity am Donnerstagabend (261-20977) 
LOCATION:vhs, Saal, Katharinenstraße 18, 72072 Tübingen
END:VEVENT
BEGIN:VEVENT
DTSTAMP:20260421T133024
DTSTART;TZID=Europe/Berlin:20260702T200000
DTEND;TZID=Europe/Berlin:20260702T210000
UID:261-20977-20260702T200000@VHSTÜBINGEN
SUMMARY:Zumba® Fitness, high intensity am Donnerstagabend (261-20977) 
LOCATION:vhs, Saal, Katharinenstraße 18, 72072 Tübingen
END:VEVENT
BEGIN:VEVENT
DTSTAMP:20260421T133024
DTSTART;TZID=Europe/Berlin:20260709T200000
DTEND;TZID=Europe/Berlin:20260709T210000
UID:261-20977-20260709T200000@VHSTÜBINGEN
SUMMARY:Zumba® Fitness, high intensity am Donnerstagabend (261-20977) 
LOCATION:vhs, Saal, Katharinenstraße 18, 72072 Tübingen
END:VEVENT
BEGIN:VEVENT
DTSTAMP:20260421T133024
DTSTART;TZID=Europe/Berlin:20260716T200000
DTEND;TZID=Europe/Berlin:20260716T210000
UID:261-20977-20260716T200000@VHSTÜBINGEN
SUMMARY:Zumba® Fitness, high intensity am Donnerstagabend (261-20977) 
LOCATION:vhs, Saal, Katharinenstraße 18, 72072 Tübingen
END:VEVENT
BEGIN:VEVENT
DTSTAMP:20260421T133024
DTSTART;TZID=Europe/Berlin:20260723T200000
DTEND;TZID=Europe/Berlin:20260723T210000
UID:261-20977-20260723T200000@VHSTÜBINGEN
SUMMARY:Zumba® Fitness, high intensity am Donnerstagabend (261-20977) 
LOCATION:vhs, Saal, Katharinenstraße 18, 72072 Tübingen
END:VEVENT
BEGIN:VEVENT
DTSTAMP:20260421T133024
DTSTART;TZID=Europe/Berlin:20260730T200000
DTEND;TZID=Europe/Berlin:20260730T210000
UID:261-20977-20260730T200000@VHSTÜBINGEN
SUMMARY:Zumba® Fitness, high intensity am Donnerstagabend (261-20977) 
LOCATION:vhs, Saal, Katharinenstraße 18, 72072 Tübingen
END:VEVENT
END:VCALENDAR