BEGIN:VCALENDAR
VERSION:2.0
PRODID:https://www.kufer.de/kuferweb / DE
METHOD:PUBLISH
CALSCALE:GREGORIAN
X-WR-TIMEZONE:Europe/Berlin
BEGIN:VTIMEZONE
TZID:Europe/Berlin
X-LIC-LOCATION:Europe/Berlin
BEGIN:DAYLIGHT
TZOFFSETFROM:+0100
TZOFFSETTO:+0200
TZNAME:CEST
DTSTART:19700329T020000
RRULE:FREQ=YEARLY;INTERVAL=1;BYDAY=-1SU;BYMONTH=3
END:DAYLIGHT
BEGIN:STANDARD
TZOFFSETFROM:+0200
TZOFFSETTO:+0100
TZNAME:CET
DTSTART:19701025T030000
RRULE:FREQ=YEARLY;INTERVAL=1;BYDAY=-1SU;BYMONTH=10
END:STANDARD
END:VTIMEZONE
BEGIN:VEVENT
DTSTAMP:20260421T191031
DTSTART;TZID=Europe/Berlin:20260223T093000
DTEND;TZID=Europe/Berlin:20260223T103000
UID:261-20980-20260223T093000@VHSTÜBINGEN
SUMMARY:Zumba® Gold - die leichte Form von Zumba® online um 09:30 Uhr (261-20980) 
LOCATION:vhsonline 201
END:VEVENT
BEGIN:VEVENT
DTSTAMP:20260421T191031
DTSTART;TZID=Europe/Berlin:20260302T093000
DTEND;TZID=Europe/Berlin:20260302T103000
UID:261-20980-20260302T093000@VHSTÜBINGEN
SUMMARY:Zumba® Gold - die leichte Form von Zumba® online um 09:30 Uhr (261-20980) 
LOCATION:vhsonline 201
END:VEVENT
BEGIN:VEVENT
DTSTAMP:20260421T191031
DTSTART;TZID=Europe/Berlin:20260309T093000
DTEND;TZID=Europe/Berlin:20260309T103000
UID:261-20980-20260309T093000@VHSTÜBINGEN
SUMMARY:Zumba® Gold - die leichte Form von Zumba® online um 09:30 Uhr (261-20980) 
LOCATION:vhsonline 201
END:VEVENT
BEGIN:VEVENT
DTSTAMP:20260421T191031
DTSTART;TZID=Europe/Berlin:20260316T093000
DTEND;TZID=Europe/Berlin:20260316T103000
UID:261-20980-20260316T093000@VHSTÜBINGEN
SUMMARY:Zumba® Gold - die leichte Form von Zumba® online um 09:30 Uhr (261-20980) 
LOCATION:vhsonline 201
END:VEVENT
BEGIN:VEVENT
DTSTAMP:20260421T191031
DTSTART;TZID=Europe/Berlin:20260323T093000
DTEND;TZID=Europe/Berlin:20260323T103000
UID:261-20980-20260323T093000@VHSTÜBINGEN
SUMMARY:Zumba® Gold - die leichte Form von Zumba® online um 09:30 Uhr (261-20980) 
LOCATION:vhsonline 201
END:VEVENT
BEGIN:VEVENT
DTSTAMP:20260421T191031
DTSTART;TZID=Europe/Berlin:20260413T093000
DTEND;TZID=Europe/Berlin:20260413T103000
UID:261-20980-20260413T093000@VHSTÜBINGEN
SUMMARY:Zumba® Gold - die leichte Form von Zumba® online um 09:30 Uhr (261-20980) 
LOCATION:vhsonline 201
END:VEVENT
BEGIN:VEVENT
DTSTAMP:20260421T191031
DTSTART;TZID=Europe/Berlin:20260420T093000
DTEND;TZID=Europe/Berlin:20260420T103000
UID:261-20980-20260420T093000@VHSTÜBINGEN
SUMMARY:Zumba® Gold - die leichte Form von Zumba® online um 09:30 Uhr (261-20980) 
LOCATION:vhsonline 201
END:VEVENT
BEGIN:VEVENT
DTSTAMP:20260421T191031
DTSTART;TZID=Europe/Berlin:20260427T093000
DTEND;TZID=Europe/Berlin:20260427T103000
UID:261-20980-20260427T093000@VHSTÜBINGEN
SUMMARY:Zumba® Gold - die leichte Form von Zumba® online um 09:30 Uhr (261-20980) 
LOCATION:vhsonline 201
END:VEVENT
BEGIN:VEVENT
DTSTAMP:20260421T191031
DTSTART;TZID=Europe/Berlin:20260504T093000
DTEND;TZID=Europe/Berlin:20260504T103000
UID:261-20980-20260504T093000@VHSTÜBINGEN
SUMMARY:Zumba® Gold - die leichte Form von Zumba® online um 09:30 Uhr (261-20980) 
LOCATION:vhsonline 201
END:VEVENT
BEGIN:VEVENT
DTSTAMP:20260421T191031
DTSTART;TZID=Europe/Berlin:20260511T093000
DTEND;TZID=Europe/Berlin:20260511T103000
UID:261-20980-20260511T093000@VHSTÜBINGEN
SUMMARY:Zumba® Gold - die leichte Form von Zumba® online um 09:30 Uhr (261-20980) 
LOCATION:vhsonline 201
END:VEVENT
BEGIN:VEVENT
DTSTAMP:20260421T191031
DTSTART;TZID=Europe/Berlin:20260518T093000
DTEND;TZID=Europe/Berlin:20260518T103000
UID:261-20980-20260518T093000@VHSTÜBINGEN
SUMMARY:Zumba® Gold - die leichte Form von Zumba® online um 09:30 Uhr (261-20980) 
LOCATION:vhsonline 201
END:VEVENT
END:VCALENDAR