BEGIN:VCALENDAR
VERSION:2.0
PRODID:https://www.kufer.de/kuferweb / DE
METHOD:PUBLISH
CALSCALE:GREGORIAN
X-WR-TIMEZONE:Europe/Berlin
BEGIN:VTIMEZONE
TZID:Europe/Berlin
X-LIC-LOCATION:Europe/Berlin
BEGIN:DAYLIGHT
TZOFFSETFROM:+0100
TZOFFSETTO:+0200
TZNAME:CEST
DTSTART:19700329T020000
RRULE:FREQ=YEARLY;INTERVAL=1;BYDAY=-1SU;BYMONTH=3
END:DAYLIGHT
BEGIN:STANDARD
TZOFFSETFROM:+0200
TZOFFSETTO:+0100
TZNAME:CET
DTSTART:19701025T030000
RRULE:FREQ=YEARLY;INTERVAL=1;BYDAY=-1SU;BYMONTH=10
END:STANDARD
END:VTIMEZONE
BEGIN:VEVENT
DTSTAMP:20260421T133012
DTSTART;TZID=Europe/Berlin:20260608T093000
DTEND;TZID=Europe/Berlin:20260608T103000
UID:261-20981-20260608T093000@VHSTÜBINGEN
SUMMARY:Zumba® Gold - die leichte Form von Zumba® online um 09:30 Uhr (261-20981) 
LOCATION:vhsonline 201
END:VEVENT
BEGIN:VEVENT
DTSTAMP:20260421T133012
DTSTART;TZID=Europe/Berlin:20260615T093000
DTEND;TZID=Europe/Berlin:20260615T103000
UID:261-20981-20260615T093000@VHSTÜBINGEN
SUMMARY:Zumba® Gold - die leichte Form von Zumba® online um 09:30 Uhr (261-20981) 
LOCATION:vhsonline 201
END:VEVENT
BEGIN:VEVENT
DTSTAMP:20260421T133012
DTSTART;TZID=Europe/Berlin:20260622T093000
DTEND;TZID=Europe/Berlin:20260622T103000
UID:261-20981-20260622T093000@VHSTÜBINGEN
SUMMARY:Zumba® Gold - die leichte Form von Zumba® online um 09:30 Uhr (261-20981) 
LOCATION:vhsonline 201
END:VEVENT
BEGIN:VEVENT
DTSTAMP:20260421T133012
DTSTART;TZID=Europe/Berlin:20260629T093000
DTEND;TZID=Europe/Berlin:20260629T103000
UID:261-20981-20260629T093000@VHSTÜBINGEN
SUMMARY:Zumba® Gold - die leichte Form von Zumba® online um 09:30 Uhr (261-20981) 
LOCATION:vhsonline 201
END:VEVENT
BEGIN:VEVENT
DTSTAMP:20260421T133012
DTSTART;TZID=Europe/Berlin:20260706T093000
DTEND;TZID=Europe/Berlin:20260706T103000
UID:261-20981-20260706T093000@VHSTÜBINGEN
SUMMARY:Zumba® Gold - die leichte Form von Zumba® online um 09:30 Uhr (261-20981) 
LOCATION:vhsonline 201
END:VEVENT
BEGIN:VEVENT
DTSTAMP:20260421T133012
DTSTART;TZID=Europe/Berlin:20260713T093000
DTEND;TZID=Europe/Berlin:20260713T103000
UID:261-20981-20260713T093000@VHSTÜBINGEN
SUMMARY:Zumba® Gold - die leichte Form von Zumba® online um 09:30 Uhr (261-20981) 
LOCATION:vhsonline 201
END:VEVENT
BEGIN:VEVENT
DTSTAMP:20260421T133012
DTSTART;TZID=Europe/Berlin:20260720T093000
DTEND;TZID=Europe/Berlin:20260720T103000
UID:261-20981-20260720T093000@VHSTÜBINGEN
SUMMARY:Zumba® Gold - die leichte Form von Zumba® online um 09:30 Uhr (261-20981) 
LOCATION:vhsonline 201
END:VEVENT
END:VCALENDAR