BEGIN:VCALENDAR
VERSION:2.0
PRODID:https://www.kufer.de/kuferweb / DE
METHOD:PUBLISH
CALSCALE:GREGORIAN
X-WR-TIMEZONE:Europe/Berlin
BEGIN:VTIMEZONE
TZID:Europe/Berlin
X-LIC-LOCATION:Europe/Berlin
BEGIN:DAYLIGHT
TZOFFSETFROM:+0100
TZOFFSETTO:+0200
TZNAME:CEST
DTSTART:19700329T020000
RRULE:FREQ=YEARLY;INTERVAL=1;BYDAY=-1SU;BYMONTH=3
END:DAYLIGHT
BEGIN:STANDARD
TZOFFSETFROM:+0200
TZOFFSETTO:+0100
TZNAME:CET
DTSTART:19701025T030000
RRULE:FREQ=YEARLY;INTERVAL=1;BYDAY=-1SU;BYMONTH=10
END:STANDARD
END:VTIMEZONE
BEGIN:VEVENT
DTSTAMP:20260421T192842
DTSTART;TZID=Europe/Berlin:20260610T170000
DTEND;TZID=Europe/Berlin:20260610T180000
UID:261-20983-20260610T170000@VHSTÜBINGEN
SUMMARY:Zumba® Gold - die leichte Form von Zumba® online um 17:00 Uhr (261-20983) 
LOCATION:vhsonline 201
END:VEVENT
BEGIN:VEVENT
DTSTAMP:20260421T192842
DTSTART;TZID=Europe/Berlin:20260617T170000
DTEND;TZID=Europe/Berlin:20260617T180000
UID:261-20983-20260617T170000@VHSTÜBINGEN
SUMMARY:Zumba® Gold - die leichte Form von Zumba® online um 17:00 Uhr (261-20983) 
LOCATION:vhsonline 201
END:VEVENT
BEGIN:VEVENT
DTSTAMP:20260421T192842
DTSTART;TZID=Europe/Berlin:20260624T170000
DTEND;TZID=Europe/Berlin:20260624T180000
UID:261-20983-20260624T170000@VHSTÜBINGEN
SUMMARY:Zumba® Gold - die leichte Form von Zumba® online um 17:00 Uhr (261-20983) 
LOCATION:vhsonline 201
END:VEVENT
BEGIN:VEVENT
DTSTAMP:20260421T192842
DTSTART;TZID=Europe/Berlin:20260701T170000
DTEND;TZID=Europe/Berlin:20260701T180000
UID:261-20983-20260701T170000@VHSTÜBINGEN
SUMMARY:Zumba® Gold - die leichte Form von Zumba® online um 17:00 Uhr (261-20983) 
LOCATION:vhsonline 201
END:VEVENT
BEGIN:VEVENT
DTSTAMP:20260421T192842
DTSTART;TZID=Europe/Berlin:20260708T170000
DTEND;TZID=Europe/Berlin:20260708T180000
UID:261-20983-20260708T170000@VHSTÜBINGEN
SUMMARY:Zumba® Gold - die leichte Form von Zumba® online um 17:00 Uhr (261-20983) 
LOCATION:vhsonline 201
END:VEVENT
BEGIN:VEVENT
DTSTAMP:20260421T192842
DTSTART;TZID=Europe/Berlin:20260715T170000
DTEND;TZID=Europe/Berlin:20260715T180000
UID:261-20983-20260715T170000@VHSTÜBINGEN
SUMMARY:Zumba® Gold - die leichte Form von Zumba® online um 17:00 Uhr (261-20983) 
LOCATION:vhsonline 201
END:VEVENT
BEGIN:VEVENT
DTSTAMP:20260421T192842
DTSTART;TZID=Europe/Berlin:20260722T170000
DTEND;TZID=Europe/Berlin:20260722T180000
UID:261-20983-20260722T170000@VHSTÜBINGEN
SUMMARY:Zumba® Gold - die leichte Form von Zumba® online um 17:00 Uhr (261-20983) 
LOCATION:vhsonline 201
END:VEVENT
END:VCALENDAR