BEGIN:VCALENDAR
VERSION:2.0
PRODID:https://www.kufer.de/kuferweb / DE
METHOD:PUBLISH
CALSCALE:GREGORIAN
X-WR-TIMEZONE:Europe/Berlin
BEGIN:VTIMEZONE
TZID:Europe/Berlin
X-LIC-LOCATION:Europe/Berlin
BEGIN:DAYLIGHT
TZOFFSETFROM:+0100
TZOFFSETTO:+0200
TZNAME:CEST
DTSTART:19700329T020000
RRULE:FREQ=YEARLY;INTERVAL=1;BYDAY=-1SU;BYMONTH=3
END:DAYLIGHT
BEGIN:STANDARD
TZOFFSETFROM:+0200
TZOFFSETTO:+0100
TZNAME:CET
DTSTART:19701025T030000
RRULE:FREQ=YEARLY;INTERVAL=1;BYDAY=-1SU;BYMONTH=10
END:STANDARD
END:VTIMEZONE
BEGIN:VEVENT
DTSTAMP:20260421T191032
DTSTART;TZID=Europe/Berlin:20260616T190000
DTEND;TZID=Europe/Berlin:20260616T203000
UID:261-30003V-20260616T190000@VHSTÜBINGEN
DESCRIPTION:Vortragsbestuhlung Rednerpult Induktionsanlage mobilem Mikro mit Mikroständer Tisch hinten mit Programmheften und Flyern 1 x Wasser, 1 x Glas Rollup vorne Beamer und Leinwand Pointer Beamerzubehör Anmeldekarten 20 Laptop Whiteboard
SUMMARY:Hörverlust im Alter Ärztlicher Vortrag (261-30003V) 
LOCATION:vhs, Saal, Katharinenstraße 18, 72072 Tübingen
END:VEVENT
END:VCALENDAR