BEGIN:VCALENDAR
VERSION:2.0
PRODID:https://www.kufer.de/kuferweb / DE
METHOD:PUBLISH
CALSCALE:GREGORIAN
X-WR-TIMEZONE:Europe/Berlin
BEGIN:VTIMEZONE
TZID:Europe/Berlin
X-LIC-LOCATION:Europe/Berlin
BEGIN:DAYLIGHT
TZOFFSETFROM:+0100
TZOFFSETTO:+0200
TZNAME:CEST
DTSTART:19700329T020000
RRULE:FREQ=YEARLY;INTERVAL=1;BYDAY=-1SU;BYMONTH=3
END:DAYLIGHT
BEGIN:STANDARD
TZOFFSETFROM:+0200
TZOFFSETTO:+0100
TZNAME:CET
DTSTART:19701025T030000
RRULE:FREQ=YEARLY;INTERVAL=1;BYDAY=-1SU;BYMONTH=10
END:STANDARD
END:VTIMEZONE
BEGIN:VEVENT
DTSTAMP:20260421T141003
DTSTART;TZID=Europe/Berlin:20260428T123000
DTEND;TZID=Europe/Berlin:20260428T130000
UID:261-31131-20260428T123000@VHSTÜBINGEN
SUMMARY:Achtsame Mittagspause - online Achtsamkeit und Entspannung für zwischendurch (261-31131) 
LOCATION:vhsonline 301
END:VEVENT
BEGIN:VEVENT
DTSTAMP:20260421T141003
DTSTART;TZID=Europe/Berlin:20260505T123000
DTEND;TZID=Europe/Berlin:20260505T130000
UID:261-31131-20260505T123000@VHSTÜBINGEN
SUMMARY:Achtsame Mittagspause - online Achtsamkeit und Entspannung für zwischendurch (261-31131) 
LOCATION:vhsonline 301
END:VEVENT
BEGIN:VEVENT
DTSTAMP:20260421T141003
DTSTART;TZID=Europe/Berlin:20260512T123000
DTEND;TZID=Europe/Berlin:20260512T130000
UID:261-31131-20260512T123000@VHSTÜBINGEN
SUMMARY:Achtsame Mittagspause - online Achtsamkeit und Entspannung für zwischendurch (261-31131) 
LOCATION:vhsonline 301
END:VEVENT
BEGIN:VEVENT
DTSTAMP:20260421T141003
DTSTART;TZID=Europe/Berlin:20260519T123000
DTEND;TZID=Europe/Berlin:20260519T130000
UID:261-31131-20260519T123000@VHSTÜBINGEN
SUMMARY:Achtsame Mittagspause - online Achtsamkeit und Entspannung für zwischendurch (261-31131) 
LOCATION:vhsonline 301
END:VEVENT
BEGIN:VEVENT
DTSTAMP:20260421T141003
DTSTART;TZID=Europe/Berlin:20260609T123000
DTEND;TZID=Europe/Berlin:20260609T130000
UID:261-31131-20260609T123000@VHSTÜBINGEN
SUMMARY:Achtsame Mittagspause - online Achtsamkeit und Entspannung für zwischendurch (261-31131) 
LOCATION:vhsonline 301
END:VEVENT
BEGIN:VEVENT
DTSTAMP:20260421T141003
DTSTART;TZID=Europe/Berlin:20260616T123000
DTEND;TZID=Europe/Berlin:20260616T130000
UID:261-31131-20260616T123000@VHSTÜBINGEN
SUMMARY:Achtsame Mittagspause - online Achtsamkeit und Entspannung für zwischendurch (261-31131) 
LOCATION:vhsonline 301
END:VEVENT
END:VCALENDAR