BEGIN:VCALENDAR
VERSION:2.0
PRODID:https://www.kufer.de/kuferweb / DE
METHOD:PUBLISH
CALSCALE:GREGORIAN
X-WR-TIMEZONE:Europe/Berlin
BEGIN:VTIMEZONE
TZID:Europe/Berlin
X-LIC-LOCATION:Europe/Berlin
BEGIN:DAYLIGHT
TZOFFSETFROM:+0100
TZOFFSETTO:+0200
TZNAME:CEST
DTSTART:19700329T020000
RRULE:FREQ=YEARLY;INTERVAL=1;BYDAY=-1SU;BYMONTH=3
END:DAYLIGHT
BEGIN:STANDARD
TZOFFSETFROM:+0200
TZOFFSETTO:+0100
TZNAME:CET
DTSTART:19701025T030000
RRULE:FREQ=YEARLY;INTERVAL=1;BYDAY=-1SU;BYMONTH=10
END:STANDARD
END:VTIMEZONE
BEGIN:VEVENT
DTSTAMP:20260421T191037
DTSTART;TZID=Europe/Berlin:20260610T181500
DTEND;TZID=Europe/Berlin:20260610T194500
UID:261-31410Z-20260610T181500@VHSTÜBINGEN
SUMMARY:Hatha Yoga  für Fortgeschrittene (261-31410Z) 
LOCATION:vhs, Gesundheitsraum 310, Katharinenstraße 18, 72072 Tübingen
END:VEVENT
BEGIN:VEVENT
DTSTAMP:20260421T191037
DTSTART;TZID=Europe/Berlin:20260617T181500
DTEND;TZID=Europe/Berlin:20260617T194500
UID:261-31410Z-20260617T181500@VHSTÜBINGEN
SUMMARY:Hatha Yoga  für Fortgeschrittene (261-31410Z) 
LOCATION:vhs, Gesundheitsraum 310, Katharinenstraße 18, 72072 Tübingen
END:VEVENT
BEGIN:VEVENT
DTSTAMP:20260421T191037
DTSTART;TZID=Europe/Berlin:20260624T181500
DTEND;TZID=Europe/Berlin:20260624T194500
UID:261-31410Z-20260624T181500@VHSTÜBINGEN
SUMMARY:Hatha Yoga  für Fortgeschrittene (261-31410Z) 
LOCATION:vhs, Gesundheitsraum 310, Katharinenstraße 18, 72072 Tübingen
END:VEVENT
BEGIN:VEVENT
DTSTAMP:20260421T191037
DTSTART;TZID=Europe/Berlin:20260701T181500
DTEND;TZID=Europe/Berlin:20260701T194500
UID:261-31410Z-20260701T181500@VHSTÜBINGEN
SUMMARY:Hatha Yoga  für Fortgeschrittene (261-31410Z) 
LOCATION:vhs, Gesundheitsraum 310, Katharinenstraße 18, 72072 Tübingen
END:VEVENT
BEGIN:VEVENT
DTSTAMP:20260421T191037
DTSTART;TZID=Europe/Berlin:20260708T181500
DTEND;TZID=Europe/Berlin:20260708T194500
UID:261-31410Z-20260708T181500@VHSTÜBINGEN
SUMMARY:Hatha Yoga  für Fortgeschrittene (261-31410Z) 
LOCATION:vhs, Gesundheitsraum 310, Katharinenstraße 18, 72072 Tübingen
END:VEVENT
BEGIN:VEVENT
DTSTAMP:20260421T191037
DTSTART;TZID=Europe/Berlin:20260715T181500
DTEND;TZID=Europe/Berlin:20260715T194500
UID:261-31410Z-20260715T181500@VHSTÜBINGEN
SUMMARY:Hatha Yoga  für Fortgeschrittene (261-31410Z) 
LOCATION:vhs, Gesundheitsraum 310, Katharinenstraße 18, 72072 Tübingen
END:VEVENT
BEGIN:VEVENT
DTSTAMP:20260421T191037
DTSTART;TZID=Europe/Berlin:20260722T181500
DTEND;TZID=Europe/Berlin:20260722T194500
UID:261-31410Z-20260722T181500@VHSTÜBINGEN
SUMMARY:Hatha Yoga  für Fortgeschrittene (261-31410Z) 
LOCATION:vhs, Gesundheitsraum 310, Katharinenstraße 18, 72072 Tübingen
END:VEVENT
BEGIN:VEVENT
DTSTAMP:20260421T191037
DTSTART;TZID=Europe/Berlin:20260729T181500
DTEND;TZID=Europe/Berlin:20260729T194500
UID:261-31410Z-20260729T181500@VHSTÜBINGEN
SUMMARY:Hatha Yoga  für Fortgeschrittene (261-31410Z) 
LOCATION:vhs, Gesundheitsraum 310, Katharinenstraße 18, 72072 Tübingen
END:VEVENT
END:VCALENDAR