BEGIN:VCALENDAR
VERSION:2.0
PRODID:https://www.kufer.de/kuferweb / DE
METHOD:PUBLISH
CALSCALE:GREGORIAN
X-WR-TIMEZONE:Europe/Berlin
BEGIN:VTIMEZONE
TZID:Europe/Berlin
X-LIC-LOCATION:Europe/Berlin
BEGIN:DAYLIGHT
TZOFFSETFROM:+0100
TZOFFSETTO:+0200
TZNAME:CEST
DTSTART:19700329T020000
RRULE:FREQ=YEARLY;INTERVAL=1;BYDAY=-1SU;BYMONTH=3
END:DAYLIGHT
BEGIN:STANDARD
TZOFFSETFROM:+0200
TZOFFSETTO:+0100
TZNAME:CET
DTSTART:19701025T030000
RRULE:FREQ=YEARLY;INTERVAL=1;BYDAY=-1SU;BYMONTH=10
END:STANDARD
END:VTIMEZONE
BEGIN:VEVENT
DTSTAMP:20260421T173059
DTSTART;TZID=Europe/Berlin:20260512T190000
DTEND;TZID=Europe/Berlin:20260512T200000
UID:261-31414Z-20260512T190000@VHSTÜBINGEN
SUMMARY:Hatha Yoga für Anfänger/-innen und Fortgeschrittene (261-31414Z) 
LOCATION:11 Sporthalle Philosophenweg, Gymnastikraum, Philosophenweg 70, 72076 Tübingen
END:VEVENT
BEGIN:VEVENT
DTSTAMP:20260421T173059
DTSTART;TZID=Europe/Berlin:20260519T190000
DTEND;TZID=Europe/Berlin:20260519T200000
UID:261-31414Z-20260519T190000@VHSTÜBINGEN
SUMMARY:Hatha Yoga für Anfänger/-innen und Fortgeschrittene (261-31414Z) 
LOCATION:11 Sporthalle Philosophenweg, Gymnastikraum, Philosophenweg 70, 72076 Tübingen
END:VEVENT
BEGIN:VEVENT
DTSTAMP:20260421T173059
DTSTART;TZID=Europe/Berlin:20260609T190000
DTEND;TZID=Europe/Berlin:20260609T200000
UID:261-31414Z-20260609T190000@VHSTÜBINGEN
SUMMARY:Hatha Yoga für Anfänger/-innen und Fortgeschrittene (261-31414Z) 
LOCATION:11 Sporthalle Philosophenweg, Gymnastikraum, Philosophenweg 70, 72076 Tübingen
END:VEVENT
BEGIN:VEVENT
DTSTAMP:20260421T173059
DTSTART;TZID=Europe/Berlin:20260616T190000
DTEND;TZID=Europe/Berlin:20260616T200000
UID:261-31414Z-20260616T190000@VHSTÜBINGEN
SUMMARY:Hatha Yoga für Anfänger/-innen und Fortgeschrittene (261-31414Z) 
LOCATION:11 Sporthalle Philosophenweg, Gymnastikraum, Philosophenweg 70, 72076 Tübingen
END:VEVENT
BEGIN:VEVENT
DTSTAMP:20260421T173059
DTSTART;TZID=Europe/Berlin:20260623T190000
DTEND;TZID=Europe/Berlin:20260623T200000
UID:261-31414Z-20260623T190000@VHSTÜBINGEN
SUMMARY:Hatha Yoga für Anfänger/-innen und Fortgeschrittene (261-31414Z) 
LOCATION:11 Sporthalle Philosophenweg, Gymnastikraum, Philosophenweg 70, 72076 Tübingen
END:VEVENT
BEGIN:VEVENT
DTSTAMP:20260421T173059
DTSTART;TZID=Europe/Berlin:20260630T190000
DTEND;TZID=Europe/Berlin:20260630T200000
UID:261-31414Z-20260630T190000@VHSTÜBINGEN
SUMMARY:Hatha Yoga für Anfänger/-innen und Fortgeschrittene (261-31414Z) 
LOCATION:11 Sporthalle Philosophenweg, Gymnastikraum, Philosophenweg 70, 72076 Tübingen
END:VEVENT
BEGIN:VEVENT
DTSTAMP:20260421T173059
DTSTART;TZID=Europe/Berlin:20260707T190000
DTEND;TZID=Europe/Berlin:20260707T200000
UID:261-31414Z-20260707T190000@VHSTÜBINGEN
SUMMARY:Hatha Yoga für Anfänger/-innen und Fortgeschrittene (261-31414Z) 
LOCATION:11 Sporthalle Philosophenweg, Gymnastikraum, Philosophenweg 70, 72076 Tübingen
END:VEVENT
BEGIN:VEVENT
DTSTAMP:20260421T173059
DTSTART;TZID=Europe/Berlin:20260714T190000
DTEND;TZID=Europe/Berlin:20260714T200000
UID:261-31414Z-20260714T190000@VHSTÜBINGEN
SUMMARY:Hatha Yoga für Anfänger/-innen und Fortgeschrittene (261-31414Z) 
LOCATION:11 Sporthalle Philosophenweg, Gymnastikraum, Philosophenweg 70, 72076 Tübingen
END:VEVENT
BEGIN:VEVENT
DTSTAMP:20260421T173059
DTSTART;TZID=Europe/Berlin:20260721T190000
DTEND;TZID=Europe/Berlin:20260721T200000
UID:261-31414Z-20260721T190000@VHSTÜBINGEN
SUMMARY:Hatha Yoga für Anfänger/-innen und Fortgeschrittene (261-31414Z) 
LOCATION:11 Sporthalle Philosophenweg, Gymnastikraum, Philosophenweg 70, 72076 Tübingen
END:VEVENT
BEGIN:VEVENT
DTSTAMP:20260421T173059
DTSTART;TZID=Europe/Berlin:20260728T190000
DTEND;TZID=Europe/Berlin:20260728T200000
UID:261-31414Z-20260728T190000@VHSTÜBINGEN
SUMMARY:Hatha Yoga für Anfänger/-innen und Fortgeschrittene (261-31414Z) 
LOCATION:11 Sporthalle Philosophenweg, Gymnastikraum, Philosophenweg 70, 72076 Tübingen
END:VEVENT
END:VCALENDAR