BEGIN:VCALENDAR
VERSION:2.0
PRODID:https://www.kufer.de/kuferweb / DE
METHOD:PUBLISH
CALSCALE:GREGORIAN
X-WR-TIMEZONE:Europe/Berlin
BEGIN:VTIMEZONE
TZID:Europe/Berlin
X-LIC-LOCATION:Europe/Berlin
BEGIN:DAYLIGHT
TZOFFSETFROM:+0100
TZOFFSETTO:+0200
TZNAME:CEST
DTSTART:19700329T020000
RRULE:FREQ=YEARLY;INTERVAL=1;BYDAY=-1SU;BYMONTH=3
END:DAYLIGHT
BEGIN:STANDARD
TZOFFSETFROM:+0200
TZOFFSETTO:+0100
TZNAME:CET
DTSTART:19701025T030000
RRULE:FREQ=YEARLY;INTERVAL=1;BYDAY=-1SU;BYMONTH=10
END:STANDARD
END:VTIMEZONE
BEGIN:VEVENT
DTSTAMP:20260421T173128
DTSTART;TZID=Europe/Berlin:20260602T104500
DTEND;TZID=Europe/Berlin:20260602T121500
UID:261-31425Z-20260602T104500@VHSTÜBINGEN
SUMMARY:Hatha Yoga  50 plus für Teilnehmende mit Vorerfahrungen (261-31425Z) 
LOCATION:vhs, Gesundheitsraum 310, Katharinenstraße 18, 72072 Tübingen
END:VEVENT
BEGIN:VEVENT
DTSTAMP:20260421T173128
DTSTART;TZID=Europe/Berlin:20260609T104500
DTEND;TZID=Europe/Berlin:20260609T121500
UID:261-31425Z-20260609T104500@VHSTÜBINGEN
SUMMARY:Hatha Yoga  50 plus für Teilnehmende mit Vorerfahrungen (261-31425Z) 
LOCATION:vhs, Gesundheitsraum 310, Katharinenstraße 18, 72072 Tübingen
END:VEVENT
BEGIN:VEVENT
DTSTAMP:20260421T173128
DTSTART;TZID=Europe/Berlin:20260616T104500
DTEND;TZID=Europe/Berlin:20260616T121500
UID:261-31425Z-20260616T104500@VHSTÜBINGEN
SUMMARY:Hatha Yoga  50 plus für Teilnehmende mit Vorerfahrungen (261-31425Z) 
LOCATION:vhs, Gesundheitsraum 310, Katharinenstraße 18, 72072 Tübingen
END:VEVENT
BEGIN:VEVENT
DTSTAMP:20260421T173128
DTSTART;TZID=Europe/Berlin:20260623T104500
DTEND;TZID=Europe/Berlin:20260623T121500
UID:261-31425Z-20260623T104500@VHSTÜBINGEN
SUMMARY:Hatha Yoga  50 plus für Teilnehmende mit Vorerfahrungen (261-31425Z) 
LOCATION:vhs, Gesundheitsraum 310, Katharinenstraße 18, 72072 Tübingen
END:VEVENT
BEGIN:VEVENT
DTSTAMP:20260421T173128
DTSTART;TZID=Europe/Berlin:20260630T104500
DTEND;TZID=Europe/Berlin:20260630T121500
UID:261-31425Z-20260630T104500@VHSTÜBINGEN
SUMMARY:Hatha Yoga  50 plus für Teilnehmende mit Vorerfahrungen (261-31425Z) 
LOCATION:vhs, Gesundheitsraum 310, Katharinenstraße 18, 72072 Tübingen
END:VEVENT
END:VCALENDAR