BEGIN:VCALENDAR
VERSION:2.0
PRODID:https://www.kufer.de/kuferweb / DE
METHOD:PUBLISH
CALSCALE:GREGORIAN
X-WR-TIMEZONE:Europe/Berlin
BEGIN:VTIMEZONE
TZID:Europe/Berlin
X-LIC-LOCATION:Europe/Berlin
BEGIN:DAYLIGHT
TZOFFSETFROM:+0100
TZOFFSETTO:+0200
TZNAME:CEST
DTSTART:19700329T020000
RRULE:FREQ=YEARLY;INTERVAL=1;BYDAY=-1SU;BYMONTH=3
END:DAYLIGHT
BEGIN:STANDARD
TZOFFSETFROM:+0200
TZOFFSETTO:+0100
TZNAME:CET
DTSTART:19701025T030000
RRULE:FREQ=YEARLY;INTERVAL=1;BYDAY=-1SU;BYMONTH=10
END:STANDARD
END:VTIMEZONE
BEGIN:VEVENT
DTSTAMP:20260421T132102
DTSTART;TZID=Europe/Berlin:20260225T173000
DTEND;TZID=Europe/Berlin:20260225T183000
UID:261-31427-20260225T173000@VHSTÜBINGEN
SUMMARY:Hatha Yoga in Derendingen (261-31427) 
LOCATION:20 Mathilde-Weber-Schule, Gymnastikraum A4, Primus-Truber-Str. 39, 72072 Tübingen
END:VEVENT
BEGIN:VEVENT
DTSTAMP:20260421T132102
DTSTART;TZID=Europe/Berlin:20260304T173000
DTEND;TZID=Europe/Berlin:20260304T183000
UID:261-31427-20260304T173000@VHSTÜBINGEN
SUMMARY:Hatha Yoga in Derendingen (261-31427) 
LOCATION:20 Mathilde-Weber-Schule, Gymnastikraum A4, Primus-Truber-Str. 39, 72072 Tübingen
END:VEVENT
BEGIN:VEVENT
DTSTAMP:20260421T132102
DTSTART;TZID=Europe/Berlin:20260311T173000
DTEND;TZID=Europe/Berlin:20260311T183000
UID:261-31427-20260311T173000@VHSTÜBINGEN
SUMMARY:Hatha Yoga in Derendingen (261-31427) 
LOCATION:20 Mathilde-Weber-Schule, Gymnastikraum A4, Primus-Truber-Str. 39, 72072 Tübingen
END:VEVENT
BEGIN:VEVENT
DTSTAMP:20260421T132102
DTSTART;TZID=Europe/Berlin:20260318T173000
DTEND;TZID=Europe/Berlin:20260318T183000
UID:261-31427-20260318T173000@VHSTÜBINGEN
SUMMARY:Hatha Yoga in Derendingen (261-31427) 
LOCATION:20 Mathilde-Weber-Schule, Gymnastikraum A4, Primus-Truber-Str. 39, 72072 Tübingen
END:VEVENT
BEGIN:VEVENT
DTSTAMP:20260421T132102
DTSTART;TZID=Europe/Berlin:20260325T173000
DTEND;TZID=Europe/Berlin:20260325T183000
UID:261-31427-20260325T173000@VHSTÜBINGEN
SUMMARY:Hatha Yoga in Derendingen (261-31427) 
LOCATION:20 Mathilde-Weber-Schule, Gymnastikraum A4, Primus-Truber-Str. 39, 72072 Tübingen
END:VEVENT
BEGIN:VEVENT
DTSTAMP:20260421T132102
DTSTART;TZID=Europe/Berlin:20260415T173000
DTEND;TZID=Europe/Berlin:20260415T183000
UID:261-31427-20260415T173000@VHSTÜBINGEN
SUMMARY:Hatha Yoga in Derendingen (261-31427) 
LOCATION:20 Mathilde-Weber-Schule, Gymnastikraum A4, Primus-Truber-Str. 39, 72072 Tübingen
END:VEVENT
BEGIN:VEVENT
DTSTAMP:20260421T132102
DTSTART;TZID=Europe/Berlin:20260422T173000
DTEND;TZID=Europe/Berlin:20260422T183000
UID:261-31427-20260422T173000@VHSTÜBINGEN
SUMMARY:Hatha Yoga in Derendingen (261-31427) 
LOCATION:20 Mathilde-Weber-Schule, Gymnastikraum A4, Primus-Truber-Str. 39, 72072 Tübingen
END:VEVENT
BEGIN:VEVENT
DTSTAMP:20260421T132102
DTSTART;TZID=Europe/Berlin:20260429T173000
DTEND;TZID=Europe/Berlin:20260429T183000
UID:261-31427-20260429T173000@VHSTÜBINGEN
SUMMARY:Hatha Yoga in Derendingen (261-31427) 
LOCATION:20 Mathilde-Weber-Schule, Gymnastikraum A4, Primus-Truber-Str. 39, 72072 Tübingen
END:VEVENT
END:VCALENDAR