BEGIN:VCALENDAR
VERSION:2.0
PRODID:https://www.kufer.de/kuferweb / DE
METHOD:PUBLISH
CALSCALE:GREGORIAN
X-WR-TIMEZONE:Europe/Berlin
BEGIN:VTIMEZONE
TZID:Europe/Berlin
X-LIC-LOCATION:Europe/Berlin
BEGIN:DAYLIGHT
TZOFFSETFROM:+0100
TZOFFSETTO:+0200
TZNAME:CEST
DTSTART:19700329T020000
RRULE:FREQ=YEARLY;INTERVAL=1;BYDAY=-1SU;BYMONTH=3
END:DAYLIGHT
BEGIN:STANDARD
TZOFFSETFROM:+0200
TZOFFSETTO:+0100
TZNAME:CET
DTSTART:19701025T030000
RRULE:FREQ=YEARLY;INTERVAL=1;BYDAY=-1SU;BYMONTH=10
END:STANDARD
END:VTIMEZONE
BEGIN:VEVENT
DTSTAMP:20260421T132103
DTSTART;TZID=Europe/Berlin:20260227T090000
DTEND;TZID=Europe/Berlin:20260227T103000
UID:261-31430-20260227T090000@VHSTÜBINGEN
SUMMARY:Hatha Yoga Sanftes Morgen Yoga für Anfänger/-innen und Fortgeschrittene. (261-31430) 
LOCATION:vhs, Gesundheitsraum 313, Katharinenstraße 18, 72072 Tübingen
END:VEVENT
BEGIN:VEVENT
DTSTAMP:20260421T132103
DTSTART;TZID=Europe/Berlin:20260306T090000
DTEND;TZID=Europe/Berlin:20260306T103000
UID:261-31430-20260306T090000@VHSTÜBINGEN
SUMMARY:Hatha Yoga Sanftes Morgen Yoga für Anfänger/-innen und Fortgeschrittene. (261-31430) 
LOCATION:vhs, Gesundheitsraum 313, Katharinenstraße 18, 72072 Tübingen
END:VEVENT
BEGIN:VEVENT
DTSTAMP:20260421T132103
DTSTART;TZID=Europe/Berlin:20260313T090000
DTEND;TZID=Europe/Berlin:20260313T103000
UID:261-31430-20260313T090000@VHSTÜBINGEN
SUMMARY:Hatha Yoga Sanftes Morgen Yoga für Anfänger/-innen und Fortgeschrittene. (261-31430) 
LOCATION:vhs, Gesundheitsraum 313, Katharinenstraße 18, 72072 Tübingen
END:VEVENT
BEGIN:VEVENT
DTSTAMP:20260421T132103
DTSTART;TZID=Europe/Berlin:20260320T090000
DTEND;TZID=Europe/Berlin:20260320T103000
UID:261-31430-20260320T090000@VHSTÜBINGEN
SUMMARY:Hatha Yoga Sanftes Morgen Yoga für Anfänger/-innen und Fortgeschrittene. (261-31430) 
LOCATION:vhs, Gesundheitsraum 313, Katharinenstraße 18, 72072 Tübingen
END:VEVENT
BEGIN:VEVENT
DTSTAMP:20260421T132103
DTSTART;TZID=Europe/Berlin:20260327T090000
DTEND;TZID=Europe/Berlin:20260327T103000
UID:261-31430-20260327T090000@VHSTÜBINGEN
SUMMARY:Hatha Yoga Sanftes Morgen Yoga für Anfänger/-innen und Fortgeschrittene. (261-31430) 
LOCATION:vhs, Gesundheitsraum 313, Katharinenstraße 18, 72072 Tübingen
END:VEVENT
BEGIN:VEVENT
DTSTAMP:20260421T132103
DTSTART;TZID=Europe/Berlin:20260410T090000
DTEND;TZID=Europe/Berlin:20260410T103000
UID:261-31430-20260410T090000@VHSTÜBINGEN
SUMMARY:Hatha Yoga Sanftes Morgen Yoga für Anfänger/-innen und Fortgeschrittene. (261-31430) 
LOCATION:vhs, Gesundheitsraum 313, Katharinenstraße 18, 72072 Tübingen
END:VEVENT
BEGIN:VEVENT
DTSTAMP:20260421T132103
DTSTART;TZID=Europe/Berlin:20260424T090000
DTEND;TZID=Europe/Berlin:20260424T103000
UID:261-31430-20260424T090000@VHSTÜBINGEN
SUMMARY:Hatha Yoga Sanftes Morgen Yoga für Anfänger/-innen und Fortgeschrittene. (261-31430) 
LOCATION:vhs, Gesundheitsraum 313, Katharinenstraße 18, 72072 Tübingen
END:VEVENT
BEGIN:VEVENT
DTSTAMP:20260421T132103
DTSTART;TZID=Europe/Berlin:20260508T090000
DTEND;TZID=Europe/Berlin:20260508T103000
UID:261-31430-20260508T090000@VHSTÜBINGEN
SUMMARY:Hatha Yoga Sanftes Morgen Yoga für Anfänger/-innen und Fortgeschrittene. (261-31430) 
LOCATION:vhs, Gesundheitsraum 313, Katharinenstraße 18, 72072 Tübingen
END:VEVENT
BEGIN:VEVENT
DTSTAMP:20260421T132103
DTSTART;TZID=Europe/Berlin:20260515T090000
DTEND;TZID=Europe/Berlin:20260515T103000
UID:261-31430-20260515T090000@VHSTÜBINGEN
SUMMARY:Hatha Yoga Sanftes Morgen Yoga für Anfänger/-innen und Fortgeschrittene. (261-31430) 
LOCATION:vhs, Gesundheitsraum 313, Katharinenstraße 18, 72072 Tübingen
END:VEVENT
BEGIN:VEVENT
DTSTAMP:20260421T132103
DTSTART;TZID=Europe/Berlin:20260522T090000
DTEND;TZID=Europe/Berlin:20260522T103000
UID:261-31430-20260522T090000@VHSTÜBINGEN
SUMMARY:Hatha Yoga Sanftes Morgen Yoga für Anfänger/-innen und Fortgeschrittene. (261-31430) 
LOCATION:vhs, Gesundheitsraum 313, Katharinenstraße 18, 72072 Tübingen
END:VEVENT
BEGIN:VEVENT
DTSTAMP:20260421T132103
DTSTART;TZID=Europe/Berlin:20260529T090000
DTEND;TZID=Europe/Berlin:20260529T103000
UID:261-31430-20260529T090000@VHSTÜBINGEN
SUMMARY:Hatha Yoga Sanftes Morgen Yoga für Anfänger/-innen und Fortgeschrittene. (261-31430) 
LOCATION:vhs, Gesundheitsraum 313, Katharinenstraße 18, 72072 Tübingen
END:VEVENT
BEGIN:VEVENT
DTSTAMP:20260421T132103
DTSTART;TZID=Europe/Berlin:20260612T090000
DTEND;TZID=Europe/Berlin:20260612T103000
UID:261-31430-20260612T090000@VHSTÜBINGEN
SUMMARY:Hatha Yoga Sanftes Morgen Yoga für Anfänger/-innen und Fortgeschrittene. (261-31430) 
LOCATION:vhs, Gesundheitsraum 313, Katharinenstraße 18, 72072 Tübingen
END:VEVENT
BEGIN:VEVENT
DTSTAMP:20260421T132103
DTSTART;TZID=Europe/Berlin:20260619T090000
DTEND;TZID=Europe/Berlin:20260619T103000
UID:261-31430-20260619T090000@VHSTÜBINGEN
SUMMARY:Hatha Yoga Sanftes Morgen Yoga für Anfänger/-innen und Fortgeschrittene. (261-31430) 
LOCATION:vhs, Gesundheitsraum 313, Katharinenstraße 18, 72072 Tübingen
END:VEVENT
BEGIN:VEVENT
DTSTAMP:20260421T132103
DTSTART;TZID=Europe/Berlin:20260626T090000
DTEND;TZID=Europe/Berlin:20260626T103000
UID:261-31430-20260626T090000@VHSTÜBINGEN
SUMMARY:Hatha Yoga Sanftes Morgen Yoga für Anfänger/-innen und Fortgeschrittene. (261-31430) 
LOCATION:vhs, Gesundheitsraum 313, Katharinenstraße 18, 72072 Tübingen
END:VEVENT
BEGIN:VEVENT
DTSTAMP:20260421T132103
DTSTART;TZID=Europe/Berlin:20260703T090000
DTEND;TZID=Europe/Berlin:20260703T103000
UID:261-31430-20260703T090000@VHSTÜBINGEN
SUMMARY:Hatha Yoga Sanftes Morgen Yoga für Anfänger/-innen und Fortgeschrittene. (261-31430) 
LOCATION:vhs, Gesundheitsraum 313, Katharinenstraße 18, 72072 Tübingen
END:VEVENT
BEGIN:VEVENT
DTSTAMP:20260421T132103
DTSTART;TZID=Europe/Berlin:20260710T090000
DTEND;TZID=Europe/Berlin:20260710T103000
UID:261-31430-20260710T090000@VHSTÜBINGEN
SUMMARY:Hatha Yoga Sanftes Morgen Yoga für Anfänger/-innen und Fortgeschrittene. (261-31430) 
LOCATION:vhs, Gesundheitsraum 313, Katharinenstraße 18, 72072 Tübingen
END:VEVENT
BEGIN:VEVENT
DTSTAMP:20260421T132103
DTSTART;TZID=Europe/Berlin:20260717T090000
DTEND;TZID=Europe/Berlin:20260717T103000
UID:261-31430-20260717T090000@VHSTÜBINGEN
SUMMARY:Hatha Yoga Sanftes Morgen Yoga für Anfänger/-innen und Fortgeschrittene. (261-31430) 
LOCATION:vhs, Gesundheitsraum 313, Katharinenstraße 18, 72072 Tübingen
END:VEVENT
BEGIN:VEVENT
DTSTAMP:20260421T132103
DTSTART;TZID=Europe/Berlin:20260724T090000
DTEND;TZID=Europe/Berlin:20260724T103000
UID:261-31430-20260724T090000@VHSTÜBINGEN
SUMMARY:Hatha Yoga Sanftes Morgen Yoga für Anfänger/-innen und Fortgeschrittene. (261-31430) 
LOCATION:vhs, Gesundheitsraum 313, Katharinenstraße 18, 72072 Tübingen
END:VEVENT
END:VCALENDAR