BEGIN:VCALENDAR
VERSION:2.0
PRODID:https://www.kufer.de/kuferweb / DE
METHOD:PUBLISH
CALSCALE:GREGORIAN
X-WR-TIMEZONE:Europe/Berlin
BEGIN:VTIMEZONE
TZID:Europe/Berlin
X-LIC-LOCATION:Europe/Berlin
BEGIN:DAYLIGHT
TZOFFSETFROM:+0100
TZOFFSETTO:+0200
TZNAME:CEST
DTSTART:19700329T020000
RRULE:FREQ=YEARLY;INTERVAL=1;BYDAY=-1SU;BYMONTH=3
END:DAYLIGHT
BEGIN:STANDARD
TZOFFSETFROM:+0200
TZOFFSETTO:+0100
TZNAME:CET
DTSTART:19701025T030000
RRULE:FREQ=YEARLY;INTERVAL=1;BYDAY=-1SU;BYMONTH=10
END:STANDARD
END:VTIMEZONE
BEGIN:VEVENT
DTSTAMP:20260421T132130
DTSTART;TZID=Europe/Berlin:20260820T080000
DTEND;TZID=Europe/Berlin:20260820T090000
UID:261-31432Z-20260820T080000@VHSTÜBINGEN
SUMMARY:Hatha Yoga Guten Morgen Yoga für Anfänger/-innen und Fortgeschrittene (261-31432Z) 
LOCATION:vhs, Gesundheitsraum 313, Katharinenstraße 18, 72072 Tübingen
END:VEVENT
BEGIN:VEVENT
DTSTAMP:20260421T132130
DTSTART;TZID=Europe/Berlin:20260827T080000
DTEND;TZID=Europe/Berlin:20260827T090000
UID:261-31432Z-20260827T080000@VHSTÜBINGEN
SUMMARY:Hatha Yoga Guten Morgen Yoga für Anfänger/-innen und Fortgeschrittene (261-31432Z) 
LOCATION:vhs, Gesundheitsraum 313, Katharinenstraße 18, 72072 Tübingen
END:VEVENT
BEGIN:VEVENT
DTSTAMP:20260421T132130
DTSTART;TZID=Europe/Berlin:20260903T080000
DTEND;TZID=Europe/Berlin:20260903T090000
UID:261-31432Z-20260903T080000@VHSTÜBINGEN
SUMMARY:Hatha Yoga Guten Morgen Yoga für Anfänger/-innen und Fortgeschrittene (261-31432Z) 
LOCATION:vhs, Gesundheitsraum 313, Katharinenstraße 18, 72072 Tübingen
END:VEVENT
BEGIN:VEVENT
DTSTAMP:20260421T132130
DTSTART;TZID=Europe/Berlin:20260910T080000
DTEND;TZID=Europe/Berlin:20260910T090000
UID:261-31432Z-20260910T080000@VHSTÜBINGEN
SUMMARY:Hatha Yoga Guten Morgen Yoga für Anfänger/-innen und Fortgeschrittene (261-31432Z) 
LOCATION:vhs, Gesundheitsraum 313, Katharinenstraße 18, 72072 Tübingen
END:VEVENT
BEGIN:VEVENT
DTSTAMP:20260421T132130
DTSTART;TZID=Europe/Berlin:20260917T080000
DTEND;TZID=Europe/Berlin:20260917T090000
UID:261-31432Z-20260917T080000@VHSTÜBINGEN
SUMMARY:Hatha Yoga Guten Morgen Yoga für Anfänger/-innen und Fortgeschrittene (261-31432Z) 
LOCATION:vhs, Gesundheitsraum 313, Katharinenstraße 18, 72072 Tübingen
END:VEVENT
END:VCALENDAR