BEGIN:VCALENDAR
VERSION:2.0
PRODID:https://www.kufer.de/kuferweb / DE
METHOD:PUBLISH
CALSCALE:GREGORIAN
X-WR-TIMEZONE:Europe/Berlin
BEGIN:VTIMEZONE
TZID:Europe/Berlin
X-LIC-LOCATION:Europe/Berlin
BEGIN:DAYLIGHT
TZOFFSETFROM:+0100
TZOFFSETTO:+0200
TZNAME:CEST
DTSTART:19700329T020000
RRULE:FREQ=YEARLY;INTERVAL=1;BYDAY=-1SU;BYMONTH=3
END:DAYLIGHT
BEGIN:STANDARD
TZOFFSETFROM:+0200
TZOFFSETTO:+0100
TZNAME:CET
DTSTART:19701025T030000
RRULE:FREQ=YEARLY;INTERVAL=1;BYDAY=-1SU;BYMONTH=10
END:STANDARD
END:VTIMEZONE
BEGIN:VEVENT
DTSTAMP:20260421T173010
DTSTART;TZID=Europe/Berlin:20260609T104500
DTEND;TZID=Europe/Berlin:20260609T114500
UID:261-31446-20260609T104500@VHSTÜBINGEN
SUMMARY:Rückenyoga 60 Minutenkurs für Anfänger/-innen und Fortgeschrittene (261-31446) 
LOCATION:vhs, Gesundheitsraum 313, Katharinenstraße 18, 72072 Tübingen
END:VEVENT
BEGIN:VEVENT
DTSTAMP:20260421T173010
DTSTART;TZID=Europe/Berlin:20260616T104500
DTEND;TZID=Europe/Berlin:20260616T114500
UID:261-31446-20260616T104500@VHSTÜBINGEN
SUMMARY:Rückenyoga 60 Minutenkurs für Anfänger/-innen und Fortgeschrittene (261-31446) 
LOCATION:vhs, Gesundheitsraum 313, Katharinenstraße 18, 72072 Tübingen
END:VEVENT
BEGIN:VEVENT
DTSTAMP:20260421T173010
DTSTART;TZID=Europe/Berlin:20260623T104500
DTEND;TZID=Europe/Berlin:20260623T114500
UID:261-31446-20260623T104500@VHSTÜBINGEN
SUMMARY:Rückenyoga 60 Minutenkurs für Anfänger/-innen und Fortgeschrittene (261-31446) 
LOCATION:vhs, Gesundheitsraum 313, Katharinenstraße 18, 72072 Tübingen
END:VEVENT
BEGIN:VEVENT
DTSTAMP:20260421T173010
DTSTART;TZID=Europe/Berlin:20260630T104500
DTEND;TZID=Europe/Berlin:20260630T114500
UID:261-31446-20260630T104500@VHSTÜBINGEN
SUMMARY:Rückenyoga 60 Minutenkurs für Anfänger/-innen und Fortgeschrittene (261-31446) 
LOCATION:vhs, Gesundheitsraum 313, Katharinenstraße 18, 72072 Tübingen
END:VEVENT
BEGIN:VEVENT
DTSTAMP:20260421T173010
DTSTART;TZID=Europe/Berlin:20260707T104500
DTEND;TZID=Europe/Berlin:20260707T114500
UID:261-31446-20260707T104500@VHSTÜBINGEN
SUMMARY:Rückenyoga 60 Minutenkurs für Anfänger/-innen und Fortgeschrittene (261-31446) 
LOCATION:vhs, Gesundheitsraum 313, Katharinenstraße 18, 72072 Tübingen
END:VEVENT
BEGIN:VEVENT
DTSTAMP:20260421T173010
DTSTART;TZID=Europe/Berlin:20260714T104500
DTEND;TZID=Europe/Berlin:20260714T114500
UID:261-31446-20260714T104500@VHSTÜBINGEN
SUMMARY:Rückenyoga 60 Minutenkurs für Anfänger/-innen und Fortgeschrittene (261-31446) 
LOCATION:vhs, Gesundheitsraum 313, Katharinenstraße 18, 72072 Tübingen
END:VEVENT
BEGIN:VEVENT
DTSTAMP:20260421T173010
DTSTART;TZID=Europe/Berlin:20260721T104500
DTEND;TZID=Europe/Berlin:20260721T114500
UID:261-31446-20260721T104500@VHSTÜBINGEN
SUMMARY:Rückenyoga 60 Minutenkurs für Anfänger/-innen und Fortgeschrittene (261-31446) 
LOCATION:vhs, Gesundheitsraum 313, Katharinenstraße 18, 72072 Tübingen
END:VEVENT
BEGIN:VEVENT
DTSTAMP:20260421T173010
DTSTART;TZID=Europe/Berlin:20260728T104500
DTEND;TZID=Europe/Berlin:20260728T114500
UID:261-31446-20260728T104500@VHSTÜBINGEN
SUMMARY:Rückenyoga 60 Minutenkurs für Anfänger/-innen und Fortgeschrittene (261-31446) 
LOCATION:vhs, Gesundheitsraum 313, Katharinenstraße 18, 72072 Tübingen
END:VEVENT
END:VCALENDAR