BEGIN:VCALENDAR
VERSION:2.0
PRODID:https://www.kufer.de/kuferweb / DE
METHOD:PUBLISH
CALSCALE:GREGORIAN
X-WR-TIMEZONE:Europe/Berlin
BEGIN:VTIMEZONE
TZID:Europe/Berlin
X-LIC-LOCATION:Europe/Berlin
BEGIN:DAYLIGHT
TZOFFSETFROM:+0100
TZOFFSETTO:+0200
TZNAME:CEST
DTSTART:19700329T020000
RRULE:FREQ=YEARLY;INTERVAL=1;BYDAY=-1SU;BYMONTH=3
END:DAYLIGHT
BEGIN:STANDARD
TZOFFSETFROM:+0200
TZOFFSETTO:+0100
TZNAME:CET
DTSTART:19701025T030000
RRULE:FREQ=YEARLY;INTERVAL=1;BYDAY=-1SU;BYMONTH=10
END:STANDARD
END:VTIMEZONE
BEGIN:VEVENT
DTSTAMP:20260423T134326
DTSTART;TZID=Europe/Berlin:20260226T091500
DTEND;TZID=Europe/Berlin:20260226T101500
UID:261-31455-20260226T091500@VHSTÜBINGEN
SUMMARY:Hatha Yoga 60 plus für Anfänger/-innen und Fortgeschrittene (261-31455) 
LOCATION:vhs, Gesundheitsraum 313, Katharinenstraße 18, 72072 Tübingen
END:VEVENT
BEGIN:VEVENT
DTSTAMP:20260423T134326
DTSTART;TZID=Europe/Berlin:20260305T091500
DTEND;TZID=Europe/Berlin:20260305T101500
UID:261-31455-20260305T091500@VHSTÜBINGEN
SUMMARY:Hatha Yoga 60 plus für Anfänger/-innen und Fortgeschrittene (261-31455) 
LOCATION:vhs, Gesundheitsraum 313, Katharinenstraße 18, 72072 Tübingen
END:VEVENT
BEGIN:VEVENT
DTSTAMP:20260423T134326
DTSTART;TZID=Europe/Berlin:20260312T091500
DTEND;TZID=Europe/Berlin:20260312T101500
UID:261-31455-20260312T091500@VHSTÜBINGEN
SUMMARY:Hatha Yoga 60 plus für Anfänger/-innen und Fortgeschrittene (261-31455) 
LOCATION:vhs, Gesundheitsraum 313, Katharinenstraße 18, 72072 Tübingen
END:VEVENT
BEGIN:VEVENT
DTSTAMP:20260423T134326
DTSTART;TZID=Europe/Berlin:20260319T091500
DTEND;TZID=Europe/Berlin:20260319T101500
UID:261-31455-20260319T091500@VHSTÜBINGEN
SUMMARY:Hatha Yoga 60 plus für Anfänger/-innen und Fortgeschrittene (261-31455) 
LOCATION:vhs, Gesundheitsraum 313, Katharinenstraße 18, 72072 Tübingen
END:VEVENT
BEGIN:VEVENT
DTSTAMP:20260423T134326
DTSTART;TZID=Europe/Berlin:20260326T091500
DTEND;TZID=Europe/Berlin:20260326T101500
UID:261-31455-20260326T091500@VHSTÜBINGEN
SUMMARY:Hatha Yoga 60 plus für Anfänger/-innen und Fortgeschrittene (261-31455) 
LOCATION:vhs, Gesundheitsraum 313, Katharinenstraße 18, 72072 Tübingen
END:VEVENT
BEGIN:VEVENT
DTSTAMP:20260423T134326
DTSTART;TZID=Europe/Berlin:20260409T091500
DTEND;TZID=Europe/Berlin:20260409T101500
UID:261-31455-20260409T091500@VHSTÜBINGEN
SUMMARY:Hatha Yoga 60 plus für Anfänger/-innen und Fortgeschrittene (261-31455) 
LOCATION:vhs, Gesundheitsraum 313, Katharinenstraße 18, 72072 Tübingen
END:VEVENT
BEGIN:VEVENT
DTSTAMP:20260423T134326
DTSTART;TZID=Europe/Berlin:20260423T091500
DTEND;TZID=Europe/Berlin:20260423T101500
UID:261-31455-20260423T091500@VHSTÜBINGEN
SUMMARY:Hatha Yoga 60 plus für Anfänger/-innen und Fortgeschrittene (261-31455) 
LOCATION:vhs, Gesundheitsraum 313, Katharinenstraße 18, 72072 Tübingen
END:VEVENT
BEGIN:VEVENT
DTSTAMP:20260423T134326
DTSTART;TZID=Europe/Berlin:20260430T091500
DTEND;TZID=Europe/Berlin:20260430T101500
UID:261-31455-20260430T091500@VHSTÜBINGEN
SUMMARY:Hatha Yoga 60 plus für Anfänger/-innen und Fortgeschrittene (261-31455) 
LOCATION:vhs, Gesundheitsraum 313, Katharinenstraße 18, 72072 Tübingen
END:VEVENT
BEGIN:VEVENT
DTSTAMP:20260423T134326
DTSTART;TZID=Europe/Berlin:20260507T091500
DTEND;TZID=Europe/Berlin:20260507T101500
UID:261-31455-20260507T091500@VHSTÜBINGEN
SUMMARY:Hatha Yoga 60 plus für Anfänger/-innen und Fortgeschrittene (261-31455) 
LOCATION:vhs, Gesundheitsraum 313, Katharinenstraße 18, 72072 Tübingen
END:VEVENT
BEGIN:VEVENT
DTSTAMP:20260423T134326
DTSTART;TZID=Europe/Berlin:20260521T091500
DTEND;TZID=Europe/Berlin:20260521T101500
UID:261-31455-20260521T091500@VHSTÜBINGEN
SUMMARY:Hatha Yoga 60 plus für Anfänger/-innen und Fortgeschrittene (261-31455) 
LOCATION:vhs, Gesundheitsraum 313, Katharinenstraße 18, 72072 Tübingen
END:VEVENT
BEGIN:VEVENT
DTSTAMP:20260423T134326
DTSTART;TZID=Europe/Berlin:20260528T091500
DTEND;TZID=Europe/Berlin:20260528T101500
UID:261-31455-20260528T091500@VHSTÜBINGEN
SUMMARY:Hatha Yoga 60 plus für Anfänger/-innen und Fortgeschrittene (261-31455) 
LOCATION:vhs, Gesundheitsraum 313, Katharinenstraße 18, 72072 Tübingen
END:VEVENT
BEGIN:VEVENT
DTSTAMP:20260423T134326
DTSTART;TZID=Europe/Berlin:20260611T091500
DTEND;TZID=Europe/Berlin:20260611T101500
UID:261-31455-20260611T091500@VHSTÜBINGEN
SUMMARY:Hatha Yoga 60 plus für Anfänger/-innen und Fortgeschrittene (261-31455) 
LOCATION:vhs, Gesundheitsraum 313, Katharinenstraße 18, 72072 Tübingen
END:VEVENT
BEGIN:VEVENT
DTSTAMP:20260423T134326
DTSTART;TZID=Europe/Berlin:20260618T091500
DTEND;TZID=Europe/Berlin:20260618T101500
UID:261-31455-20260618T091500@VHSTÜBINGEN
SUMMARY:Hatha Yoga 60 plus für Anfänger/-innen und Fortgeschrittene (261-31455) 
LOCATION:vhs, Gesundheitsraum 313, Katharinenstraße 18, 72072 Tübingen
END:VEVENT
BEGIN:VEVENT
DTSTAMP:20260423T134326
DTSTART;TZID=Europe/Berlin:20260625T091500
DTEND;TZID=Europe/Berlin:20260625T101500
UID:261-31455-20260625T091500@VHSTÜBINGEN
SUMMARY:Hatha Yoga 60 plus für Anfänger/-innen und Fortgeschrittene (261-31455) 
LOCATION:vhs, Gesundheitsraum 313, Katharinenstraße 18, 72072 Tübingen
END:VEVENT
BEGIN:VEVENT
DTSTAMP:20260423T134326
DTSTART;TZID=Europe/Berlin:20260702T091500
DTEND;TZID=Europe/Berlin:20260702T101500
UID:261-31455-20260702T091500@VHSTÜBINGEN
SUMMARY:Hatha Yoga 60 plus für Anfänger/-innen und Fortgeschrittene (261-31455) 
LOCATION:vhs, Gesundheitsraum 313, Katharinenstraße 18, 72072 Tübingen
END:VEVENT
BEGIN:VEVENT
DTSTAMP:20260423T134326
DTSTART;TZID=Europe/Berlin:20260709T091500
DTEND;TZID=Europe/Berlin:20260709T101500
UID:261-31455-20260709T091500@VHSTÜBINGEN
SUMMARY:Hatha Yoga 60 plus für Anfänger/-innen und Fortgeschrittene (261-31455) 
LOCATION:vhs, Gesundheitsraum 313, Katharinenstraße 18, 72072 Tübingen
END:VEVENT
BEGIN:VEVENT
DTSTAMP:20260423T134326
DTSTART;TZID=Europe/Berlin:20260716T091500
DTEND;TZID=Europe/Berlin:20260716T101500
UID:261-31455-20260716T091500@VHSTÜBINGEN
SUMMARY:Hatha Yoga 60 plus für Anfänger/-innen und Fortgeschrittene (261-31455) 
LOCATION:vhs, Gesundheitsraum 313, Katharinenstraße 18, 72072 Tübingen
END:VEVENT
BEGIN:VEVENT
DTSTAMP:20260423T134326
DTSTART;TZID=Europe/Berlin:20260723T091500
DTEND;TZID=Europe/Berlin:20260723T101500
UID:261-31455-20260723T091500@VHSTÜBINGEN
SUMMARY:Hatha Yoga 60 plus für Anfänger/-innen und Fortgeschrittene (261-31455) 
LOCATION:vhs, Gesundheitsraum 313, Katharinenstraße 18, 72072 Tübingen
END:VEVENT
END:VCALENDAR