BEGIN:VCALENDAR
VERSION:2.0
PRODID:https://www.kufer.de/kuferweb / DE
METHOD:PUBLISH
CALSCALE:GREGORIAN
X-WR-TIMEZONE:Europe/Berlin
BEGIN:VTIMEZONE
TZID:Europe/Berlin
X-LIC-LOCATION:Europe/Berlin
BEGIN:DAYLIGHT
TZOFFSETFROM:+0100
TZOFFSETTO:+0200
TZNAME:CEST
DTSTART:19700329T020000
RRULE:FREQ=YEARLY;INTERVAL=1;BYDAY=-1SU;BYMONTH=3
END:DAYLIGHT
BEGIN:STANDARD
TZOFFSETFROM:+0200
TZOFFSETTO:+0100
TZNAME:CET
DTSTART:19701025T030000
RRULE:FREQ=YEARLY;INTERVAL=1;BYDAY=-1SU;BYMONTH=10
END:STANDARD
END:VTIMEZONE
BEGIN:VEVENT
DTSTAMP:20260421T132057
DTSTART;TZID=Europe/Berlin:20260820T091500
DTEND;TZID=Europe/Berlin:20260820T101500
UID:261-31455Z-20260820T091500@VHSTÜBINGEN
SUMMARY:Hatha Yoga 60 plus für Anfänger/-innen und Fortgeschrittene (261-31455Z) 
LOCATION:vhs, Gesundheitsraum 313, Katharinenstraße 18, 72072 Tübingen
END:VEVENT
BEGIN:VEVENT
DTSTAMP:20260421T132057
DTSTART;TZID=Europe/Berlin:20260827T091500
DTEND;TZID=Europe/Berlin:20260827T101500
UID:261-31455Z-20260827T091500@VHSTÜBINGEN
SUMMARY:Hatha Yoga 60 plus für Anfänger/-innen und Fortgeschrittene (261-31455Z) 
LOCATION:vhs, Gesundheitsraum 313, Katharinenstraße 18, 72072 Tübingen
END:VEVENT
BEGIN:VEVENT
DTSTAMP:20260421T132057
DTSTART;TZID=Europe/Berlin:20260903T091500
DTEND;TZID=Europe/Berlin:20260903T101500
UID:261-31455Z-20260903T091500@VHSTÜBINGEN
SUMMARY:Hatha Yoga 60 plus für Anfänger/-innen und Fortgeschrittene (261-31455Z) 
LOCATION:vhs, Gesundheitsraum 313, Katharinenstraße 18, 72072 Tübingen
END:VEVENT
BEGIN:VEVENT
DTSTAMP:20260421T132057
DTSTART;TZID=Europe/Berlin:20260910T091500
DTEND;TZID=Europe/Berlin:20260910T101500
UID:261-31455Z-20260910T091500@VHSTÜBINGEN
SUMMARY:Hatha Yoga 60 plus für Anfänger/-innen und Fortgeschrittene (261-31455Z) 
LOCATION:vhs, Gesundheitsraum 313, Katharinenstraße 18, 72072 Tübingen
END:VEVENT
BEGIN:VEVENT
DTSTAMP:20260421T132057
DTSTART;TZID=Europe/Berlin:20260917T091500
DTEND;TZID=Europe/Berlin:20260917T101500
UID:261-31455Z-20260917T091500@VHSTÜBINGEN
SUMMARY:Hatha Yoga 60 plus für Anfänger/-innen und Fortgeschrittene (261-31455Z) 
LOCATION:vhs, Gesundheitsraum 313, Katharinenstraße 18, 72072 Tübingen
END:VEVENT
END:VCALENDAR