BEGIN:VCALENDAR
VERSION:2.0
PRODID:https://www.kufer.de/kuferweb / DE
METHOD:PUBLISH
CALSCALE:GREGORIAN
X-WR-TIMEZONE:Europe/Berlin
BEGIN:VTIMEZONE
TZID:Europe/Berlin
X-LIC-LOCATION:Europe/Berlin
BEGIN:DAYLIGHT
TZOFFSETFROM:+0100
TZOFFSETTO:+0200
TZNAME:CEST
DTSTART:19700329T020000
RRULE:FREQ=YEARLY;INTERVAL=1;BYDAY=-1SU;BYMONTH=3
END:DAYLIGHT
BEGIN:STANDARD
TZOFFSETFROM:+0200
TZOFFSETTO:+0100
TZNAME:CET
DTSTART:19701025T030000
RRULE:FREQ=YEARLY;INTERVAL=1;BYDAY=-1SU;BYMONTH=10
END:STANDARD
END:VTIMEZONE
BEGIN:VEVENT
DTSTAMP:20260421T184728
DTSTART;TZID=Europe/Berlin:20260513T151500
DTEND;TZID=Europe/Berlin:20260513T161500
UID:261-31466-20260513T151500@VHSTÜBINGEN
SUMMARY:Yoga für Teenager ab 15 Jahre (261-31466) 
LOCATION:vhs, Gesundheitsraum 313, Katharinenstraße 18, 72072 Tübingen
END:VEVENT
BEGIN:VEVENT
DTSTAMP:20260421T184728
DTSTART;TZID=Europe/Berlin:20260520T151500
DTEND;TZID=Europe/Berlin:20260520T161500
UID:261-31466-20260520T151500@VHSTÜBINGEN
SUMMARY:Yoga für Teenager ab 15 Jahre (261-31466) 
LOCATION:vhs, Gesundheitsraum 313, Katharinenstraße 18, 72072 Tübingen
END:VEVENT
BEGIN:VEVENT
DTSTAMP:20260421T184728
DTSTART;TZID=Europe/Berlin:20260610T151500
DTEND;TZID=Europe/Berlin:20260610T161500
UID:261-31466-20260610T151500@VHSTÜBINGEN
SUMMARY:Yoga für Teenager ab 15 Jahre (261-31466) 
LOCATION:vhs, Gesundheitsraum 313, Katharinenstraße 18, 72072 Tübingen
END:VEVENT
BEGIN:VEVENT
DTSTAMP:20260421T184728
DTSTART;TZID=Europe/Berlin:20260617T151500
DTEND;TZID=Europe/Berlin:20260617T161500
UID:261-31466-20260617T151500@VHSTÜBINGEN
SUMMARY:Yoga für Teenager ab 15 Jahre (261-31466) 
LOCATION:vhs, Gesundheitsraum 313, Katharinenstraße 18, 72072 Tübingen
END:VEVENT
BEGIN:VEVENT
DTSTAMP:20260421T184728
DTSTART;TZID=Europe/Berlin:20260624T151500
DTEND;TZID=Europe/Berlin:20260624T161500
UID:261-31466-20260624T151500@VHSTÜBINGEN
SUMMARY:Yoga für Teenager ab 15 Jahre (261-31466) 
LOCATION:vhs, Gesundheitsraum 313, Katharinenstraße 18, 72072 Tübingen
END:VEVENT
BEGIN:VEVENT
DTSTAMP:20260421T184728
DTSTART;TZID=Europe/Berlin:20260701T151500
DTEND;TZID=Europe/Berlin:20260701T161500
UID:261-31466-20260701T151500@VHSTÜBINGEN
SUMMARY:Yoga für Teenager ab 15 Jahre (261-31466) 
LOCATION:vhs, Gesundheitsraum 313, Katharinenstraße 18, 72072 Tübingen
END:VEVENT
BEGIN:VEVENT
DTSTAMP:20260421T184728
DTSTART;TZID=Europe/Berlin:20260708T151500
DTEND;TZID=Europe/Berlin:20260708T161500
UID:261-31466-20260708T151500@VHSTÜBINGEN
SUMMARY:Yoga für Teenager ab 15 Jahre (261-31466) 
LOCATION:vhs, Gesundheitsraum 313, Katharinenstraße 18, 72072 Tübingen
END:VEVENT
BEGIN:VEVENT
DTSTAMP:20260421T184728
DTSTART;TZID=Europe/Berlin:20260715T151500
DTEND;TZID=Europe/Berlin:20260715T161500
UID:261-31466-20260715T151500@VHSTÜBINGEN
SUMMARY:Yoga für Teenager ab 15 Jahre (261-31466) 
LOCATION:vhs, Gesundheitsraum 313, Katharinenstraße 18, 72072 Tübingen
END:VEVENT
END:VCALENDAR