BEGIN:VCALENDAR
VERSION:2.0
PRODID:https://www.kufer.de/kuferweb / DE
METHOD:PUBLISH
CALSCALE:GREGORIAN
X-WR-TIMEZONE:Europe/Berlin
BEGIN:VTIMEZONE
TZID:Europe/Berlin
X-LIC-LOCATION:Europe/Berlin
BEGIN:DAYLIGHT
TZOFFSETFROM:+0100
TZOFFSETTO:+0200
TZNAME:CEST
DTSTART:19700329T020000
RRULE:FREQ=YEARLY;INTERVAL=1;BYDAY=-1SU;BYMONTH=3
END:DAYLIGHT
BEGIN:STANDARD
TZOFFSETFROM:+0200
TZOFFSETTO:+0100
TZNAME:CET
DTSTART:19701025T030000
RRULE:FREQ=YEARLY;INTERVAL=1;BYDAY=-1SU;BYMONTH=10
END:STANDARD
END:VTIMEZONE
BEGIN:VEVENT
DTSTAMP:20260423T132644
DTSTART;TZID=Europe/Berlin:20260309T103000
DTEND;TZID=Europe/Berlin:20260309T113000
UID:261-32001-20260309T103000@VHSTÜBINGEN
SUMMARY:Gymnastik 60 plus für Anfänger/-innen und Fortgeschrittene (261-32001) 
LOCATION:vhs, Gesundheitsraum 014, Katharinenstraße 18, 72072 Tübingen
END:VEVENT
BEGIN:VEVENT
DTSTAMP:20260423T132644
DTSTART;TZID=Europe/Berlin:20260316T103000
DTEND;TZID=Europe/Berlin:20260316T113000
UID:261-32001-20260316T103000@VHSTÜBINGEN
SUMMARY:Gymnastik 60 plus für Anfänger/-innen und Fortgeschrittene (261-32001) 
LOCATION:vhs, Gesundheitsraum 014, Katharinenstraße 18, 72072 Tübingen
END:VEVENT
BEGIN:VEVENT
DTSTAMP:20260423T132644
DTSTART;TZID=Europe/Berlin:20260323T103000
DTEND;TZID=Europe/Berlin:20260323T113000
UID:261-32001-20260323T103000@VHSTÜBINGEN
SUMMARY:Gymnastik 60 plus für Anfänger/-innen und Fortgeschrittene (261-32001) 
LOCATION:vhs, Gesundheitsraum 014, Katharinenstraße 18, 72072 Tübingen
END:VEVENT
BEGIN:VEVENT
DTSTAMP:20260423T132644
DTSTART;TZID=Europe/Berlin:20260413T103000
DTEND;TZID=Europe/Berlin:20260413T113000
UID:261-32001-20260413T103000@VHSTÜBINGEN
SUMMARY:Gymnastik 60 plus für Anfänger/-innen und Fortgeschrittene (261-32001) 
LOCATION:vhs, Gesundheitsraum 014, Katharinenstraße 18, 72072 Tübingen
END:VEVENT
BEGIN:VEVENT
DTSTAMP:20260423T132644
DTSTART;TZID=Europe/Berlin:20260420T103000
DTEND;TZID=Europe/Berlin:20260420T113000
UID:261-32001-20260420T103000@VHSTÜBINGEN
SUMMARY:Gymnastik 60 plus für Anfänger/-innen und Fortgeschrittene (261-32001) 
LOCATION:vhs, Gesundheitsraum 014, Katharinenstraße 18, 72072 Tübingen
END:VEVENT
BEGIN:VEVENT
DTSTAMP:20260423T132644
DTSTART;TZID=Europe/Berlin:20260427T103000
DTEND;TZID=Europe/Berlin:20260427T113000
UID:261-32001-20260427T103000@VHSTÜBINGEN
SUMMARY:Gymnastik 60 plus für Anfänger/-innen und Fortgeschrittene (261-32001) 
LOCATION:vhs, Gesundheitsraum 014, Katharinenstraße 18, 72072 Tübingen
END:VEVENT
BEGIN:VEVENT
DTSTAMP:20260423T132644
DTSTART;TZID=Europe/Berlin:20260504T103000
DTEND;TZID=Europe/Berlin:20260504T113000
UID:261-32001-20260504T103000@VHSTÜBINGEN
SUMMARY:Gymnastik 60 plus für Anfänger/-innen und Fortgeschrittene (261-32001) 
LOCATION:vhs, Gesundheitsraum 014, Katharinenstraße 18, 72072 Tübingen
END:VEVENT
BEGIN:VEVENT
DTSTAMP:20260423T132644
DTSTART;TZID=Europe/Berlin:20260511T103000
DTEND;TZID=Europe/Berlin:20260511T113000
UID:261-32001-20260511T103000@VHSTÜBINGEN
SUMMARY:Gymnastik 60 plus für Anfänger/-innen und Fortgeschrittene (261-32001) 
LOCATION:vhs, Gesundheitsraum 014, Katharinenstraße 18, 72072 Tübingen
END:VEVENT
BEGIN:VEVENT
DTSTAMP:20260423T132644
DTSTART;TZID=Europe/Berlin:20260518T103000
DTEND;TZID=Europe/Berlin:20260518T113000
UID:261-32001-20260518T103000@VHSTÜBINGEN
SUMMARY:Gymnastik 60 plus für Anfänger/-innen und Fortgeschrittene (261-32001) 
LOCATION:vhs, Gesundheitsraum 014, Katharinenstraße 18, 72072 Tübingen
END:VEVENT
BEGIN:VEVENT
DTSTAMP:20260423T132644
DTSTART;TZID=Europe/Berlin:20260608T103000
DTEND;TZID=Europe/Berlin:20260608T113000
UID:261-32001-20260608T103000@VHSTÜBINGEN
SUMMARY:Gymnastik 60 plus für Anfänger/-innen und Fortgeschrittene (261-32001) 
LOCATION:vhs, Gesundheitsraum 014, Katharinenstraße 18, 72072 Tübingen
END:VEVENT
BEGIN:VEVENT
DTSTAMP:20260423T132644
DTSTART;TZID=Europe/Berlin:20260615T103000
DTEND;TZID=Europe/Berlin:20260615T113000
UID:261-32001-20260615T103000@VHSTÜBINGEN
SUMMARY:Gymnastik 60 plus für Anfänger/-innen und Fortgeschrittene (261-32001) 
LOCATION:vhs, Gesundheitsraum 014, Katharinenstraße 18, 72072 Tübingen
END:VEVENT
BEGIN:VEVENT
DTSTAMP:20260423T132644
DTSTART;TZID=Europe/Berlin:20260622T103000
DTEND;TZID=Europe/Berlin:20260622T113000
UID:261-32001-20260622T103000@VHSTÜBINGEN
SUMMARY:Gymnastik 60 plus für Anfänger/-innen und Fortgeschrittene (261-32001) 
LOCATION:vhs, Gesundheitsraum 014, Katharinenstraße 18, 72072 Tübingen
END:VEVENT
BEGIN:VEVENT
DTSTAMP:20260423T132644
DTSTART;TZID=Europe/Berlin:20260629T103000
DTEND;TZID=Europe/Berlin:20260629T113000
UID:261-32001-20260629T103000@VHSTÜBINGEN
SUMMARY:Gymnastik 60 plus für Anfänger/-innen und Fortgeschrittene (261-32001) 
LOCATION:vhs, Gesundheitsraum 014, Katharinenstraße 18, 72072 Tübingen
END:VEVENT
BEGIN:VEVENT
DTSTAMP:20260423T132644
DTSTART;TZID=Europe/Berlin:20260713T103000
DTEND;TZID=Europe/Berlin:20260713T113000
UID:261-32001-20260713T103000@VHSTÜBINGEN
SUMMARY:Gymnastik 60 plus für Anfänger/-innen und Fortgeschrittene (261-32001) 
LOCATION:vhs, Gesundheitsraum 014, Katharinenstraße 18, 72072 Tübingen
END:VEVENT
BEGIN:VEVENT
DTSTAMP:20260423T132644
DTSTART;TZID=Europe/Berlin:20260720T103000
DTEND;TZID=Europe/Berlin:20260720T113000
UID:261-32001-20260720T103000@VHSTÜBINGEN
SUMMARY:Gymnastik 60 plus für Anfänger/-innen und Fortgeschrittene (261-32001) 
LOCATION:vhs, Gesundheitsraum 014, Katharinenstraße 18, 72072 Tübingen
END:VEVENT
BEGIN:VEVENT
DTSTAMP:20260423T132644
DTSTART;TZID=Europe/Berlin:20260727T103000
DTEND;TZID=Europe/Berlin:20260727T113000
UID:261-32001-20260727T103000@VHSTÜBINGEN
SUMMARY:Gymnastik 60 plus für Anfänger/-innen und Fortgeschrittene (261-32001) 
LOCATION:vhs, Gesundheitsraum 014, Katharinenstraße 18, 72072 Tübingen
END:VEVENT
END:VCALENDAR