BEGIN:VCALENDAR
VERSION:2.0
PRODID:https://www.kufer.de/kuferweb / DE
METHOD:PUBLISH
CALSCALE:GREGORIAN
X-WR-TIMEZONE:Europe/Berlin
BEGIN:VTIMEZONE
TZID:Europe/Berlin
X-LIC-LOCATION:Europe/Berlin
BEGIN:DAYLIGHT
TZOFFSETFROM:+0100
TZOFFSETTO:+0200
TZNAME:CEST
DTSTART:19700329T020000
RRULE:FREQ=YEARLY;INTERVAL=1;BYDAY=-1SU;BYMONTH=3
END:DAYLIGHT
BEGIN:STANDARD
TZOFFSETFROM:+0200
TZOFFSETTO:+0100
TZNAME:CET
DTSTART:19701025T030000
RRULE:FREQ=YEARLY;INTERVAL=1;BYDAY=-1SU;BYMONTH=10
END:STANDARD
END:VTIMEZONE
BEGIN:VEVENT
DTSTAMP:20260421T194829
DTSTART;TZID=Europe/Berlin:20260312T093000
DTEND;TZID=Europe/Berlin:20260312T103000
UID:261-32002-20260312T093000@VHSTÜBINGEN
SUMMARY:Gymnastik 60 plus für Anfänger/-innen und Fortgeschrittene (261-32002) 
LOCATION:vhs, Gesundheitsraum 014, Katharinenstraße 18, 72072 Tübingen
END:VEVENT
BEGIN:VEVENT
DTSTAMP:20260421T194829
DTSTART;TZID=Europe/Berlin:20260319T093000
DTEND;TZID=Europe/Berlin:20260319T103000
UID:261-32002-20260319T093000@VHSTÜBINGEN
SUMMARY:Gymnastik 60 plus für Anfänger/-innen und Fortgeschrittene (261-32002) 
LOCATION:vhs, Gesundheitsraum 014, Katharinenstraße 18, 72072 Tübingen
END:VEVENT
BEGIN:VEVENT
DTSTAMP:20260421T194829
DTSTART;TZID=Europe/Berlin:20260326T093000
DTEND;TZID=Europe/Berlin:20260326T103000
UID:261-32002-20260326T093000@VHSTÜBINGEN
SUMMARY:Gymnastik 60 plus für Anfänger/-innen und Fortgeschrittene (261-32002) 
LOCATION:vhs, Gesundheitsraum 014, Katharinenstraße 18, 72072 Tübingen
END:VEVENT
BEGIN:VEVENT
DTSTAMP:20260421T194829
DTSTART;TZID=Europe/Berlin:20260402T093000
DTEND;TZID=Europe/Berlin:20260402T103000
UID:261-32002-20260402T093000@VHSTÜBINGEN
SUMMARY:Gymnastik 60 plus für Anfänger/-innen und Fortgeschrittene (261-32002) 
LOCATION:vhs, Gesundheitsraum 014, Katharinenstraße 18, 72072 Tübingen
END:VEVENT
BEGIN:VEVENT
DTSTAMP:20260421T194829
DTSTART;TZID=Europe/Berlin:20260409T093000
DTEND;TZID=Europe/Berlin:20260409T103000
UID:261-32002-20260409T093000@VHSTÜBINGEN
SUMMARY:Gymnastik 60 plus für Anfänger/-innen und Fortgeschrittene (261-32002) 
LOCATION:vhs, Gesundheitsraum 014, Katharinenstraße 18, 72072 Tübingen
END:VEVENT
BEGIN:VEVENT
DTSTAMP:20260421T194829
DTSTART;TZID=Europe/Berlin:20260416T093000
DTEND;TZID=Europe/Berlin:20260416T103000
UID:261-32002-20260416T093000@VHSTÜBINGEN
SUMMARY:Gymnastik 60 plus für Anfänger/-innen und Fortgeschrittene (261-32002) 
LOCATION:vhs, Gesundheitsraum 014, Katharinenstraße 18, 72072 Tübingen
END:VEVENT
BEGIN:VEVENT
DTSTAMP:20260421T194829
DTSTART;TZID=Europe/Berlin:20260423T093000
DTEND;TZID=Europe/Berlin:20260423T103000
UID:261-32002-20260423T093000@VHSTÜBINGEN
SUMMARY:Gymnastik 60 plus für Anfänger/-innen und Fortgeschrittene (261-32002) 
LOCATION:vhs, Gesundheitsraum 014, Katharinenstraße 18, 72072 Tübingen
END:VEVENT
BEGIN:VEVENT
DTSTAMP:20260421T194829
DTSTART;TZID=Europe/Berlin:20260430T093000
DTEND;TZID=Europe/Berlin:20260430T103000
UID:261-32002-20260430T093000@VHSTÜBINGEN
SUMMARY:Gymnastik 60 plus für Anfänger/-innen und Fortgeschrittene (261-32002) 
LOCATION:vhs, Gesundheitsraum 014, Katharinenstraße 18, 72072 Tübingen
END:VEVENT
BEGIN:VEVENT
DTSTAMP:20260421T194829
DTSTART;TZID=Europe/Berlin:20260507T093000
DTEND;TZID=Europe/Berlin:20260507T103000
UID:261-32002-20260507T093000@VHSTÜBINGEN
SUMMARY:Gymnastik 60 plus für Anfänger/-innen und Fortgeschrittene (261-32002) 
LOCATION:vhs, Gesundheitsraum 014, Katharinenstraße 18, 72072 Tübingen
END:VEVENT
BEGIN:VEVENT
DTSTAMP:20260421T194829
DTSTART;TZID=Europe/Berlin:20260521T093000
DTEND;TZID=Europe/Berlin:20260521T103000
UID:261-32002-20260521T093000@VHSTÜBINGEN
SUMMARY:Gymnastik 60 plus für Anfänger/-innen und Fortgeschrittene (261-32002) 
LOCATION:vhs, Gesundheitsraum 014, Katharinenstraße 18, 72072 Tübingen
END:VEVENT
BEGIN:VEVENT
DTSTAMP:20260421T194829
DTSTART;TZID=Europe/Berlin:20260611T093000
DTEND;TZID=Europe/Berlin:20260611T103000
UID:261-32002-20260611T093000@VHSTÜBINGEN
SUMMARY:Gymnastik 60 plus für Anfänger/-innen und Fortgeschrittene (261-32002) 
LOCATION:vhs, Gesundheitsraum 014, Katharinenstraße 18, 72072 Tübingen
END:VEVENT
BEGIN:VEVENT
DTSTAMP:20260421T194829
DTSTART;TZID=Europe/Berlin:20260618T093000
DTEND;TZID=Europe/Berlin:20260618T103000
UID:261-32002-20260618T093000@VHSTÜBINGEN
SUMMARY:Gymnastik 60 plus für Anfänger/-innen und Fortgeschrittene (261-32002) 
LOCATION:vhs, Gesundheitsraum 014, Katharinenstraße 18, 72072 Tübingen
END:VEVENT
BEGIN:VEVENT
DTSTAMP:20260421T194829
DTSTART;TZID=Europe/Berlin:20260625T093000
DTEND;TZID=Europe/Berlin:20260625T103000
UID:261-32002-20260625T093000@VHSTÜBINGEN
SUMMARY:Gymnastik 60 plus für Anfänger/-innen und Fortgeschrittene (261-32002) 
LOCATION:vhs, Gesundheitsraum 014, Katharinenstraße 18, 72072 Tübingen
END:VEVENT
BEGIN:VEVENT
DTSTAMP:20260421T194829
DTSTART;TZID=Europe/Berlin:20260702T093000
DTEND;TZID=Europe/Berlin:20260702T103000
UID:261-32002-20260702T093000@VHSTÜBINGEN
SUMMARY:Gymnastik 60 plus für Anfänger/-innen und Fortgeschrittene (261-32002) 
LOCATION:vhs, Gesundheitsraum 014, Katharinenstraße 18, 72072 Tübingen
END:VEVENT
BEGIN:VEVENT
DTSTAMP:20260421T194829
DTSTART;TZID=Europe/Berlin:20260716T093000
DTEND;TZID=Europe/Berlin:20260716T103000
UID:261-32002-20260716T093000@VHSTÜBINGEN
SUMMARY:Gymnastik 60 plus für Anfänger/-innen und Fortgeschrittene (261-32002) 
LOCATION:vhs, Gesundheitsraum 014, Katharinenstraße 18, 72072 Tübingen
END:VEVENT
BEGIN:VEVENT
DTSTAMP:20260421T194829
DTSTART;TZID=Europe/Berlin:20260723T093000
DTEND;TZID=Europe/Berlin:20260723T103000
UID:261-32002-20260723T093000@VHSTÜBINGEN
SUMMARY:Gymnastik 60 plus für Anfänger/-innen und Fortgeschrittene (261-32002) 
LOCATION:vhs, Gesundheitsraum 014, Katharinenstraße 18, 72072 Tübingen
END:VEVENT
END:VCALENDAR