BEGIN:VCALENDAR
VERSION:2.0
PRODID:https://www.kufer.de/kuferweb / DE
METHOD:PUBLISH
CALSCALE:GREGORIAN
X-WR-TIMEZONE:Europe/Berlin
BEGIN:VTIMEZONE
TZID:Europe/Berlin
X-LIC-LOCATION:Europe/Berlin
BEGIN:DAYLIGHT
TZOFFSETFROM:+0100
TZOFFSETTO:+0200
TZNAME:CEST
DTSTART:19700329T020000
RRULE:FREQ=YEARLY;INTERVAL=1;BYDAY=-1SU;BYMONTH=3
END:DAYLIGHT
BEGIN:STANDARD
TZOFFSETFROM:+0200
TZOFFSETTO:+0100
TZNAME:CET
DTSTART:19701025T030000
RRULE:FREQ=YEARLY;INTERVAL=1;BYDAY=-1SU;BYMONTH=10
END:STANDARD
END:VTIMEZONE
BEGIN:VEVENT
DTSTAMP:20260421T153430
DTSTART;TZID=Europe/Berlin:20260305T092000
DTEND;TZID=Europe/Berlin:20260305T102000
UID:261-32025-20260305T092000@VHSTÜBINGEN
SUMMARY:Wirbelsäulengymnastik für Frauen in Pfrondorf (261-32025) 
LOCATION:15 Ev. Gemeindehaus Pfrondorf, Erdgeschoss, Baumwiesenweg 4, 72074 Tübingen
END:VEVENT
BEGIN:VEVENT
DTSTAMP:20260421T153430
DTSTART;TZID=Europe/Berlin:20260312T092000
DTEND;TZID=Europe/Berlin:20260312T102000
UID:261-32025-20260312T092000@VHSTÜBINGEN
SUMMARY:Wirbelsäulengymnastik für Frauen in Pfrondorf (261-32025) 
LOCATION:15 Ev. Gemeindehaus Pfrondorf, Erdgeschoss, Baumwiesenweg 4, 72074 Tübingen
END:VEVENT
BEGIN:VEVENT
DTSTAMP:20260421T153430
DTSTART;TZID=Europe/Berlin:20260319T092000
DTEND;TZID=Europe/Berlin:20260319T102000
UID:261-32025-20260319T092000@VHSTÜBINGEN
SUMMARY:Wirbelsäulengymnastik für Frauen in Pfrondorf (261-32025) 
LOCATION:15 Ev. Gemeindehaus Pfrondorf, Erdgeschoss, Baumwiesenweg 4, 72074 Tübingen
END:VEVENT
BEGIN:VEVENT
DTSTAMP:20260421T153430
DTSTART;TZID=Europe/Berlin:20260326T092000
DTEND;TZID=Europe/Berlin:20260326T102000
UID:261-32025-20260326T092000@VHSTÜBINGEN
SUMMARY:Wirbelsäulengymnastik für Frauen in Pfrondorf (261-32025) 
LOCATION:15 Ev. Gemeindehaus Pfrondorf, Erdgeschoss, Baumwiesenweg 4, 72074 Tübingen
END:VEVENT
BEGIN:VEVENT
DTSTAMP:20260421T153430
DTSTART;TZID=Europe/Berlin:20260416T092000
DTEND;TZID=Europe/Berlin:20260416T102000
UID:261-32025-20260416T092000@VHSTÜBINGEN
SUMMARY:Wirbelsäulengymnastik für Frauen in Pfrondorf (261-32025) 
LOCATION:15 Ev. Gemeindehaus Pfrondorf, Erdgeschoss, Baumwiesenweg 4, 72074 Tübingen
END:VEVENT
BEGIN:VEVENT
DTSTAMP:20260421T153430
DTSTART;TZID=Europe/Berlin:20260423T092000
DTEND;TZID=Europe/Berlin:20260423T102000
UID:261-32025-20260423T092000@VHSTÜBINGEN
SUMMARY:Wirbelsäulengymnastik für Frauen in Pfrondorf (261-32025) 
LOCATION:15 Ev. Gemeindehaus Pfrondorf, Erdgeschoss, Baumwiesenweg 4, 72074 Tübingen
END:VEVENT
BEGIN:VEVENT
DTSTAMP:20260421T153430
DTSTART;TZID=Europe/Berlin:20260430T092000
DTEND;TZID=Europe/Berlin:20260430T102000
UID:261-32025-20260430T092000@VHSTÜBINGEN
SUMMARY:Wirbelsäulengymnastik für Frauen in Pfrondorf (261-32025) 
LOCATION:15 Ev. Gemeindehaus Pfrondorf, Erdgeschoss, Baumwiesenweg 4, 72074 Tübingen
END:VEVENT
BEGIN:VEVENT
DTSTAMP:20260421T153430
DTSTART;TZID=Europe/Berlin:20260507T092000
DTEND;TZID=Europe/Berlin:20260507T102000
UID:261-32025-20260507T092000@VHSTÜBINGEN
SUMMARY:Wirbelsäulengymnastik für Frauen in Pfrondorf (261-32025) 
LOCATION:15 Ev. Gemeindehaus Pfrondorf, Erdgeschoss, Baumwiesenweg 4, 72074 Tübingen
END:VEVENT
BEGIN:VEVENT
DTSTAMP:20260421T153430
DTSTART;TZID=Europe/Berlin:20260521T092000
DTEND;TZID=Europe/Berlin:20260521T102000
UID:261-32025-20260521T092000@VHSTÜBINGEN
SUMMARY:Wirbelsäulengymnastik für Frauen in Pfrondorf (261-32025) 
LOCATION:15 Ev. Gemeindehaus Pfrondorf, Erdgeschoss, Baumwiesenweg 4, 72074 Tübingen
END:VEVENT
BEGIN:VEVENT
DTSTAMP:20260421T153430
DTSTART;TZID=Europe/Berlin:20260611T092000
DTEND;TZID=Europe/Berlin:20260611T102000
UID:261-32025-20260611T092000@VHSTÜBINGEN
SUMMARY:Wirbelsäulengymnastik für Frauen in Pfrondorf (261-32025) 
LOCATION:15 Ev. Gemeindehaus Pfrondorf, Erdgeschoss, Baumwiesenweg 4, 72074 Tübingen
END:VEVENT
BEGIN:VEVENT
DTSTAMP:20260421T153430
DTSTART;TZID=Europe/Berlin:20260618T092000
DTEND;TZID=Europe/Berlin:20260618T102000
UID:261-32025-20260618T092000@VHSTÜBINGEN
SUMMARY:Wirbelsäulengymnastik für Frauen in Pfrondorf (261-32025) 
LOCATION:15 Ev. Gemeindehaus Pfrondorf, Erdgeschoss, Baumwiesenweg 4, 72074 Tübingen
END:VEVENT
BEGIN:VEVENT
DTSTAMP:20260421T153430
DTSTART;TZID=Europe/Berlin:20260625T092000
DTEND;TZID=Europe/Berlin:20260625T102000
UID:261-32025-20260625T092000@VHSTÜBINGEN
SUMMARY:Wirbelsäulengymnastik für Frauen in Pfrondorf (261-32025) 
LOCATION:15 Ev. Gemeindehaus Pfrondorf, Erdgeschoss, Baumwiesenweg 4, 72074 Tübingen
END:VEVENT
BEGIN:VEVENT
DTSTAMP:20260421T153430
DTSTART;TZID=Europe/Berlin:20260702T092000
DTEND;TZID=Europe/Berlin:20260702T102000
UID:261-32025-20260702T092000@VHSTÜBINGEN
SUMMARY:Wirbelsäulengymnastik für Frauen in Pfrondorf (261-32025) 
LOCATION:15 Ev. Gemeindehaus Pfrondorf, Erdgeschoss, Baumwiesenweg 4, 72074 Tübingen
END:VEVENT
BEGIN:VEVENT
DTSTAMP:20260421T153430
DTSTART;TZID=Europe/Berlin:20260709T092000
DTEND;TZID=Europe/Berlin:20260709T102000
UID:261-32025-20260709T092000@VHSTÜBINGEN
SUMMARY:Wirbelsäulengymnastik für Frauen in Pfrondorf (261-32025) 
LOCATION:15 Ev. Gemeindehaus Pfrondorf, Erdgeschoss, Baumwiesenweg 4, 72074 Tübingen
END:VEVENT
BEGIN:VEVENT
DTSTAMP:20260421T153430
DTSTART;TZID=Europe/Berlin:20260716T092000
DTEND;TZID=Europe/Berlin:20260716T102000
UID:261-32025-20260716T092000@VHSTÜBINGEN
SUMMARY:Wirbelsäulengymnastik für Frauen in Pfrondorf (261-32025) 
LOCATION:15 Ev. Gemeindehaus Pfrondorf, Erdgeschoss, Baumwiesenweg 4, 72074 Tübingen
END:VEVENT
END:VCALENDAR