BEGIN:VCALENDAR
VERSION:2.0
PRODID:https://www.kufer.de/kuferweb / DE
METHOD:PUBLISH
CALSCALE:GREGORIAN
X-WR-TIMEZONE:Europe/Berlin
BEGIN:VTIMEZONE
TZID:Europe/Berlin
X-LIC-LOCATION:Europe/Berlin
BEGIN:DAYLIGHT
TZOFFSETFROM:+0100
TZOFFSETTO:+0200
TZNAME:CEST
DTSTART:19700329T020000
RRULE:FREQ=YEARLY;INTERVAL=1;BYDAY=-1SU;BYMONTH=3
END:DAYLIGHT
BEGIN:STANDARD
TZOFFSETFROM:+0200
TZOFFSETTO:+0100
TZNAME:CET
DTSTART:19701025T030000
RRULE:FREQ=YEARLY;INTERVAL=1;BYDAY=-1SU;BYMONTH=10
END:STANDARD
END:VTIMEZONE
BEGIN:VEVENT
DTSTAMP:20260421T164910
DTSTART;TZID=Europe/Berlin:20260306T100500
DTEND;TZID=Europe/Berlin:20260306T110500
UID:261-32063-20260306T100500@VHSTÜBINGEN
SUMMARY:Sanfte Gymnastik für Frauen (261-32063) 
LOCATION:11 Turnhalle Unterjesingen, Jesinger Hauptstraße 67, 72070 Tübingen
END:VEVENT
BEGIN:VEVENT
DTSTAMP:20260421T164910
DTSTART;TZID=Europe/Berlin:20260313T100500
DTEND;TZID=Europe/Berlin:20260313T110500
UID:261-32063-20260313T100500@VHSTÜBINGEN
SUMMARY:Sanfte Gymnastik für Frauen (261-32063) 
LOCATION:11 Turnhalle Unterjesingen, Jesinger Hauptstraße 67, 72070 Tübingen
END:VEVENT
BEGIN:VEVENT
DTSTAMP:20260421T164910
DTSTART;TZID=Europe/Berlin:20260320T100500
DTEND;TZID=Europe/Berlin:20260320T110500
UID:261-32063-20260320T100500@VHSTÜBINGEN
SUMMARY:Sanfte Gymnastik für Frauen (261-32063) 
LOCATION:11 Turnhalle Unterjesingen, Jesinger Hauptstraße 67, 72070 Tübingen
END:VEVENT
BEGIN:VEVENT
DTSTAMP:20260421T164910
DTSTART;TZID=Europe/Berlin:20260327T100500
DTEND;TZID=Europe/Berlin:20260327T110500
UID:261-32063-20260327T100500@VHSTÜBINGEN
SUMMARY:Sanfte Gymnastik für Frauen (261-32063) 
LOCATION:11 Turnhalle Unterjesingen, Jesinger Hauptstraße 67, 72070 Tübingen
END:VEVENT
BEGIN:VEVENT
DTSTAMP:20260421T164910
DTSTART;TZID=Europe/Berlin:20260417T100500
DTEND;TZID=Europe/Berlin:20260417T110500
UID:261-32063-20260417T100500@VHSTÜBINGEN
SUMMARY:Sanfte Gymnastik für Frauen (261-32063) 
LOCATION:11 Turnhalle Unterjesingen, Jesinger Hauptstraße 67, 72070 Tübingen
END:VEVENT
BEGIN:VEVENT
DTSTAMP:20260421T164910
DTSTART;TZID=Europe/Berlin:20260424T100500
DTEND;TZID=Europe/Berlin:20260424T110500
UID:261-32063-20260424T100500@VHSTÜBINGEN
SUMMARY:Sanfte Gymnastik für Frauen (261-32063) 
LOCATION:11 Turnhalle Unterjesingen, Jesinger Hauptstraße 67, 72070 Tübingen
END:VEVENT
BEGIN:VEVENT
DTSTAMP:20260421T164910
DTSTART;TZID=Europe/Berlin:20260508T100500
DTEND;TZID=Europe/Berlin:20260508T110500
UID:261-32063-20260508T100500@VHSTÜBINGEN
SUMMARY:Sanfte Gymnastik für Frauen (261-32063) 
LOCATION:11 Turnhalle Unterjesingen, Jesinger Hauptstraße 67, 72070 Tübingen
END:VEVENT
BEGIN:VEVENT
DTSTAMP:20260421T164910
DTSTART;TZID=Europe/Berlin:20260515T100500
DTEND;TZID=Europe/Berlin:20260515T110500
UID:261-32063-20260515T100500@VHSTÜBINGEN
SUMMARY:Sanfte Gymnastik für Frauen (261-32063) 
LOCATION:11 Turnhalle Unterjesingen, Jesinger Hauptstraße 67, 72070 Tübingen
END:VEVENT
BEGIN:VEVENT
DTSTAMP:20260421T164910
DTSTART;TZID=Europe/Berlin:20260522T100500
DTEND;TZID=Europe/Berlin:20260522T110500
UID:261-32063-20260522T100500@VHSTÜBINGEN
SUMMARY:Sanfte Gymnastik für Frauen (261-32063) 
LOCATION:11 Turnhalle Unterjesingen, Jesinger Hauptstraße 67, 72070 Tübingen
END:VEVENT
BEGIN:VEVENT
DTSTAMP:20260421T164910
DTSTART;TZID=Europe/Berlin:20260612T100500
DTEND;TZID=Europe/Berlin:20260612T110500
UID:261-32063-20260612T100500@VHSTÜBINGEN
SUMMARY:Sanfte Gymnastik für Frauen (261-32063) 
LOCATION:11 Turnhalle Unterjesingen, Jesinger Hauptstraße 67, 72070 Tübingen
END:VEVENT
BEGIN:VEVENT
DTSTAMP:20260421T164910
DTSTART;TZID=Europe/Berlin:20260619T100500
DTEND;TZID=Europe/Berlin:20260619T110500
UID:261-32063-20260619T100500@VHSTÜBINGEN
SUMMARY:Sanfte Gymnastik für Frauen (261-32063) 
LOCATION:11 Turnhalle Unterjesingen, Jesinger Hauptstraße 67, 72070 Tübingen
END:VEVENT
BEGIN:VEVENT
DTSTAMP:20260421T164910
DTSTART;TZID=Europe/Berlin:20260626T100500
DTEND;TZID=Europe/Berlin:20260626T110500
UID:261-32063-20260626T100500@VHSTÜBINGEN
SUMMARY:Sanfte Gymnastik für Frauen (261-32063) 
LOCATION:11 Turnhalle Unterjesingen, Jesinger Hauptstraße 67, 72070 Tübingen
END:VEVENT
BEGIN:VEVENT
DTSTAMP:20260421T164910
DTSTART;TZID=Europe/Berlin:20260703T100500
DTEND;TZID=Europe/Berlin:20260703T110500
UID:261-32063-20260703T100500@VHSTÜBINGEN
SUMMARY:Sanfte Gymnastik für Frauen (261-32063) 
LOCATION:11 Turnhalle Unterjesingen, Jesinger Hauptstraße 67, 72070 Tübingen
END:VEVENT
BEGIN:VEVENT
DTSTAMP:20260421T164910
DTSTART;TZID=Europe/Berlin:20260710T100500
DTEND;TZID=Europe/Berlin:20260710T110500
UID:261-32063-20260710T100500@VHSTÜBINGEN
SUMMARY:Sanfte Gymnastik für Frauen (261-32063) 
LOCATION:11 Turnhalle Unterjesingen, Jesinger Hauptstraße 67, 72070 Tübingen
END:VEVENT
BEGIN:VEVENT
DTSTAMP:20260421T164910
DTSTART;TZID=Europe/Berlin:20260717T100500
DTEND;TZID=Europe/Berlin:20260717T110500
UID:261-32063-20260717T100500@VHSTÜBINGEN
SUMMARY:Sanfte Gymnastik für Frauen (261-32063) 
LOCATION:11 Turnhalle Unterjesingen, Jesinger Hauptstraße 67, 72070 Tübingen
END:VEVENT
END:VCALENDAR