BEGIN:VCALENDAR
VERSION:2.0
PRODID:https://www.kufer.de/kuferweb / DE
METHOD:PUBLISH
CALSCALE:GREGORIAN
X-WR-TIMEZONE:Europe/Berlin
BEGIN:VTIMEZONE
TZID:Europe/Berlin
X-LIC-LOCATION:Europe/Berlin
BEGIN:DAYLIGHT
TZOFFSETFROM:+0100
TZOFFSETTO:+0200
TZNAME:CEST
DTSTART:19700329T020000
RRULE:FREQ=YEARLY;INTERVAL=1;BYDAY=-1SU;BYMONTH=3
END:DAYLIGHT
BEGIN:STANDARD
TZOFFSETFROM:+0200
TZOFFSETTO:+0100
TZNAME:CET
DTSTART:19701025T030000
RRULE:FREQ=YEARLY;INTERVAL=1;BYDAY=-1SU;BYMONTH=10
END:STANDARD
END:VTIMEZONE
BEGIN:VEVENT
DTSTAMP:20260421T184641
DTSTART;TZID=Europe/Berlin:20260305T081500
DTEND;TZID=Europe/Berlin:20260305T091500
UID:261-32085-20260305T081500@VHSTÜBINGEN
SUMMARY:Fit in den Morgen für junge und junggebliebene Frauen (261-32085) 
LOCATION:15 Ev. Gemeindehaus Pfrondorf, Erdgeschoss, Baumwiesenweg 4, 72074 Tübingen
END:VEVENT
BEGIN:VEVENT
DTSTAMP:20260421T184641
DTSTART;TZID=Europe/Berlin:20260312T081500
DTEND;TZID=Europe/Berlin:20260312T091500
UID:261-32085-20260312T081500@VHSTÜBINGEN
SUMMARY:Fit in den Morgen für junge und junggebliebene Frauen (261-32085) 
LOCATION:15 Ev. Gemeindehaus Pfrondorf, Erdgeschoss, Baumwiesenweg 4, 72074 Tübingen
END:VEVENT
BEGIN:VEVENT
DTSTAMP:20260421T184641
DTSTART;TZID=Europe/Berlin:20260319T081500
DTEND;TZID=Europe/Berlin:20260319T091500
UID:261-32085-20260319T081500@VHSTÜBINGEN
SUMMARY:Fit in den Morgen für junge und junggebliebene Frauen (261-32085) 
LOCATION:15 Ev. Gemeindehaus Pfrondorf, Erdgeschoss, Baumwiesenweg 4, 72074 Tübingen
END:VEVENT
BEGIN:VEVENT
DTSTAMP:20260421T184641
DTSTART;TZID=Europe/Berlin:20260326T081500
DTEND;TZID=Europe/Berlin:20260326T091500
UID:261-32085-20260326T081500@VHSTÜBINGEN
SUMMARY:Fit in den Morgen für junge und junggebliebene Frauen (261-32085) 
LOCATION:15 Ev. Gemeindehaus Pfrondorf, Erdgeschoss, Baumwiesenweg 4, 72074 Tübingen
END:VEVENT
BEGIN:VEVENT
DTSTAMP:20260421T184641
DTSTART;TZID=Europe/Berlin:20260416T081500
DTEND;TZID=Europe/Berlin:20260416T091500
UID:261-32085-20260416T081500@VHSTÜBINGEN
SUMMARY:Fit in den Morgen für junge und junggebliebene Frauen (261-32085) 
LOCATION:15 Ev. Gemeindehaus Pfrondorf, Erdgeschoss, Baumwiesenweg 4, 72074 Tübingen
END:VEVENT
BEGIN:VEVENT
DTSTAMP:20260421T184641
DTSTART;TZID=Europe/Berlin:20260423T081500
DTEND;TZID=Europe/Berlin:20260423T091500
UID:261-32085-20260423T081500@VHSTÜBINGEN
SUMMARY:Fit in den Morgen für junge und junggebliebene Frauen (261-32085) 
LOCATION:15 Ev. Gemeindehaus Pfrondorf, Erdgeschoss, Baumwiesenweg 4, 72074 Tübingen
END:VEVENT
BEGIN:VEVENT
DTSTAMP:20260421T184641
DTSTART;TZID=Europe/Berlin:20260430T081500
DTEND;TZID=Europe/Berlin:20260430T091500
UID:261-32085-20260430T081500@VHSTÜBINGEN
SUMMARY:Fit in den Morgen für junge und junggebliebene Frauen (261-32085) 
LOCATION:15 Ev. Gemeindehaus Pfrondorf, Erdgeschoss, Baumwiesenweg 4, 72074 Tübingen
END:VEVENT
BEGIN:VEVENT
DTSTAMP:20260421T184641
DTSTART;TZID=Europe/Berlin:20260507T081500
DTEND;TZID=Europe/Berlin:20260507T091500
UID:261-32085-20260507T081500@VHSTÜBINGEN
SUMMARY:Fit in den Morgen für junge und junggebliebene Frauen (261-32085) 
LOCATION:15 Ev. Gemeindehaus Pfrondorf, Erdgeschoss, Baumwiesenweg 4, 72074 Tübingen
END:VEVENT
BEGIN:VEVENT
DTSTAMP:20260421T184641
DTSTART;TZID=Europe/Berlin:20260521T081500
DTEND;TZID=Europe/Berlin:20260521T091500
UID:261-32085-20260521T081500@VHSTÜBINGEN
SUMMARY:Fit in den Morgen für junge und junggebliebene Frauen (261-32085) 
LOCATION:15 Ev. Gemeindehaus Pfrondorf, Erdgeschoss, Baumwiesenweg 4, 72074 Tübingen
END:VEVENT
BEGIN:VEVENT
DTSTAMP:20260421T184641
DTSTART;TZID=Europe/Berlin:20260611T081500
DTEND;TZID=Europe/Berlin:20260611T091500
UID:261-32085-20260611T081500@VHSTÜBINGEN
SUMMARY:Fit in den Morgen für junge und junggebliebene Frauen (261-32085) 
LOCATION:15 Ev. Gemeindehaus Pfrondorf, Erdgeschoss, Baumwiesenweg 4, 72074 Tübingen
END:VEVENT
BEGIN:VEVENT
DTSTAMP:20260421T184641
DTSTART;TZID=Europe/Berlin:20260618T081500
DTEND;TZID=Europe/Berlin:20260618T091500
UID:261-32085-20260618T081500@VHSTÜBINGEN
SUMMARY:Fit in den Morgen für junge und junggebliebene Frauen (261-32085) 
LOCATION:15 Ev. Gemeindehaus Pfrondorf, Erdgeschoss, Baumwiesenweg 4, 72074 Tübingen
END:VEVENT
BEGIN:VEVENT
DTSTAMP:20260421T184641
DTSTART;TZID=Europe/Berlin:20260625T081500
DTEND;TZID=Europe/Berlin:20260625T091500
UID:261-32085-20260625T081500@VHSTÜBINGEN
SUMMARY:Fit in den Morgen für junge und junggebliebene Frauen (261-32085) 
LOCATION:15 Ev. Gemeindehaus Pfrondorf, Erdgeschoss, Baumwiesenweg 4, 72074 Tübingen
END:VEVENT
BEGIN:VEVENT
DTSTAMP:20260421T184641
DTSTART;TZID=Europe/Berlin:20260702T081500
DTEND;TZID=Europe/Berlin:20260702T091500
UID:261-32085-20260702T081500@VHSTÜBINGEN
SUMMARY:Fit in den Morgen für junge und junggebliebene Frauen (261-32085) 
LOCATION:15 Ev. Gemeindehaus Pfrondorf, Erdgeschoss, Baumwiesenweg 4, 72074 Tübingen
END:VEVENT
BEGIN:VEVENT
DTSTAMP:20260421T184641
DTSTART;TZID=Europe/Berlin:20260709T081500
DTEND;TZID=Europe/Berlin:20260709T091500
UID:261-32085-20260709T081500@VHSTÜBINGEN
SUMMARY:Fit in den Morgen für junge und junggebliebene Frauen (261-32085) 
LOCATION:15 Ev. Gemeindehaus Pfrondorf, Erdgeschoss, Baumwiesenweg 4, 72074 Tübingen
END:VEVENT
BEGIN:VEVENT
DTSTAMP:20260421T184641
DTSTART;TZID=Europe/Berlin:20260716T081500
DTEND;TZID=Europe/Berlin:20260716T091500
UID:261-32085-20260716T081500@VHSTÜBINGEN
SUMMARY:Fit in den Morgen für junge und junggebliebene Frauen (261-32085) 
LOCATION:15 Ev. Gemeindehaus Pfrondorf, Erdgeschoss, Baumwiesenweg 4, 72074 Tübingen
END:VEVENT
END:VCALENDAR