BEGIN:VCALENDAR
VERSION:2.0
PRODID:https://www.kufer.de/kuferweb / DE
METHOD:PUBLISH
CALSCALE:GREGORIAN
X-WR-TIMEZONE:Europe/Berlin
BEGIN:VTIMEZONE
TZID:Europe/Berlin
X-LIC-LOCATION:Europe/Berlin
BEGIN:DAYLIGHT
TZOFFSETFROM:+0100
TZOFFSETTO:+0200
TZNAME:CEST
DTSTART:19700329T020000
RRULE:FREQ=YEARLY;INTERVAL=1;BYDAY=-1SU;BYMONTH=3
END:DAYLIGHT
BEGIN:STANDARD
TZOFFSETFROM:+0200
TZOFFSETTO:+0100
TZNAME:CET
DTSTART:19701025T030000
RRULE:FREQ=YEARLY;INTERVAL=1;BYDAY=-1SU;BYMONTH=10
END:STANDARD
END:VTIMEZONE
BEGIN:VEVENT
DTSTAMP:20260421T175724
DTSTART;TZID=Europe/Berlin:20260610T200000
DTEND;TZID=Europe/Berlin:20260610T210000
UID:261-32120Z-20260610T200000@VHSTÜBINGEN
SUMMARY:Fitnessgymnastik mit Musik für Anfänger/-innen und Fortgeschrittene (261-32120Z) 
LOCATION:11 Turn- und Festhalle Lustnau, Gymnastikraum, Neuhaldenstraße 12, 72074 Tübingen
END:VEVENT
BEGIN:VEVENT
DTSTAMP:20260421T175724
DTSTART;TZID=Europe/Berlin:20260617T200000
DTEND;TZID=Europe/Berlin:20260617T210000
UID:261-32120Z-20260617T200000@VHSTÜBINGEN
SUMMARY:Fitnessgymnastik mit Musik für Anfänger/-innen und Fortgeschrittene (261-32120Z) 
LOCATION:11 Turn- und Festhalle Lustnau, Gymnastikraum, Neuhaldenstraße 12, 72074 Tübingen
END:VEVENT
BEGIN:VEVENT
DTSTAMP:20260421T175724
DTSTART;TZID=Europe/Berlin:20260624T200000
DTEND;TZID=Europe/Berlin:20260624T210000
UID:261-32120Z-20260624T200000@VHSTÜBINGEN
SUMMARY:Fitnessgymnastik mit Musik für Anfänger/-innen und Fortgeschrittene (261-32120Z) 
LOCATION:11 Turn- und Festhalle Lustnau, Gymnastikraum, Neuhaldenstraße 12, 72074 Tübingen
END:VEVENT
BEGIN:VEVENT
DTSTAMP:20260421T175724
DTSTART;TZID=Europe/Berlin:20260701T200000
DTEND;TZID=Europe/Berlin:20260701T210000
UID:261-32120Z-20260701T200000@VHSTÜBINGEN
SUMMARY:Fitnessgymnastik mit Musik für Anfänger/-innen und Fortgeschrittene (261-32120Z) 
LOCATION:11 Turn- und Festhalle Lustnau, Gymnastikraum, Neuhaldenstraße 12, 72074 Tübingen
END:VEVENT
BEGIN:VEVENT
DTSTAMP:20260421T175724
DTSTART;TZID=Europe/Berlin:20260708T200000
DTEND;TZID=Europe/Berlin:20260708T210000
UID:261-32120Z-20260708T200000@VHSTÜBINGEN
SUMMARY:Fitnessgymnastik mit Musik für Anfänger/-innen und Fortgeschrittene (261-32120Z) 
LOCATION:11 Turn- und Festhalle Lustnau, Gymnastikraum, Neuhaldenstraße 12, 72074 Tübingen
END:VEVENT
BEGIN:VEVENT
DTSTAMP:20260421T175724
DTSTART;TZID=Europe/Berlin:20260715T200000
DTEND;TZID=Europe/Berlin:20260715T210000
UID:261-32120Z-20260715T200000@VHSTÜBINGEN
SUMMARY:Fitnessgymnastik mit Musik für Anfänger/-innen und Fortgeschrittene (261-32120Z) 
LOCATION:11 Turn- und Festhalle Lustnau, Gymnastikraum, Neuhaldenstraße 12, 72074 Tübingen
END:VEVENT
BEGIN:VEVENT
DTSTAMP:20260421T175724
DTSTART;TZID=Europe/Berlin:20260722T200000
DTEND;TZID=Europe/Berlin:20260722T210000
UID:261-32120Z-20260722T200000@VHSTÜBINGEN
SUMMARY:Fitnessgymnastik mit Musik für Anfänger/-innen und Fortgeschrittene (261-32120Z) 
LOCATION:11 Turn- und Festhalle Lustnau, Gymnastikraum, Neuhaldenstraße 12, 72074 Tübingen
END:VEVENT
END:VCALENDAR