BEGIN:VCALENDAR
VERSION:2.0
PRODID:https://www.kufer.de/kuferweb / DE
METHOD:PUBLISH
CALSCALE:GREGORIAN
X-WR-TIMEZONE:Europe/Berlin
BEGIN:VTIMEZONE
TZID:Europe/Berlin
X-LIC-LOCATION:Europe/Berlin
BEGIN:DAYLIGHT
TZOFFSETFROM:+0100
TZOFFSETTO:+0200
TZNAME:CEST
DTSTART:19700329T020000
RRULE:FREQ=YEARLY;INTERVAL=1;BYDAY=-1SU;BYMONTH=3
END:DAYLIGHT
BEGIN:STANDARD
TZOFFSETFROM:+0200
TZOFFSETTO:+0100
TZNAME:CET
DTSTART:19701025T030000
RRULE:FREQ=YEARLY;INTERVAL=1;BYDAY=-1SU;BYMONTH=10
END:STANDARD
END:VTIMEZONE
BEGIN:VEVENT
DTSTAMP:20260421T133015
DTSTART;TZID=Europe/Berlin:20260611T203000
DTEND;TZID=Europe/Berlin:20260611T213000
UID:261-32157-20260611T203000@VHSTÜBINGEN
SUMMARY:Hula Hoop Fitness für Anfänger/-innen (261-32157) 
LOCATION:11 Turnhalle Neue Silcherschule, Turnhalle, Seelhausgasse 31 , 72070 Tübingen
END:VEVENT
BEGIN:VEVENT
DTSTAMP:20260421T133015
DTSTART;TZID=Europe/Berlin:20260618T203000
DTEND;TZID=Europe/Berlin:20260618T213000
UID:261-32157-20260618T203000@VHSTÜBINGEN
SUMMARY:Hula Hoop Fitness für Anfänger/-innen (261-32157) 
LOCATION:11 Turnhalle Neue Silcherschule, Turnhalle, Seelhausgasse 31 , 72070 Tübingen
END:VEVENT
BEGIN:VEVENT
DTSTAMP:20260421T133015
DTSTART;TZID=Europe/Berlin:20260625T203000
DTEND;TZID=Europe/Berlin:20260625T213000
UID:261-32157-20260625T203000@VHSTÜBINGEN
SUMMARY:Hula Hoop Fitness für Anfänger/-innen (261-32157) 
LOCATION:11 Turnhalle Neue Silcherschule, Turnhalle, Seelhausgasse 31 , 72070 Tübingen
END:VEVENT
BEGIN:VEVENT
DTSTAMP:20260421T133015
DTSTART;TZID=Europe/Berlin:20260702T203000
DTEND;TZID=Europe/Berlin:20260702T213000
UID:261-32157-20260702T203000@VHSTÜBINGEN
SUMMARY:Hula Hoop Fitness für Anfänger/-innen (261-32157) 
LOCATION:11 Turnhalle Neue Silcherschule, Turnhalle, Seelhausgasse 31 , 72070 Tübingen
END:VEVENT
BEGIN:VEVENT
DTSTAMP:20260421T133015
DTSTART;TZID=Europe/Berlin:20260709T203000
DTEND;TZID=Europe/Berlin:20260709T213000
UID:261-32157-20260709T203000@VHSTÜBINGEN
SUMMARY:Hula Hoop Fitness für Anfänger/-innen (261-32157) 
LOCATION:11 Turnhalle Neue Silcherschule, Turnhalle, Seelhausgasse 31 , 72070 Tübingen
END:VEVENT
END:VCALENDAR