BEGIN:VCALENDAR
VERSION:2.0
PRODID:https://www.kufer.de/kuferweb / DE
METHOD:PUBLISH
CALSCALE:GREGORIAN
X-WR-TIMEZONE:Europe/Berlin
BEGIN:VTIMEZONE
TZID:Europe/Berlin
X-LIC-LOCATION:Europe/Berlin
BEGIN:DAYLIGHT
TZOFFSETFROM:+0100
TZOFFSETTO:+0200
TZNAME:CEST
DTSTART:19700329T020000
RRULE:FREQ=YEARLY;INTERVAL=1;BYDAY=-1SU;BYMONTH=3
END:DAYLIGHT
BEGIN:STANDARD
TZOFFSETFROM:+0200
TZOFFSETTO:+0100
TZNAME:CET
DTSTART:19701025T030000
RRULE:FREQ=YEARLY;INTERVAL=1;BYDAY=-1SU;BYMONTH=10
END:STANDARD
END:VTIMEZONE
BEGIN:VEVENT
DTSTAMP:20260421T194900
DTSTART;TZID=Europe/Berlin:20260609T154500
DTEND;TZID=Europe/Berlin:20260609T164500
UID:261-32179-20260609T154500@VHSTÜBINGEN
SUMMARY:After Work Fitness - sportlich in den Feierabend für Anfänger/-innen und Fortgeschrittene (261-32179) 
LOCATION:11 Hermann-Hepper-Turnhalle, Gymnastikraum, Westbahnhofstraße 23, 72070 Tübingen
END:VEVENT
BEGIN:VEVENT
DTSTAMP:20260421T194900
DTSTART;TZID=Europe/Berlin:20260616T154500
DTEND;TZID=Europe/Berlin:20260616T164500
UID:261-32179-20260616T154500@VHSTÜBINGEN
SUMMARY:After Work Fitness - sportlich in den Feierabend für Anfänger/-innen und Fortgeschrittene (261-32179) 
LOCATION:11 Hermann-Hepper-Turnhalle, Gymnastikraum, Westbahnhofstraße 23, 72070 Tübingen
END:VEVENT
BEGIN:VEVENT
DTSTAMP:20260421T194900
DTSTART;TZID=Europe/Berlin:20260623T154500
DTEND;TZID=Europe/Berlin:20260623T164500
UID:261-32179-20260623T154500@VHSTÜBINGEN
SUMMARY:After Work Fitness - sportlich in den Feierabend für Anfänger/-innen und Fortgeschrittene (261-32179) 
LOCATION:11 Hermann-Hepper-Turnhalle, Gymnastikraum, Westbahnhofstraße 23, 72070 Tübingen
END:VEVENT
BEGIN:VEVENT
DTSTAMP:20260421T194900
DTSTART;TZID=Europe/Berlin:20260630T154500
DTEND;TZID=Europe/Berlin:20260630T164500
UID:261-32179-20260630T154500@VHSTÜBINGEN
SUMMARY:After Work Fitness - sportlich in den Feierabend für Anfänger/-innen und Fortgeschrittene (261-32179) 
LOCATION:11 Hermann-Hepper-Turnhalle, Gymnastikraum, Westbahnhofstraße 23, 72070 Tübingen
END:VEVENT
BEGIN:VEVENT
DTSTAMP:20260421T194900
DTSTART;TZID=Europe/Berlin:20260707T154500
DTEND;TZID=Europe/Berlin:20260707T164500
UID:261-32179-20260707T154500@VHSTÜBINGEN
SUMMARY:After Work Fitness - sportlich in den Feierabend für Anfänger/-innen und Fortgeschrittene (261-32179) 
LOCATION:11 Hermann-Hepper-Turnhalle, Gymnastikraum, Westbahnhofstraße 23, 72070 Tübingen
END:VEVENT
BEGIN:VEVENT
DTSTAMP:20260421T194900
DTSTART;TZID=Europe/Berlin:20260714T154500
DTEND;TZID=Europe/Berlin:20260714T164500
UID:261-32179-20260714T154500@VHSTÜBINGEN
SUMMARY:After Work Fitness - sportlich in den Feierabend für Anfänger/-innen und Fortgeschrittene (261-32179) 
LOCATION:11 Hermann-Hepper-Turnhalle, Gymnastikraum, Westbahnhofstraße 23, 72070 Tübingen
END:VEVENT
BEGIN:VEVENT
DTSTAMP:20260421T194900
DTSTART;TZID=Europe/Berlin:20260721T154500
DTEND;TZID=Europe/Berlin:20260721T164500
UID:261-32179-20260721T154500@VHSTÜBINGEN
SUMMARY:After Work Fitness - sportlich in den Feierabend für Anfänger/-innen und Fortgeschrittene (261-32179) 
LOCATION:11 Hermann-Hepper-Turnhalle, Gymnastikraum, Westbahnhofstraße 23, 72070 Tübingen
END:VEVENT
BEGIN:VEVENT
DTSTAMP:20260421T194900
DTSTART;TZID=Europe/Berlin:20260728T154500
DTEND;TZID=Europe/Berlin:20260728T164500
UID:261-32179-20260728T154500@VHSTÜBINGEN
SUMMARY:After Work Fitness - sportlich in den Feierabend für Anfänger/-innen und Fortgeschrittene (261-32179) 
LOCATION:11 Hermann-Hepper-Turnhalle, Gymnastikraum, Westbahnhofstraße 23, 72070 Tübingen
END:VEVENT
END:VCALENDAR