BEGIN:VCALENDAR
VERSION:2.0
PRODID:https://www.kufer.de/kuferweb / DE
METHOD:PUBLISH
CALSCALE:GREGORIAN
X-WR-TIMEZONE:Europe/Berlin
BEGIN:VTIMEZONE
TZID:Europe/Berlin
X-LIC-LOCATION:Europe/Berlin
BEGIN:DAYLIGHT
TZOFFSETFROM:+0100
TZOFFSETTO:+0200
TZNAME:CEST
DTSTART:19700329T020000
RRULE:FREQ=YEARLY;INTERVAL=1;BYDAY=-1SU;BYMONTH=3
END:DAYLIGHT
BEGIN:STANDARD
TZOFFSETFROM:+0200
TZOFFSETTO:+0100
TZNAME:CET
DTSTART:19701025T030000
RRULE:FREQ=YEARLY;INTERVAL=1;BYDAY=-1SU;BYMONTH=10
END:STANDARD
END:VTIMEZONE
BEGIN:VEVENT
DTSTAMP:20260421T191040
DTSTART;TZID=Europe/Berlin:20260611T203000
DTEND;TZID=Europe/Berlin:20260611T213000
UID:261-32232Z-20260611T203000@VHSTÜBINGEN
SUMMARY:Pilates für Anfänger/-innen und Fortgeschrittene (261-32232Z) 
LOCATION:vhs, Gesundheitsraum 014, Katharinenstraße 18, 72072 Tübingen
END:VEVENT
BEGIN:VEVENT
DTSTAMP:20260421T191040
DTSTART;TZID=Europe/Berlin:20260618T203000
DTEND;TZID=Europe/Berlin:20260618T213000
UID:261-32232Z-20260618T203000@VHSTÜBINGEN
SUMMARY:Pilates für Anfänger/-innen und Fortgeschrittene (261-32232Z) 
LOCATION:vhs, Gesundheitsraum 014, Katharinenstraße 18, 72072 Tübingen
END:VEVENT
BEGIN:VEVENT
DTSTAMP:20260421T191040
DTSTART;TZID=Europe/Berlin:20260625T203000
DTEND;TZID=Europe/Berlin:20260625T213000
UID:261-32232Z-20260625T203000@VHSTÜBINGEN
SUMMARY:Pilates für Anfänger/-innen und Fortgeschrittene (261-32232Z) 
LOCATION:vhs, Gesundheitsraum 014, Katharinenstraße 18, 72072 Tübingen
END:VEVENT
BEGIN:VEVENT
DTSTAMP:20260421T191040
DTSTART;TZID=Europe/Berlin:20260702T203000
DTEND;TZID=Europe/Berlin:20260702T213000
UID:261-32232Z-20260702T203000@VHSTÜBINGEN
SUMMARY:Pilates für Anfänger/-innen und Fortgeschrittene (261-32232Z) 
LOCATION:vhs, Gesundheitsraum 014, Katharinenstraße 18, 72072 Tübingen
END:VEVENT
BEGIN:VEVENT
DTSTAMP:20260421T191040
DTSTART;TZID=Europe/Berlin:20260709T203000
DTEND;TZID=Europe/Berlin:20260709T213000
UID:261-32232Z-20260709T203000@VHSTÜBINGEN
SUMMARY:Pilates für Anfänger/-innen und Fortgeschrittene (261-32232Z) 
LOCATION:vhs, Gesundheitsraum 014, Katharinenstraße 18, 72072 Tübingen
END:VEVENT
BEGIN:VEVENT
DTSTAMP:20260421T191040
DTSTART;TZID=Europe/Berlin:20260716T203000
DTEND;TZID=Europe/Berlin:20260716T213000
UID:261-32232Z-20260716T203000@VHSTÜBINGEN
SUMMARY:Pilates für Anfänger/-innen und Fortgeschrittene (261-32232Z) 
LOCATION:vhs, Gesundheitsraum 014, Katharinenstraße 18, 72072 Tübingen
END:VEVENT
BEGIN:VEVENT
DTSTAMP:20260421T191040
DTSTART;TZID=Europe/Berlin:20260723T203000
DTEND;TZID=Europe/Berlin:20260723T213000
UID:261-32232Z-20260723T203000@VHSTÜBINGEN
SUMMARY:Pilates für Anfänger/-innen und Fortgeschrittene (261-32232Z) 
LOCATION:vhs, Gesundheitsraum 014, Katharinenstraße 18, 72072 Tübingen
END:VEVENT
END:VCALENDAR