BEGIN:VCALENDAR
VERSION:2.0
PRODID:https://www.kufer.de/kuferweb / DE
METHOD:PUBLISH
CALSCALE:GREGORIAN
X-WR-TIMEZONE:Europe/Berlin
BEGIN:VTIMEZONE
TZID:Europe/Berlin
X-LIC-LOCATION:Europe/Berlin
BEGIN:DAYLIGHT
TZOFFSETFROM:+0100
TZOFFSETTO:+0200
TZNAME:CEST
DTSTART:19700329T020000
RRULE:FREQ=YEARLY;INTERVAL=1;BYDAY=-1SU;BYMONTH=3
END:DAYLIGHT
BEGIN:STANDARD
TZOFFSETFROM:+0200
TZOFFSETTO:+0100
TZNAME:CET
DTSTART:19701025T030000
RRULE:FREQ=YEARLY;INTERVAL=1;BYDAY=-1SU;BYMONTH=10
END:STANDARD
END:VTIMEZONE
BEGIN:VEVENT
DTSTAMP:20260421T171531
DTSTART;TZID=Europe/Berlin:20260512T104000
DTEND;TZID=Europe/Berlin:20260512T114000
UID:261-32234Z-20260512T104000@VHSTÜBINGEN
SUMMARY:Pilates für Anfänger/-innen (261-32234Z) 
LOCATION:vhs, Gesundheitsraum 114, Katharinenstraße 18, 72072 Tübingen
END:VEVENT
BEGIN:VEVENT
DTSTAMP:20260421T171531
DTSTART;TZID=Europe/Berlin:20260519T104000
DTEND;TZID=Europe/Berlin:20260519T114000
UID:261-32234Z-20260519T104000@VHSTÜBINGEN
SUMMARY:Pilates für Anfänger/-innen (261-32234Z) 
LOCATION:vhs, Gesundheitsraum 114, Katharinenstraße 18, 72072 Tübingen
END:VEVENT
BEGIN:VEVENT
DTSTAMP:20260421T171531
DTSTART;TZID=Europe/Berlin:20260609T104000
DTEND;TZID=Europe/Berlin:20260609T114000
UID:261-32234Z-20260609T104000@VHSTÜBINGEN
SUMMARY:Pilates für Anfänger/-innen (261-32234Z) 
LOCATION:vhs, Gesundheitsraum 114, Katharinenstraße 18, 72072 Tübingen
END:VEVENT
BEGIN:VEVENT
DTSTAMP:20260421T171531
DTSTART;TZID=Europe/Berlin:20260616T104000
DTEND;TZID=Europe/Berlin:20260616T114000
UID:261-32234Z-20260616T104000@VHSTÜBINGEN
SUMMARY:Pilates für Anfänger/-innen (261-32234Z) 
LOCATION:vhs, Gesundheitsraum 114, Katharinenstraße 18, 72072 Tübingen
END:VEVENT
BEGIN:VEVENT
DTSTAMP:20260421T171531
DTSTART;TZID=Europe/Berlin:20260623T104000
DTEND;TZID=Europe/Berlin:20260623T114000
UID:261-32234Z-20260623T104000@VHSTÜBINGEN
SUMMARY:Pilates für Anfänger/-innen (261-32234Z) 
LOCATION:vhs, Gesundheitsraum 114, Katharinenstraße 18, 72072 Tübingen
END:VEVENT
BEGIN:VEVENT
DTSTAMP:20260421T171531
DTSTART;TZID=Europe/Berlin:20260630T104000
DTEND;TZID=Europe/Berlin:20260630T114000
UID:261-32234Z-20260630T104000@VHSTÜBINGEN
SUMMARY:Pilates für Anfänger/-innen (261-32234Z) 
LOCATION:vhs, Gesundheitsraum 114, Katharinenstraße 18, 72072 Tübingen
END:VEVENT
BEGIN:VEVENT
DTSTAMP:20260421T171531
DTSTART;TZID=Europe/Berlin:20260707T104000
DTEND;TZID=Europe/Berlin:20260707T114000
UID:261-32234Z-20260707T104000@VHSTÜBINGEN
SUMMARY:Pilates für Anfänger/-innen (261-32234Z) 
LOCATION:vhs, Gesundheitsraum 114, Katharinenstraße 18, 72072 Tübingen
END:VEVENT
BEGIN:VEVENT
DTSTAMP:20260421T171531
DTSTART;TZID=Europe/Berlin:20260714T104000
DTEND;TZID=Europe/Berlin:20260714T114000
UID:261-32234Z-20260714T104000@VHSTÜBINGEN
SUMMARY:Pilates für Anfänger/-innen (261-32234Z) 
LOCATION:vhs, Gesundheitsraum 114, Katharinenstraße 18, 72072 Tübingen
END:VEVENT
BEGIN:VEVENT
DTSTAMP:20260421T171531
DTSTART;TZID=Europe/Berlin:20260721T104000
DTEND;TZID=Europe/Berlin:20260721T114000
UID:261-32234Z-20260721T104000@VHSTÜBINGEN
SUMMARY:Pilates für Anfänger/-innen (261-32234Z) 
LOCATION:vhs, Gesundheitsraum 114, Katharinenstraße 18, 72072 Tübingen
END:VEVENT
END:VCALENDAR