BEGIN:VCALENDAR
VERSION:2.0
PRODID:https://www.kufer.de/kuferweb / DE
METHOD:PUBLISH
CALSCALE:GREGORIAN
X-WR-TIMEZONE:Europe/Berlin
BEGIN:VTIMEZONE
TZID:Europe/Berlin
X-LIC-LOCATION:Europe/Berlin
BEGIN:DAYLIGHT
TZOFFSETFROM:+0100
TZOFFSETTO:+0200
TZNAME:CEST
DTSTART:19700329T020000
RRULE:FREQ=YEARLY;INTERVAL=1;BYDAY=-1SU;BYMONTH=3
END:DAYLIGHT
BEGIN:STANDARD
TZOFFSETFROM:+0200
TZOFFSETTO:+0100
TZNAME:CET
DTSTART:19701025T030000
RRULE:FREQ=YEARLY;INTERVAL=1;BYDAY=-1SU;BYMONTH=10
END:STANDARD
END:VTIMEZONE
BEGIN:VEVENT
DTSTAMP:20260421T182638
DTSTART;TZID=Europe/Berlin:20260310T180000
DTEND;TZID=Europe/Berlin:20260310T185500
UID:261-32321-20260310T180000@VHSTÜBINGEN
SUMMARY:Bodytoning Short Version für Anfänger/-innen und Fortgeschrittene (261-32321) 
LOCATION:vhs, Gesundheitsraum 014, Katharinenstraße 18, 72072 Tübingen
END:VEVENT
BEGIN:VEVENT
DTSTAMP:20260421T182638
DTSTART;TZID=Europe/Berlin:20260317T180000
DTEND;TZID=Europe/Berlin:20260317T185500
UID:261-32321-20260317T180000@VHSTÜBINGEN
SUMMARY:Bodytoning Short Version für Anfänger/-innen und Fortgeschrittene (261-32321) 
LOCATION:vhs, Gesundheitsraum 014, Katharinenstraße 18, 72072 Tübingen
END:VEVENT
BEGIN:VEVENT
DTSTAMP:20260421T182638
DTSTART;TZID=Europe/Berlin:20260324T180000
DTEND;TZID=Europe/Berlin:20260324T185500
UID:261-32321-20260324T180000@VHSTÜBINGEN
SUMMARY:Bodytoning Short Version für Anfänger/-innen und Fortgeschrittene (261-32321) 
LOCATION:vhs, Gesundheitsraum 014, Katharinenstraße 18, 72072 Tübingen
END:VEVENT
BEGIN:VEVENT
DTSTAMP:20260421T182638
DTSTART;TZID=Europe/Berlin:20260414T180000
DTEND;TZID=Europe/Berlin:20260414T185500
UID:261-32321-20260414T180000@VHSTÜBINGEN
SUMMARY:Bodytoning Short Version für Anfänger/-innen und Fortgeschrittene (261-32321) 
LOCATION:vhs, Gesundheitsraum 014, Katharinenstraße 18, 72072 Tübingen
END:VEVENT
BEGIN:VEVENT
DTSTAMP:20260421T182638
DTSTART;TZID=Europe/Berlin:20260421T180000
DTEND;TZID=Europe/Berlin:20260421T185500
UID:261-32321-20260421T180000@VHSTÜBINGEN
SUMMARY:Bodytoning Short Version für Anfänger/-innen und Fortgeschrittene (261-32321) 
LOCATION:vhs, Gesundheitsraum 014, Katharinenstraße 18, 72072 Tübingen
END:VEVENT
BEGIN:VEVENT
DTSTAMP:20260421T182638
DTSTART;TZID=Europe/Berlin:20260428T180000
DTEND;TZID=Europe/Berlin:20260428T185500
UID:261-32321-20260428T180000@VHSTÜBINGEN
SUMMARY:Bodytoning Short Version für Anfänger/-innen und Fortgeschrittene (261-32321) 
LOCATION:vhs, Gesundheitsraum 014, Katharinenstraße 18, 72072 Tübingen
END:VEVENT
BEGIN:VEVENT
DTSTAMP:20260421T182638
DTSTART;TZID=Europe/Berlin:20260505T180000
DTEND;TZID=Europe/Berlin:20260505T185500
UID:261-32321-20260505T180000@VHSTÜBINGEN
SUMMARY:Bodytoning Short Version für Anfänger/-innen und Fortgeschrittene (261-32321) 
LOCATION:vhs, Gesundheitsraum 014, Katharinenstraße 18, 72072 Tübingen
END:VEVENT
BEGIN:VEVENT
DTSTAMP:20260421T182638
DTSTART;TZID=Europe/Berlin:20260512T180000
DTEND;TZID=Europe/Berlin:20260512T185500
UID:261-32321-20260512T180000@VHSTÜBINGEN
SUMMARY:Bodytoning Short Version für Anfänger/-innen und Fortgeschrittene (261-32321) 
LOCATION:vhs, Gesundheitsraum 014, Katharinenstraße 18, 72072 Tübingen
END:VEVENT
BEGIN:VEVENT
DTSTAMP:20260421T182638
DTSTART;TZID=Europe/Berlin:20260519T180000
DTEND;TZID=Europe/Berlin:20260519T185500
UID:261-32321-20260519T180000@VHSTÜBINGEN
SUMMARY:Bodytoning Short Version für Anfänger/-innen und Fortgeschrittene (261-32321) 
LOCATION:vhs, Gesundheitsraum 014, Katharinenstraße 18, 72072 Tübingen
END:VEVENT
BEGIN:VEVENT
DTSTAMP:20260421T182638
DTSTART;TZID=Europe/Berlin:20260609T180000
DTEND;TZID=Europe/Berlin:20260609T185500
UID:261-32321-20260609T180000@VHSTÜBINGEN
SUMMARY:Bodytoning Short Version für Anfänger/-innen und Fortgeschrittene (261-32321) 
LOCATION:vhs, Gesundheitsraum 014, Katharinenstraße 18, 72072 Tübingen
END:VEVENT
BEGIN:VEVENT
DTSTAMP:20260421T182638
DTSTART;TZID=Europe/Berlin:20260616T180000
DTEND;TZID=Europe/Berlin:20260616T185500
UID:261-32321-20260616T180000@VHSTÜBINGEN
SUMMARY:Bodytoning Short Version für Anfänger/-innen und Fortgeschrittene (261-32321) 
LOCATION:vhs, Gesundheitsraum 014, Katharinenstraße 18, 72072 Tübingen
END:VEVENT
BEGIN:VEVENT
DTSTAMP:20260421T182638
DTSTART;TZID=Europe/Berlin:20260623T180000
DTEND;TZID=Europe/Berlin:20260623T185500
UID:261-32321-20260623T180000@VHSTÜBINGEN
SUMMARY:Bodytoning Short Version für Anfänger/-innen und Fortgeschrittene (261-32321) 
LOCATION:vhs, Gesundheitsraum 014, Katharinenstraße 18, 72072 Tübingen
END:VEVENT
BEGIN:VEVENT
DTSTAMP:20260421T182638
DTSTART;TZID=Europe/Berlin:20260630T180000
DTEND;TZID=Europe/Berlin:20260630T185500
UID:261-32321-20260630T180000@VHSTÜBINGEN
SUMMARY:Bodytoning Short Version für Anfänger/-innen und Fortgeschrittene (261-32321) 
LOCATION:vhs, Gesundheitsraum 014, Katharinenstraße 18, 72072 Tübingen
END:VEVENT
BEGIN:VEVENT
DTSTAMP:20260421T182638
DTSTART;TZID=Europe/Berlin:20260707T180000
DTEND;TZID=Europe/Berlin:20260707T185500
UID:261-32321-20260707T180000@VHSTÜBINGEN
SUMMARY:Bodytoning Short Version für Anfänger/-innen und Fortgeschrittene (261-32321) 
LOCATION:vhs, Gesundheitsraum 014, Katharinenstraße 18, 72072 Tübingen
END:VEVENT
BEGIN:VEVENT
DTSTAMP:20260421T182638
DTSTART;TZID=Europe/Berlin:20260714T180000
DTEND;TZID=Europe/Berlin:20260714T185500
UID:261-32321-20260714T180000@VHSTÜBINGEN
SUMMARY:Bodytoning Short Version für Anfänger/-innen und Fortgeschrittene (261-32321) 
LOCATION:vhs, Gesundheitsraum 014, Katharinenstraße 18, 72072 Tübingen
END:VEVENT
BEGIN:VEVENT
DTSTAMP:20260421T182638
DTSTART;TZID=Europe/Berlin:20260721T180000
DTEND;TZID=Europe/Berlin:20260721T185500
UID:261-32321-20260721T180000@VHSTÜBINGEN
SUMMARY:Bodytoning Short Version für Anfänger/-innen und Fortgeschrittene (261-32321) 
LOCATION:vhs, Gesundheitsraum 014, Katharinenstraße 18, 72072 Tübingen
END:VEVENT
BEGIN:VEVENT
DTSTAMP:20260421T182638
DTSTART;TZID=Europe/Berlin:20260728T180000
DTEND;TZID=Europe/Berlin:20260728T185500
UID:261-32321-20260728T180000@VHSTÜBINGEN
SUMMARY:Bodytoning Short Version für Anfänger/-innen und Fortgeschrittene (261-32321) 
LOCATION:vhs, Gesundheitsraum 014, Katharinenstraße 18, 72072 Tübingen
END:VEVENT
END:VCALENDAR