BEGIN:VCALENDAR
VERSION:2.0
PRODID:https://www.kufer.de/kuferweb / DE
METHOD:PUBLISH
CALSCALE:GREGORIAN
X-WR-TIMEZONE:Europe/Berlin
BEGIN:VTIMEZONE
TZID:Europe/Berlin
X-LIC-LOCATION:Europe/Berlin
BEGIN:DAYLIGHT
TZOFFSETFROM:+0100
TZOFFSETTO:+0200
TZNAME:CEST
DTSTART:19700329T020000
RRULE:FREQ=YEARLY;INTERVAL=1;BYDAY=-1SU;BYMONTH=3
END:DAYLIGHT
BEGIN:STANDARD
TZOFFSETFROM:+0200
TZOFFSETTO:+0100
TZNAME:CET
DTSTART:19701025T030000
RRULE:FREQ=YEARLY;INTERVAL=1;BYDAY=-1SU;BYMONTH=10
END:STANDARD
END:VTIMEZONE
BEGIN:VEVENT
DTSTAMP:20260421T182628
DTSTART;TZID=Europe/Berlin:20260310T190000
DTEND;TZID=Europe/Berlin:20260310T201500
UID:261-32322-20260310T190000@VHSTÜBINGEN
SUMMARY:Bodytoning für Anfänger/-innen und Fortgeschrittene (261-32322) 
LOCATION:vhs, Gesundheitsraum 014, Katharinenstraße 18, 72072 Tübingen
END:VEVENT
BEGIN:VEVENT
DTSTAMP:20260421T182628
DTSTART;TZID=Europe/Berlin:20260317T190000
DTEND;TZID=Europe/Berlin:20260317T201500
UID:261-32322-20260317T190000@VHSTÜBINGEN
SUMMARY:Bodytoning für Anfänger/-innen und Fortgeschrittene (261-32322) 
LOCATION:vhs, Gesundheitsraum 014, Katharinenstraße 18, 72072 Tübingen
END:VEVENT
BEGIN:VEVENT
DTSTAMP:20260421T182628
DTSTART;TZID=Europe/Berlin:20260324T190000
DTEND;TZID=Europe/Berlin:20260324T201500
UID:261-32322-20260324T190000@VHSTÜBINGEN
SUMMARY:Bodytoning für Anfänger/-innen und Fortgeschrittene (261-32322) 
LOCATION:vhs, Gesundheitsraum 014, Katharinenstraße 18, 72072 Tübingen
END:VEVENT
BEGIN:VEVENT
DTSTAMP:20260421T182628
DTSTART;TZID=Europe/Berlin:20260414T190000
DTEND;TZID=Europe/Berlin:20260414T201500
UID:261-32322-20260414T190000@VHSTÜBINGEN
SUMMARY:Bodytoning für Anfänger/-innen und Fortgeschrittene (261-32322) 
LOCATION:vhs, Gesundheitsraum 014, Katharinenstraße 18, 72072 Tübingen
END:VEVENT
BEGIN:VEVENT
DTSTAMP:20260421T182628
DTSTART;TZID=Europe/Berlin:20260421T190000
DTEND;TZID=Europe/Berlin:20260421T201500
UID:261-32322-20260421T190000@VHSTÜBINGEN
SUMMARY:Bodytoning für Anfänger/-innen und Fortgeschrittene (261-32322) 
LOCATION:vhs, Gesundheitsraum 014, Katharinenstraße 18, 72072 Tübingen
END:VEVENT
BEGIN:VEVENT
DTSTAMP:20260421T182628
DTSTART;TZID=Europe/Berlin:20260428T190000
DTEND;TZID=Europe/Berlin:20260428T201500
UID:261-32322-20260428T190000@VHSTÜBINGEN
SUMMARY:Bodytoning für Anfänger/-innen und Fortgeschrittene (261-32322) 
LOCATION:vhs, Gesundheitsraum 014, Katharinenstraße 18, 72072 Tübingen
END:VEVENT
BEGIN:VEVENT
DTSTAMP:20260421T182628
DTSTART;TZID=Europe/Berlin:20260505T190000
DTEND;TZID=Europe/Berlin:20260505T201500
UID:261-32322-20260505T190000@VHSTÜBINGEN
SUMMARY:Bodytoning für Anfänger/-innen und Fortgeschrittene (261-32322) 
LOCATION:vhs, Gesundheitsraum 014, Katharinenstraße 18, 72072 Tübingen
END:VEVENT
BEGIN:VEVENT
DTSTAMP:20260421T182628
DTSTART;TZID=Europe/Berlin:20260512T190000
DTEND;TZID=Europe/Berlin:20260512T201500
UID:261-32322-20260512T190000@VHSTÜBINGEN
SUMMARY:Bodytoning für Anfänger/-innen und Fortgeschrittene (261-32322) 
LOCATION:vhs, Gesundheitsraum 014, Katharinenstraße 18, 72072 Tübingen
END:VEVENT
BEGIN:VEVENT
DTSTAMP:20260421T182628
DTSTART;TZID=Europe/Berlin:20260519T190000
DTEND;TZID=Europe/Berlin:20260519T201500
UID:261-32322-20260519T190000@VHSTÜBINGEN
SUMMARY:Bodytoning für Anfänger/-innen und Fortgeschrittene (261-32322) 
LOCATION:vhs, Gesundheitsraum 014, Katharinenstraße 18, 72072 Tübingen
END:VEVENT
BEGIN:VEVENT
DTSTAMP:20260421T182628
DTSTART;TZID=Europe/Berlin:20260609T190000
DTEND;TZID=Europe/Berlin:20260609T201500
UID:261-32322-20260609T190000@VHSTÜBINGEN
SUMMARY:Bodytoning für Anfänger/-innen und Fortgeschrittene (261-32322) 
LOCATION:vhs, Gesundheitsraum 014, Katharinenstraße 18, 72072 Tübingen
END:VEVENT
BEGIN:VEVENT
DTSTAMP:20260421T182628
DTSTART;TZID=Europe/Berlin:20260616T190000
DTEND;TZID=Europe/Berlin:20260616T201500
UID:261-32322-20260616T190000@VHSTÜBINGEN
SUMMARY:Bodytoning für Anfänger/-innen und Fortgeschrittene (261-32322) 
LOCATION:vhs, Gesundheitsraum 014, Katharinenstraße 18, 72072 Tübingen
END:VEVENT
BEGIN:VEVENT
DTSTAMP:20260421T182628
DTSTART;TZID=Europe/Berlin:20260623T190000
DTEND;TZID=Europe/Berlin:20260623T201500
UID:261-32322-20260623T190000@VHSTÜBINGEN
SUMMARY:Bodytoning für Anfänger/-innen und Fortgeschrittene (261-32322) 
LOCATION:vhs, Gesundheitsraum 014, Katharinenstraße 18, 72072 Tübingen
END:VEVENT
BEGIN:VEVENT
DTSTAMP:20260421T182628
DTSTART;TZID=Europe/Berlin:20260630T190000
DTEND;TZID=Europe/Berlin:20260630T201500
UID:261-32322-20260630T190000@VHSTÜBINGEN
SUMMARY:Bodytoning für Anfänger/-innen und Fortgeschrittene (261-32322) 
LOCATION:vhs, Gesundheitsraum 014, Katharinenstraße 18, 72072 Tübingen
END:VEVENT
BEGIN:VEVENT
DTSTAMP:20260421T182628
DTSTART;TZID=Europe/Berlin:20260707T190000
DTEND;TZID=Europe/Berlin:20260707T201500
UID:261-32322-20260707T190000@VHSTÜBINGEN
SUMMARY:Bodytoning für Anfänger/-innen und Fortgeschrittene (261-32322) 
LOCATION:vhs, Gesundheitsraum 014, Katharinenstraße 18, 72072 Tübingen
END:VEVENT
BEGIN:VEVENT
DTSTAMP:20260421T182628
DTSTART;TZID=Europe/Berlin:20260714T190000
DTEND;TZID=Europe/Berlin:20260714T201500
UID:261-32322-20260714T190000@VHSTÜBINGEN
SUMMARY:Bodytoning für Anfänger/-innen und Fortgeschrittene (261-32322) 
LOCATION:vhs, Gesundheitsraum 014, Katharinenstraße 18, 72072 Tübingen
END:VEVENT
BEGIN:VEVENT
DTSTAMP:20260421T182628
DTSTART;TZID=Europe/Berlin:20260721T190000
DTEND;TZID=Europe/Berlin:20260721T201500
UID:261-32322-20260721T190000@VHSTÜBINGEN
SUMMARY:Bodytoning für Anfänger/-innen und Fortgeschrittene (261-32322) 
LOCATION:vhs, Gesundheitsraum 014, Katharinenstraße 18, 72072 Tübingen
END:VEVENT
BEGIN:VEVENT
DTSTAMP:20260421T182628
DTSTART;TZID=Europe/Berlin:20260728T190000
DTEND;TZID=Europe/Berlin:20260728T201500
UID:261-32322-20260728T190000@VHSTÜBINGEN
SUMMARY:Bodytoning für Anfänger/-innen und Fortgeschrittene (261-32322) 
LOCATION:vhs, Gesundheitsraum 014, Katharinenstraße 18, 72072 Tübingen
END:VEVENT
END:VCALENDAR