BEGIN:VCALENDAR
VERSION:2.0
PRODID:https://www.kufer.de/kuferweb / DE
METHOD:PUBLISH
CALSCALE:GREGORIAN
X-WR-TIMEZONE:Europe/Berlin
BEGIN:VTIMEZONE
TZID:Europe/Berlin
X-LIC-LOCATION:Europe/Berlin
BEGIN:DAYLIGHT
TZOFFSETFROM:+0100
TZOFFSETTO:+0200
TZNAME:CEST
DTSTART:19700329T020000
RRULE:FREQ=YEARLY;INTERVAL=1;BYDAY=-1SU;BYMONTH=3
END:DAYLIGHT
BEGIN:STANDARD
TZOFFSETFROM:+0200
TZOFFSETTO:+0100
TZNAME:CET
DTSTART:19701025T030000
RRULE:FREQ=YEARLY;INTERVAL=1;BYDAY=-1SU;BYMONTH=10
END:STANDARD
END:VTIMEZONE
BEGIN:VEVENT
DTSTAMP:20260421T150406
DTSTART;TZID=Europe/Berlin:20260224T164500
DTEND;TZID=Europe/Berlin:20260224T174500
UID:261-32622-20260224T164500@VHSTÜBINGEN
SUMMARY:Aquajogging - Aquafit Im Flachwasser, für Anfänger/-innen und Fortgeschrittene (261-32622) 
LOCATION:20 Kirnbachschule Pfrondorf, Schwimmhalle, Hägnach 18, 72074 Tübingen
END:VEVENT
BEGIN:VEVENT
DTSTAMP:20260421T150406
DTSTART;TZID=Europe/Berlin:20260303T164500
DTEND;TZID=Europe/Berlin:20260303T174500
UID:261-32622-20260303T164500@VHSTÜBINGEN
SUMMARY:Aquajogging - Aquafit Im Flachwasser, für Anfänger/-innen und Fortgeschrittene (261-32622) 
LOCATION:20 Kirnbachschule Pfrondorf, Schwimmhalle, Hägnach 18, 72074 Tübingen
END:VEVENT
BEGIN:VEVENT
DTSTAMP:20260421T150406
DTSTART;TZID=Europe/Berlin:20260310T164500
DTEND;TZID=Europe/Berlin:20260310T174500
UID:261-32622-20260310T164500@VHSTÜBINGEN
SUMMARY:Aquajogging - Aquafit Im Flachwasser, für Anfänger/-innen und Fortgeschrittene (261-32622) 
LOCATION:20 Kirnbachschule Pfrondorf, Schwimmhalle, Hägnach 18, 72074 Tübingen
END:VEVENT
BEGIN:VEVENT
DTSTAMP:20260421T150406
DTSTART;TZID=Europe/Berlin:20260317T164500
DTEND;TZID=Europe/Berlin:20260317T174500
UID:261-32622-20260317T164500@VHSTÜBINGEN
SUMMARY:Aquajogging - Aquafit Im Flachwasser, für Anfänger/-innen und Fortgeschrittene (261-32622) 
LOCATION:20 Kirnbachschule Pfrondorf, Schwimmhalle, Hägnach 18, 72074 Tübingen
END:VEVENT
BEGIN:VEVENT
DTSTAMP:20260421T150406
DTSTART;TZID=Europe/Berlin:20260324T164500
DTEND;TZID=Europe/Berlin:20260324T174500
UID:261-32622-20260324T164500@VHSTÜBINGEN
SUMMARY:Aquajogging - Aquafit Im Flachwasser, für Anfänger/-innen und Fortgeschrittene (261-32622) 
LOCATION:20 Kirnbachschule Pfrondorf, Schwimmhalle, Hägnach 18, 72074 Tübingen
END:VEVENT
BEGIN:VEVENT
DTSTAMP:20260421T150406
DTSTART;TZID=Europe/Berlin:20260414T164500
DTEND;TZID=Europe/Berlin:20260414T174500
UID:261-32622-20260414T164500@VHSTÜBINGEN
SUMMARY:Aquajogging - Aquafit Im Flachwasser, für Anfänger/-innen und Fortgeschrittene (261-32622) 
LOCATION:20 Kirnbachschule Pfrondorf, Schwimmhalle, Hägnach 18, 72074 Tübingen
END:VEVENT
BEGIN:VEVENT
DTSTAMP:20260421T150406
DTSTART;TZID=Europe/Berlin:20260421T164500
DTEND;TZID=Europe/Berlin:20260421T174500
UID:261-32622-20260421T164500@VHSTÜBINGEN
SUMMARY:Aquajogging - Aquafit Im Flachwasser, für Anfänger/-innen und Fortgeschrittene (261-32622) 
LOCATION:20 Kirnbachschule Pfrondorf, Schwimmhalle, Hägnach 18, 72074 Tübingen
END:VEVENT
BEGIN:VEVENT
DTSTAMP:20260421T150406
DTSTART;TZID=Europe/Berlin:20260428T164500
DTEND;TZID=Europe/Berlin:20260428T174500
UID:261-32622-20260428T164500@VHSTÜBINGEN
SUMMARY:Aquajogging - Aquafit Im Flachwasser, für Anfänger/-innen und Fortgeschrittene (261-32622) 
LOCATION:20 Kirnbachschule Pfrondorf, Schwimmhalle, Hägnach 18, 72074 Tübingen
END:VEVENT
BEGIN:VEVENT
DTSTAMP:20260421T150406
DTSTART;TZID=Europe/Berlin:20260505T164500
DTEND;TZID=Europe/Berlin:20260505T174500
UID:261-32622-20260505T164500@VHSTÜBINGEN
SUMMARY:Aquajogging - Aquafit Im Flachwasser, für Anfänger/-innen und Fortgeschrittene (261-32622) 
LOCATION:20 Kirnbachschule Pfrondorf, Schwimmhalle, Hägnach 18, 72074 Tübingen
END:VEVENT
BEGIN:VEVENT
DTSTAMP:20260421T150406
DTSTART;TZID=Europe/Berlin:20260512T164500
DTEND;TZID=Europe/Berlin:20260512T174500
UID:261-32622-20260512T164500@VHSTÜBINGEN
SUMMARY:Aquajogging - Aquafit Im Flachwasser, für Anfänger/-innen und Fortgeschrittene (261-32622) 
LOCATION:20 Kirnbachschule Pfrondorf, Schwimmhalle, Hägnach 18, 72074 Tübingen
END:VEVENT
BEGIN:VEVENT
DTSTAMP:20260421T150406
DTSTART;TZID=Europe/Berlin:20260609T164500
DTEND;TZID=Europe/Berlin:20260609T174500
UID:261-32622-20260609T164500@VHSTÜBINGEN
SUMMARY:Aquajogging - Aquafit Im Flachwasser, für Anfänger/-innen und Fortgeschrittene (261-32622) 
LOCATION:20 Kirnbachschule Pfrondorf, Schwimmhalle, Hägnach 18, 72074 Tübingen
END:VEVENT
BEGIN:VEVENT
DTSTAMP:20260421T150406
DTSTART;TZID=Europe/Berlin:20260616T164500
DTEND;TZID=Europe/Berlin:20260616T174500
UID:261-32622-20260616T164500@VHSTÜBINGEN
SUMMARY:Aquajogging - Aquafit Im Flachwasser, für Anfänger/-innen und Fortgeschrittene (261-32622) 
LOCATION:20 Kirnbachschule Pfrondorf, Schwimmhalle, Hägnach 18, 72074 Tübingen
END:VEVENT
BEGIN:VEVENT
DTSTAMP:20260421T150406
DTSTART;TZID=Europe/Berlin:20260630T164500
DTEND;TZID=Europe/Berlin:20260630T174500
UID:261-32622-20260630T164500@VHSTÜBINGEN
SUMMARY:Aquajogging - Aquafit Im Flachwasser, für Anfänger/-innen und Fortgeschrittene (261-32622) 
LOCATION:20 Kirnbachschule Pfrondorf, Schwimmhalle, Hägnach 18, 72074 Tübingen
END:VEVENT
BEGIN:VEVENT
DTSTAMP:20260421T150406
DTSTART;TZID=Europe/Berlin:20260707T164500
DTEND;TZID=Europe/Berlin:20260707T174500
UID:261-32622-20260707T164500@VHSTÜBINGEN
SUMMARY:Aquajogging - Aquafit Im Flachwasser, für Anfänger/-innen und Fortgeschrittene (261-32622) 
LOCATION:20 Kirnbachschule Pfrondorf, Schwimmhalle, Hägnach 18, 72074 Tübingen
END:VEVENT
END:VCALENDAR