BEGIN:VCALENDAR
VERSION:2.0
PRODID:https://www.kufer.de/kuferweb / DE
METHOD:PUBLISH
CALSCALE:GREGORIAN
X-WR-TIMEZONE:Europe/Berlin
BEGIN:VTIMEZONE
TZID:Europe/Berlin
X-LIC-LOCATION:Europe/Berlin
BEGIN:DAYLIGHT
TZOFFSETFROM:+0100
TZOFFSETTO:+0200
TZNAME:CEST
DTSTART:19700329T020000
RRULE:FREQ=YEARLY;INTERVAL=1;BYDAY=-1SU;BYMONTH=3
END:DAYLIGHT
BEGIN:STANDARD
TZOFFSETFROM:+0200
TZOFFSETTO:+0100
TZNAME:CET
DTSTART:19701025T030000
RRULE:FREQ=YEARLY;INTERVAL=1;BYDAY=-1SU;BYMONTH=10
END:STANDARD
END:VTIMEZONE
BEGIN:VEVENT
DTSTAMP:20260421T180635
DTSTART;TZID=Europe/Berlin:20260226T172000
DTEND;TZID=Europe/Berlin:20260226T181000
UID:261-32631-20260226T172000@VHSTÜBINGEN
SUMMARY:Aquajogging - Aquafitness im Flachwasser, für Anfänger/-innen und Fortgeschrittene (261-32631) 
LOCATION:20 Kirnbachschule Pfrondorf, Schwimmhalle, Hägnach 18, 72074 Tübingen
END:VEVENT
BEGIN:VEVENT
DTSTAMP:20260421T180635
DTSTART;TZID=Europe/Berlin:20260305T172000
DTEND;TZID=Europe/Berlin:20260305T181000
UID:261-32631-20260305T172000@VHSTÜBINGEN
SUMMARY:Aquajogging - Aquafitness im Flachwasser, für Anfänger/-innen und Fortgeschrittene (261-32631) 
LOCATION:20 Kirnbachschule Pfrondorf, Schwimmhalle, Hägnach 18, 72074 Tübingen
END:VEVENT
BEGIN:VEVENT
DTSTAMP:20260421T180635
DTSTART;TZID=Europe/Berlin:20260312T172000
DTEND;TZID=Europe/Berlin:20260312T181000
UID:261-32631-20260312T172000@VHSTÜBINGEN
SUMMARY:Aquajogging - Aquafitness im Flachwasser, für Anfänger/-innen und Fortgeschrittene (261-32631) 
LOCATION:20 Kirnbachschule Pfrondorf, Schwimmhalle, Hägnach 18, 72074 Tübingen
END:VEVENT
BEGIN:VEVENT
DTSTAMP:20260421T180635
DTSTART;TZID=Europe/Berlin:20260319T172000
DTEND;TZID=Europe/Berlin:20260319T181000
UID:261-32631-20260319T172000@VHSTÜBINGEN
SUMMARY:Aquajogging - Aquafitness im Flachwasser, für Anfänger/-innen und Fortgeschrittene (261-32631) 
LOCATION:20 Kirnbachschule Pfrondorf, Schwimmhalle, Hägnach 18, 72074 Tübingen
END:VEVENT
BEGIN:VEVENT
DTSTAMP:20260421T180635
DTSTART;TZID=Europe/Berlin:20260326T172000
DTEND;TZID=Europe/Berlin:20260326T181000
UID:261-32631-20260326T172000@VHSTÜBINGEN
SUMMARY:Aquajogging - Aquafitness im Flachwasser, für Anfänger/-innen und Fortgeschrittene (261-32631) 
LOCATION:20 Kirnbachschule Pfrondorf, Schwimmhalle, Hägnach 18, 72074 Tübingen
END:VEVENT
BEGIN:VEVENT
DTSTAMP:20260421T180635
DTSTART;TZID=Europe/Berlin:20260416T172000
DTEND;TZID=Europe/Berlin:20260416T181000
UID:261-32631-20260416T172000@VHSTÜBINGEN
SUMMARY:Aquajogging - Aquafitness im Flachwasser, für Anfänger/-innen und Fortgeschrittene (261-32631) 
LOCATION:20 Kirnbachschule Pfrondorf, Schwimmhalle, Hägnach 18, 72074 Tübingen
END:VEVENT
BEGIN:VEVENT
DTSTAMP:20260421T180635
DTSTART;TZID=Europe/Berlin:20260423T172000
DTEND;TZID=Europe/Berlin:20260423T181000
UID:261-32631-20260423T172000@VHSTÜBINGEN
SUMMARY:Aquajogging - Aquafitness im Flachwasser, für Anfänger/-innen und Fortgeschrittene (261-32631) 
LOCATION:20 Kirnbachschule Pfrondorf, Schwimmhalle, Hägnach 18, 72074 Tübingen
END:VEVENT
BEGIN:VEVENT
DTSTAMP:20260421T180635
DTSTART;TZID=Europe/Berlin:20260430T172000
DTEND;TZID=Europe/Berlin:20260430T181000
UID:261-32631-20260430T172000@VHSTÜBINGEN
SUMMARY:Aquajogging - Aquafitness im Flachwasser, für Anfänger/-innen und Fortgeschrittene (261-32631) 
LOCATION:20 Kirnbachschule Pfrondorf, Schwimmhalle, Hägnach 18, 72074 Tübingen
END:VEVENT
BEGIN:VEVENT
DTSTAMP:20260421T180635
DTSTART;TZID=Europe/Berlin:20260507T172000
DTEND;TZID=Europe/Berlin:20260507T181000
UID:261-32631-20260507T172000@VHSTÜBINGEN
SUMMARY:Aquajogging - Aquafitness im Flachwasser, für Anfänger/-innen und Fortgeschrittene (261-32631) 
LOCATION:20 Kirnbachschule Pfrondorf, Schwimmhalle, Hägnach 18, 72074 Tübingen
END:VEVENT
BEGIN:VEVENT
DTSTAMP:20260421T180635
DTSTART;TZID=Europe/Berlin:20260521T172000
DTEND;TZID=Europe/Berlin:20260521T181000
UID:261-32631-20260521T172000@VHSTÜBINGEN
SUMMARY:Aquajogging - Aquafitness im Flachwasser, für Anfänger/-innen und Fortgeschrittene (261-32631) 
LOCATION:20 Kirnbachschule Pfrondorf, Schwimmhalle, Hägnach 18, 72074 Tübingen
END:VEVENT
END:VCALENDAR