BEGIN:VCALENDAR
VERSION:2.0
PRODID:https://www.kufer.de/kuferweb / DE
METHOD:PUBLISH
CALSCALE:GREGORIAN
X-WR-TIMEZONE:Europe/Berlin
BEGIN:VTIMEZONE
TZID:Europe/Berlin
X-LIC-LOCATION:Europe/Berlin
BEGIN:DAYLIGHT
TZOFFSETFROM:+0100
TZOFFSETTO:+0200
TZNAME:CEST
DTSTART:19700329T020000
RRULE:FREQ=YEARLY;INTERVAL=1;BYDAY=-1SU;BYMONTH=3
END:DAYLIGHT
BEGIN:STANDARD
TZOFFSETFROM:+0200
TZOFFSETTO:+0100
TZNAME:CET
DTSTART:19701025T030000
RRULE:FREQ=YEARLY;INTERVAL=1;BYDAY=-1SU;BYMONTH=10
END:STANDARD
END:VTIMEZONE
BEGIN:VEVENT
DTSTAMP:20260421T145358
DTSTART;TZID=Europe/Berlin:20260226T130000
DTEND;TZID=Europe/Berlin:20260226T140000
UID:261-32672-20260226T130000@VHSTÜBINGEN
SUMMARY:Aquafitness und Schwimmen für Frauen (261-32672) 
LOCATION:15 Uhlandbad Tübingen, Karlstraße 2/1, 72070 Tübingen
END:VEVENT
BEGIN:VEVENT
DTSTAMP:20260421T145358
DTSTART;TZID=Europe/Berlin:20260305T130000
DTEND;TZID=Europe/Berlin:20260305T140000
UID:261-32672-20260305T130000@VHSTÜBINGEN
SUMMARY:Aquafitness und Schwimmen für Frauen (261-32672) 
LOCATION:15 Uhlandbad Tübingen, Karlstraße 2/1, 72070 Tübingen
END:VEVENT
BEGIN:VEVENT
DTSTAMP:20260421T145358
DTSTART;TZID=Europe/Berlin:20260312T130000
DTEND;TZID=Europe/Berlin:20260312T140000
UID:261-32672-20260312T130000@VHSTÜBINGEN
SUMMARY:Aquafitness und Schwimmen für Frauen (261-32672) 
LOCATION:15 Uhlandbad Tübingen, Karlstraße 2/1, 72070 Tübingen
END:VEVENT
BEGIN:VEVENT
DTSTAMP:20260421T145358
DTSTART;TZID=Europe/Berlin:20260319T130000
DTEND;TZID=Europe/Berlin:20260319T140000
UID:261-32672-20260319T130000@VHSTÜBINGEN
SUMMARY:Aquafitness und Schwimmen für Frauen (261-32672) 
LOCATION:15 Uhlandbad Tübingen, Karlstraße 2/1, 72070 Tübingen
END:VEVENT
BEGIN:VEVENT
DTSTAMP:20260421T145358
DTSTART;TZID=Europe/Berlin:20260326T130000
DTEND;TZID=Europe/Berlin:20260326T140000
UID:261-32672-20260326T130000@VHSTÜBINGEN
SUMMARY:Aquafitness und Schwimmen für Frauen (261-32672) 
LOCATION:15 Uhlandbad Tübingen, Karlstraße 2/1, 72070 Tübingen
END:VEVENT
BEGIN:VEVENT
DTSTAMP:20260421T145358
DTSTART;TZID=Europe/Berlin:20260416T130000
DTEND;TZID=Europe/Berlin:20260416T140000
UID:261-32672-20260416T130000@VHSTÜBINGEN
SUMMARY:Aquafitness und Schwimmen für Frauen (261-32672) 
LOCATION:15 Uhlandbad Tübingen, Karlstraße 2/1, 72070 Tübingen
END:VEVENT
BEGIN:VEVENT
DTSTAMP:20260421T145358
DTSTART;TZID=Europe/Berlin:20260423T130000
DTEND;TZID=Europe/Berlin:20260423T140000
UID:261-32672-20260423T130000@VHSTÜBINGEN
SUMMARY:Aquafitness und Schwimmen für Frauen (261-32672) 
LOCATION:15 Uhlandbad Tübingen, Karlstraße 2/1, 72070 Tübingen
END:VEVENT
BEGIN:VEVENT
DTSTAMP:20260421T145358
DTSTART;TZID=Europe/Berlin:20260430T130000
DTEND;TZID=Europe/Berlin:20260430T140000
UID:261-32672-20260430T130000@VHSTÜBINGEN
SUMMARY:Aquafitness und Schwimmen für Frauen (261-32672) 
LOCATION:15 Uhlandbad Tübingen, Karlstraße 2/1, 72070 Tübingen
END:VEVENT
END:VCALENDAR