BEGIN:VCALENDAR
VERSION:2.0
PRODID:https://www.kufer.de/kuferweb / DE
METHOD:PUBLISH
CALSCALE:GREGORIAN
X-WR-TIMEZONE:Europe/Berlin
BEGIN:VTIMEZONE
TZID:Europe/Berlin
X-LIC-LOCATION:Europe/Berlin
BEGIN:DAYLIGHT
TZOFFSETFROM:+0100
TZOFFSETTO:+0200
TZNAME:CEST
DTSTART:19700329T020000
RRULE:FREQ=YEARLY;INTERVAL=1;BYDAY=-1SU;BYMONTH=3
END:DAYLIGHT
BEGIN:STANDARD
TZOFFSETFROM:+0200
TZOFFSETTO:+0100
TZNAME:CET
DTSTART:19701025T030000
RRULE:FREQ=YEARLY;INTERVAL=1;BYDAY=-1SU;BYMONTH=10
END:STANDARD
END:VTIMEZONE
BEGIN:VEVENT
DTSTAMP:20260421T192847
DTSTART;TZID=Europe/Berlin:20260226T090000
DTEND;TZID=Europe/Berlin:20260226T100000
UID:261-34005-20260226T090000@VHSTÜBINGEN
SUMMARY:Nordic Walking: Gemeinsam in Bewegung Durch den Schönbuch, für Anfänger/-innen und Fortgeschrittene (261-34005) 
LOCATION:15 Parkplatz Heuberger Tor, Heuberger-Tor-Weg , 72076 Tübingen
END:VEVENT
BEGIN:VEVENT
DTSTAMP:20260421T192847
DTSTART;TZID=Europe/Berlin:20260305T090000
DTEND;TZID=Europe/Berlin:20260305T100000
UID:261-34005-20260305T090000@VHSTÜBINGEN
SUMMARY:Nordic Walking: Gemeinsam in Bewegung Durch den Schönbuch, für Anfänger/-innen und Fortgeschrittene (261-34005) 
LOCATION:15 Parkplatz Heuberger Tor, Heuberger-Tor-Weg , 72076 Tübingen
END:VEVENT
BEGIN:VEVENT
DTSTAMP:20260421T192847
DTSTART;TZID=Europe/Berlin:20260312T090000
DTEND;TZID=Europe/Berlin:20260312T100000
UID:261-34005-20260312T090000@VHSTÜBINGEN
SUMMARY:Nordic Walking: Gemeinsam in Bewegung Durch den Schönbuch, für Anfänger/-innen und Fortgeschrittene (261-34005) 
LOCATION:15 Parkplatz Heuberger Tor, Heuberger-Tor-Weg , 72076 Tübingen
END:VEVENT
BEGIN:VEVENT
DTSTAMP:20260421T192847
DTSTART;TZID=Europe/Berlin:20260319T090000
DTEND;TZID=Europe/Berlin:20260319T100000
UID:261-34005-20260319T090000@VHSTÜBINGEN
SUMMARY:Nordic Walking: Gemeinsam in Bewegung Durch den Schönbuch, für Anfänger/-innen und Fortgeschrittene (261-34005) 
LOCATION:15 Parkplatz Heuberger Tor, Heuberger-Tor-Weg , 72076 Tübingen
END:VEVENT
BEGIN:VEVENT
DTSTAMP:20260421T192847
DTSTART;TZID=Europe/Berlin:20260326T090000
DTEND;TZID=Europe/Berlin:20260326T100000
UID:261-34005-20260326T090000@VHSTÜBINGEN
SUMMARY:Nordic Walking: Gemeinsam in Bewegung Durch den Schönbuch, für Anfänger/-innen und Fortgeschrittene (261-34005) 
LOCATION:15 Parkplatz Heuberger Tor, Heuberger-Tor-Weg , 72076 Tübingen
END:VEVENT
BEGIN:VEVENT
DTSTAMP:20260421T192847
DTSTART;TZID=Europe/Berlin:20260416T090000
DTEND;TZID=Europe/Berlin:20260416T100000
UID:261-34005-20260416T090000@VHSTÜBINGEN
SUMMARY:Nordic Walking: Gemeinsam in Bewegung Durch den Schönbuch, für Anfänger/-innen und Fortgeschrittene (261-34005) 
LOCATION:15 Parkplatz Heuberger Tor, Heuberger-Tor-Weg , 72076 Tübingen
END:VEVENT
BEGIN:VEVENT
DTSTAMP:20260421T192847
DTSTART;TZID=Europe/Berlin:20260423T090000
DTEND;TZID=Europe/Berlin:20260423T100000
UID:261-34005-20260423T090000@VHSTÜBINGEN
SUMMARY:Nordic Walking: Gemeinsam in Bewegung Durch den Schönbuch, für Anfänger/-innen und Fortgeschrittene (261-34005) 
LOCATION:15 Parkplatz Heuberger Tor, Heuberger-Tor-Weg , 72076 Tübingen
END:VEVENT
BEGIN:VEVENT
DTSTAMP:20260421T192847
DTSTART;TZID=Europe/Berlin:20260430T090000
DTEND;TZID=Europe/Berlin:20260430T100000
UID:261-34005-20260430T090000@VHSTÜBINGEN
SUMMARY:Nordic Walking: Gemeinsam in Bewegung Durch den Schönbuch, für Anfänger/-innen und Fortgeschrittene (261-34005) 
LOCATION:15 Parkplatz Heuberger Tor, Heuberger-Tor-Weg , 72076 Tübingen
END:VEVENT
BEGIN:VEVENT
DTSTAMP:20260421T192847
DTSTART;TZID=Europe/Berlin:20260507T090000
DTEND;TZID=Europe/Berlin:20260507T100000
UID:261-34005-20260507T090000@VHSTÜBINGEN
SUMMARY:Nordic Walking: Gemeinsam in Bewegung Durch den Schönbuch, für Anfänger/-innen und Fortgeschrittene (261-34005) 
LOCATION:15 Parkplatz Heuberger Tor, Heuberger-Tor-Weg , 72076 Tübingen
END:VEVENT
BEGIN:VEVENT
DTSTAMP:20260421T192847
DTSTART;TZID=Europe/Berlin:20260521T090000
DTEND;TZID=Europe/Berlin:20260521T100000
UID:261-34005-20260521T090000@VHSTÜBINGEN
SUMMARY:Nordic Walking: Gemeinsam in Bewegung Durch den Schönbuch, für Anfänger/-innen und Fortgeschrittene (261-34005) 
LOCATION:15 Parkplatz Heuberger Tor, Heuberger-Tor-Weg , 72076 Tübingen
END:VEVENT
BEGIN:VEVENT
DTSTAMP:20260421T192847
DTSTART;TZID=Europe/Berlin:20260611T090000
DTEND;TZID=Europe/Berlin:20260611T100000
UID:261-34005-20260611T090000@VHSTÜBINGEN
SUMMARY:Nordic Walking: Gemeinsam in Bewegung Durch den Schönbuch, für Anfänger/-innen und Fortgeschrittene (261-34005) 
LOCATION:15 Parkplatz Heuberger Tor, Heuberger-Tor-Weg , 72076 Tübingen
END:VEVENT
BEGIN:VEVENT
DTSTAMP:20260421T192847
DTSTART;TZID=Europe/Berlin:20260618T090000
DTEND;TZID=Europe/Berlin:20260618T100000
UID:261-34005-20260618T090000@VHSTÜBINGEN
SUMMARY:Nordic Walking: Gemeinsam in Bewegung Durch den Schönbuch, für Anfänger/-innen und Fortgeschrittene (261-34005) 
LOCATION:15 Parkplatz Heuberger Tor, Heuberger-Tor-Weg , 72076 Tübingen
END:VEVENT
BEGIN:VEVENT
DTSTAMP:20260421T192847
DTSTART;TZID=Europe/Berlin:20260625T090000
DTEND;TZID=Europe/Berlin:20260625T100000
UID:261-34005-20260625T090000@VHSTÜBINGEN
SUMMARY:Nordic Walking: Gemeinsam in Bewegung Durch den Schönbuch, für Anfänger/-innen und Fortgeschrittene (261-34005) 
LOCATION:15 Parkplatz Heuberger Tor, Heuberger-Tor-Weg , 72076 Tübingen
END:VEVENT
BEGIN:VEVENT
DTSTAMP:20260421T192847
DTSTART;TZID=Europe/Berlin:20260702T090000
DTEND;TZID=Europe/Berlin:20260702T100000
UID:261-34005-20260702T090000@VHSTÜBINGEN
SUMMARY:Nordic Walking: Gemeinsam in Bewegung Durch den Schönbuch, für Anfänger/-innen und Fortgeschrittene (261-34005) 
LOCATION:15 Parkplatz Heuberger Tor, Heuberger-Tor-Weg , 72076 Tübingen
END:VEVENT
BEGIN:VEVENT
DTSTAMP:20260421T192847
DTSTART;TZID=Europe/Berlin:20260709T090000
DTEND;TZID=Europe/Berlin:20260709T100000
UID:261-34005-20260709T090000@VHSTÜBINGEN
SUMMARY:Nordic Walking: Gemeinsam in Bewegung Durch den Schönbuch, für Anfänger/-innen und Fortgeschrittene (261-34005) 
LOCATION:15 Parkplatz Heuberger Tor, Heuberger-Tor-Weg , 72076 Tübingen
END:VEVENT
BEGIN:VEVENT
DTSTAMP:20260421T192847
DTSTART;TZID=Europe/Berlin:20260716T090000
DTEND;TZID=Europe/Berlin:20260716T100000
UID:261-34005-20260716T090000@VHSTÜBINGEN
SUMMARY:Nordic Walking: Gemeinsam in Bewegung Durch den Schönbuch, für Anfänger/-innen und Fortgeschrittene (261-34005) 
LOCATION:15 Parkplatz Heuberger Tor, Heuberger-Tor-Weg , 72076 Tübingen
END:VEVENT
BEGIN:VEVENT
DTSTAMP:20260421T192847
DTSTART;TZID=Europe/Berlin:20260723T090000
DTEND;TZID=Europe/Berlin:20260723T100000
UID:261-34005-20260723T090000@VHSTÜBINGEN
SUMMARY:Nordic Walking: Gemeinsam in Bewegung Durch den Schönbuch, für Anfänger/-innen und Fortgeschrittene (261-34005) 
LOCATION:15 Parkplatz Heuberger Tor, Heuberger-Tor-Weg , 72076 Tübingen
END:VEVENT
END:VCALENDAR