BEGIN:VCALENDAR
VERSION:2.0
PRODID:https://www.kufer.de/kuferweb / DE
METHOD:PUBLISH
CALSCALE:GREGORIAN
X-WR-TIMEZONE:Europe/Berlin
BEGIN:VTIMEZONE
TZID:Europe/Berlin
X-LIC-LOCATION:Europe/Berlin
BEGIN:DAYLIGHT
TZOFFSETFROM:+0100
TZOFFSETTO:+0200
TZNAME:CEST
DTSTART:19700329T020000
RRULE:FREQ=YEARLY;INTERVAL=1;BYDAY=-1SU;BYMONTH=3
END:DAYLIGHT
BEGIN:STANDARD
TZOFFSETFROM:+0200
TZOFFSETTO:+0100
TZNAME:CET
DTSTART:19701025T030000
RRULE:FREQ=YEARLY;INTERVAL=1;BYDAY=-1SU;BYMONTH=10
END:STANDARD
END:VTIMEZONE
BEGIN:VEVENT
DTSTAMP:20260420T170420
DTSTART;TZID=Europe/Berlin:20260303T201500
DTEND;TZID=Europe/Berlin:20260303T214500
UID:261-40304-20260303T201500@VHSTÜBINGEN
SUMMARY:Arabisch A1.3 für Teilnehmende mit Vorkenntnissen (261-40304) 
LOCATION:vhs, Schulungsraum 111, Katharinenstraße 18, 72072 Tübingen
END:VEVENT
BEGIN:VEVENT
DTSTAMP:20260420T170420
DTSTART;TZID=Europe/Berlin:20260310T201500
DTEND;TZID=Europe/Berlin:20260310T214500
UID:261-40304-20260310T201500@VHSTÜBINGEN
SUMMARY:Arabisch A1.3 für Teilnehmende mit Vorkenntnissen (261-40304) 
LOCATION:vhs, Schulungsraum 111, Katharinenstraße 18, 72072 Tübingen
END:VEVENT
BEGIN:VEVENT
DTSTAMP:20260420T170420
DTSTART;TZID=Europe/Berlin:20260317T201500
DTEND;TZID=Europe/Berlin:20260317T214500
UID:261-40304-20260317T201500@VHSTÜBINGEN
SUMMARY:Arabisch A1.3 für Teilnehmende mit Vorkenntnissen (261-40304) 
LOCATION:vhs, Schulungsraum 111, Katharinenstraße 18, 72072 Tübingen
END:VEVENT
BEGIN:VEVENT
DTSTAMP:20260420T170420
DTSTART;TZID=Europe/Berlin:20260324T201500
DTEND;TZID=Europe/Berlin:20260324T214500
UID:261-40304-20260324T201500@VHSTÜBINGEN
SUMMARY:Arabisch A1.3 für Teilnehmende mit Vorkenntnissen (261-40304) 
LOCATION:vhs, Schulungsraum 111, Katharinenstraße 18, 72072 Tübingen
END:VEVENT
BEGIN:VEVENT
DTSTAMP:20260420T170420
DTSTART;TZID=Europe/Berlin:20260414T201500
DTEND;TZID=Europe/Berlin:20260414T214500
UID:261-40304-20260414T201500@VHSTÜBINGEN
SUMMARY:Arabisch A1.3 für Teilnehmende mit Vorkenntnissen (261-40304) 
LOCATION:vhs, Schulungsraum 111, Katharinenstraße 18, 72072 Tübingen
END:VEVENT
BEGIN:VEVENT
DTSTAMP:20260420T170420
DTSTART;TZID=Europe/Berlin:20260421T201500
DTEND;TZID=Europe/Berlin:20260421T214500
UID:261-40304-20260421T201500@VHSTÜBINGEN
SUMMARY:Arabisch A1.3 für Teilnehmende mit Vorkenntnissen (261-40304) 
LOCATION:vhs, Schulungsraum 111, Katharinenstraße 18, 72072 Tübingen
END:VEVENT
BEGIN:VEVENT
DTSTAMP:20260420T170420
DTSTART;TZID=Europe/Berlin:20260428T201500
DTEND;TZID=Europe/Berlin:20260428T214500
UID:261-40304-20260428T201500@VHSTÜBINGEN
SUMMARY:Arabisch A1.3 für Teilnehmende mit Vorkenntnissen (261-40304) 
LOCATION:vhs, Schulungsraum 111, Katharinenstraße 18, 72072 Tübingen
END:VEVENT
BEGIN:VEVENT
DTSTAMP:20260420T170420
DTSTART;TZID=Europe/Berlin:20260505T201500
DTEND;TZID=Europe/Berlin:20260505T214500
UID:261-40304-20260505T201500@VHSTÜBINGEN
SUMMARY:Arabisch A1.3 für Teilnehmende mit Vorkenntnissen (261-40304) 
LOCATION:vhs, Schulungsraum 111, Katharinenstraße 18, 72072 Tübingen
END:VEVENT
BEGIN:VEVENT
DTSTAMP:20260420T170420
DTSTART;TZID=Europe/Berlin:20260512T201500
DTEND;TZID=Europe/Berlin:20260512T214500
UID:261-40304-20260512T201500@VHSTÜBINGEN
SUMMARY:Arabisch A1.3 für Teilnehmende mit Vorkenntnissen (261-40304) 
LOCATION:vhs, Schulungsraum 111, Katharinenstraße 18, 72072 Tübingen
END:VEVENT
BEGIN:VEVENT
DTSTAMP:20260420T170420
DTSTART;TZID=Europe/Berlin:20260519T201500
DTEND;TZID=Europe/Berlin:20260519T214500
UID:261-40304-20260519T201500@VHSTÜBINGEN
SUMMARY:Arabisch A1.3 für Teilnehmende mit Vorkenntnissen (261-40304) 
LOCATION:vhs, Schulungsraum 111, Katharinenstraße 18, 72072 Tübingen
END:VEVENT
BEGIN:VEVENT
DTSTAMP:20260420T170420
DTSTART;TZID=Europe/Berlin:20260609T201500
DTEND;TZID=Europe/Berlin:20260609T214500
UID:261-40304-20260609T201500@VHSTÜBINGEN
SUMMARY:Arabisch A1.3 für Teilnehmende mit Vorkenntnissen (261-40304) 
LOCATION:vhs, Schulungsraum 111, Katharinenstraße 18, 72072 Tübingen
END:VEVENT
BEGIN:VEVENT
DTSTAMP:20260420T170420
DTSTART;TZID=Europe/Berlin:20260616T201500
DTEND;TZID=Europe/Berlin:20260616T214500
UID:261-40304-20260616T201500@VHSTÜBINGEN
SUMMARY:Arabisch A1.3 für Teilnehmende mit Vorkenntnissen (261-40304) 
LOCATION:vhs, Schulungsraum 111, Katharinenstraße 18, 72072 Tübingen
END:VEVENT
END:VCALENDAR